BEGIN:VCALENDAR
VERSION:2.0
PRODID:-//First Baptist Church of Weddington - ECPv6.15.20//NONSGML v1.0//EN
CALSCALE:GREGORIAN
METHOD:PUBLISH
X-WR-CALNAME:First Baptist Church of Weddington
X-ORIGINAL-URL:https://fbcw.com
X-WR-CALDESC:Events for First Baptist Church of Weddington
REFRESH-INTERVAL;VALUE=DURATION:PT1H
X-Robots-Tag:noindex
X-PUBLISHED-TTL:PT1H
BEGIN:VTIMEZONE
TZID:America/New_York
BEGIN:DAYLIGHT
TZOFFSETFROM:-0500
TZOFFSETTO:-0400
TZNAME:EDT
DTSTART:20250309T070000
END:DAYLIGHT
BEGIN:STANDARD
TZOFFSETFROM:-0400
TZOFFSETTO:-0500
TZNAME:EST
DTSTART:20251102T060000
END:STANDARD
BEGIN:DAYLIGHT
TZOFFSETFROM:-0500
TZOFFSETTO:-0400
TZNAME:EDT
DTSTART:20260308T070000
END:DAYLIGHT
BEGIN:STANDARD
TZOFFSETFROM:-0400
TZOFFSETTO:-0500
TZNAME:EST
DTSTART:20261101T060000
END:STANDARD
BEGIN:DAYLIGHT
TZOFFSETFROM:-0500
TZOFFSETTO:-0400
TZNAME:EDT
DTSTART:20270314T070000
END:DAYLIGHT
BEGIN:STANDARD
TZOFFSETFROM:-0400
TZOFFSETTO:-0500
TZNAME:EST
DTSTART:20271107T060000
END:STANDARD
END:VTIMEZONE
BEGIN:VEVENT
DTSTART;TZID=America/New_York:20260426T091500
DTEND;TZID=America/New_York:20260426T101500
DTSTAMP:20260424T121928
CREATED:20260402T161105Z
LAST-MODIFIED:20260402T161119Z
UID:9269-1777194900-1777198500@fbcw.com
SUMMARY:Adult/Youth Community Groups
DESCRIPTION:
URL:https://fbcw.com/event/adultyouth-community-groups-2-copy-copy-copy-copy/
LOCATION:First Baptist Church of Weddington\, 348 Providence Road South\, Weddington\, NC\, 28173\, United States
CATEGORIES:Bible Study
END:VEVENT
BEGIN:VEVENT
DTSTART;TZID=America/New_York:20260426T103000
DTEND;TZID=America/New_York:20260426T113000
DTSTAMP:20260424T121928
CREATED:20260402T161303Z
LAST-MODIFIED:20260402T161429Z
UID:9275-1777199400-1777203000@fbcw.com
SUMMARY:Worship Service
DESCRIPTION:Join us for our regular worship gathering every Sunday at 10:30am (nursery is available)!  If you are unable to be with us here in-person at FBCW\, you can view our recorded sermons on our church app\, website (fbcw.com)\, Facebook\, and YouTube.  
URL:https://fbcw.com/event/worship-service-6-copy-copy-copy/
LOCATION:First Baptist Church of Weddington\, 348 Providence Road South\, Weddington\, NC\, 28173\, United States
END:VEVENT
BEGIN:VEVENT
DTSTART;TZID=America/New_York:20260429T183000
DTEND;TZID=America/New_York:20260429T200000
DTSTAMP:20260424T121928
CREATED:20260402T161613Z
LAST-MODIFIED:20260402T161627Z
UID:9283-1777487400-1777492800@fbcw.com
SUMMARY:Wednesday Evening Community Groups
DESCRIPTION:Women’s Community Group – 1st & 3rd Wednesdays (6:30pm)\nMen’s Community Group – 2nd & 4th Wednesdays (7pm)\nWe have started two community groups – one for men and one for women. The groups will be going through IMB’s study\, “Deepen Discipleship” and praying together. With this study\, you’ll spend time reading and meditating on Scripture and using key questions for self-reflection each day. Come be a part of one of these groups!
URL:https://fbcw.com/event/wednesday-evening-community-groups-copy-copy-copy-copy-copy-copy-copy-copy-copy-copy-copy-copy-2-copy-copy-copy-copy-copy-copy-copy-copy-copy-copy-copy-copy-copy-copy-copy-copy-copy-copy-copy-copy-16/
CATEGORIES:Bible Study,Prayer
END:VEVENT
BEGIN:VEVENT
DTSTART;TZID=America/New_York:20260501T170000
DTEND;TZID=America/New_York:20260501T190000
DTSTAMP:20260424T121928
CREATED:20260408T154248Z
LAST-MODIFIED:20260408T154248Z
UID:9303-1777654800-1777662000@fbcw.com
SUMMARY:Made with Mom Charm Bar
DESCRIPTION:Moms and girls\, this one is for you! Join us on Friday\, May 1st\, at 5 p.m. at the church for a jewelry-making party. We’ll have a “charm bar” on site to guide us through bracelet making. Advance registration is required. Sign up here!
URL:https://fbcw.com/event/made-with-mom-charm-bar/
CATEGORIES:Fellowship Activities
END:VEVENT
BEGIN:VEVENT
DTSTART;TZID=America/New_York:20260503T120000
DTEND;TZID=America/New_York:20260503T140000
DTSTAMP:20260424T121928
CREATED:20260408T154114Z
LAST-MODIFIED:20260408T154131Z
UID:9301-1777809600-1777816800@fbcw.com
SUMMARY:Church Picnic
DESCRIPTION:Everyone is invited to join us after our worship gathering on Sunday\, May 3\, for a church-wide picnic followed by games for the kids! Everyone is asked to bring a side dish or dessert to share. BBQ will be provided. Please sign up here.
URL:https://fbcw.com/event/church-picnic/
LOCATION:First Baptist Church of Weddington\, 348 Providence Road South\, Weddington\, NC\, 28173\, United States
CATEGORIES:Fellowship Activities,Food
END:VEVENT
BEGIN:VEVENT
DTSTART;VALUE=DATE:20260515
DTEND;VALUE=DATE:20260516
DTSTAMP:20260424T121928
CREATED:20260326T134812Z
LAST-MODIFIED:20260326T134812Z
UID:9254-1778803200-1778889599@fbcw.com
SUMMARY:Dads & Dudes Campout
DESCRIPTION:Save the Date!! Grab your tent and your sleeping bag and get ready for our first ever Dads & Dudes overnight campout on Friday\, May 15th at the church. All boys and their dads are invited. We’ll have a bonfire\, smores\, games\, a devotion and so much more! Stay tuned for more details. Sign up is required (Click HERE to register). Contact Hannah Chronis for more information.
URL:https://fbcw.com/event/dads-dudes-campout/
CATEGORIES:Children
END:VEVENT
BEGIN:VEVENT
DTSTART;TZID=America/New_York:20260518T110000
DTEND;TZID=America/New_York:20260518T120000
DTSTAMP:20260424T121928
CREATED:20260402T163302Z
LAST-MODIFIED:20260402T164408Z
UID:9295-1779102000-1779105600@fbcw.com
SUMMARY:Preschool Graduation
DESCRIPTION:
URL:https://fbcw.com/event/preschool-graduation-copy-copy-copy-copy-copy/
LOCATION:First Baptist Church of Weddington\, 348 Providence Road South\, Weddington\, NC\, 28173\, United States
CATEGORIES:Children
END:VEVENT
END:VCALENDAR