BEGIN:VCALENDAR
VERSION:2.0
PRODID:-//First Baptist Church of Weddington - ECPv6.15.20//NONSGML v1.0//EN
CALSCALE:GREGORIAN
METHOD:PUBLISH
X-WR-CALNAME:First Baptist Church of Weddington
X-ORIGINAL-URL:https://fbcw.com
X-WR-CALDESC:Events for First Baptist Church of Weddington
REFRESH-INTERVAL;VALUE=DURATION:PT1H
X-Robots-Tag:noindex
X-PUBLISHED-TTL:PT1H
BEGIN:VTIMEZONE
TZID:America/New_York
BEGIN:DAYLIGHT
TZOFFSETFROM:-0500
TZOFFSETTO:-0400
TZNAME:EDT
DTSTART:20250309T070000
END:DAYLIGHT
BEGIN:STANDARD
TZOFFSETFROM:-0400
TZOFFSETTO:-0500
TZNAME:EST
DTSTART:20251102T060000
END:STANDARD
BEGIN:DAYLIGHT
TZOFFSETFROM:-0500
TZOFFSETTO:-0400
TZNAME:EDT
DTSTART:20260308T070000
END:DAYLIGHT
BEGIN:STANDARD
TZOFFSETFROM:-0400
TZOFFSETTO:-0500
TZNAME:EST
DTSTART:20261101T060000
END:STANDARD
BEGIN:DAYLIGHT
TZOFFSETFROM:-0500
TZOFFSETTO:-0400
TZNAME:EDT
DTSTART:20270314T070000
END:DAYLIGHT
BEGIN:STANDARD
TZOFFSETFROM:-0400
TZOFFSETTO:-0500
TZNAME:EST
DTSTART:20271107T060000
END:STANDARD
END:VTIMEZONE
BEGIN:VEVENT
DTSTART;TZID=America/New_York:20260329T103000
DTEND;TZID=America/New_York:20260329T113000
DTSTAMP:20260425T100750
CREATED:20260210T174458Z
LAST-MODIFIED:20260210T174509Z
UID:9156-1774780200-1774783800@fbcw.com
SUMMARY:Worship Service
DESCRIPTION:Join us for our regular worship gathering every Sunday at 10:30am (nursery is available)!  If you are unable to be with us here in-person at FBCW\, you can view our recorded sermons on our church app\, website (fbcw.com)\, Facebook\, and YouTube.  
URL:https://fbcw.com/event/worship-service-7-copy-copy/
LOCATION:First Baptist Church of Weddington\, 348 Providence Road South\, Weddington\, NC\, 28173\, United States
END:VEVENT
BEGIN:VEVENT
DTSTART;TZID=America/New_York:20260329T091500
DTEND;TZID=America/New_York:20260329T101500
DTSTAMP:20260425T100750
CREATED:20260310T180232Z
LAST-MODIFIED:20260310T180244Z
UID:9246-1774775700-1774779300@fbcw.com
SUMMARY:Kids Sunday Bible Breakfast
DESCRIPTION:Kids in 5th grade and below – Join us on the last Sunday of each month at 9:15am in Room 218 for our monthly Bible study just for kids! Bring your Bible\, a big appetite\, and get ready to dig deeper into God’s Word. Contact Hannah Chronis with any questions.
URL:https://fbcw.com/event/kids-sunday-bible-breakfast/
LOCATION:First Baptist Church of Weddington\, 348 Providence Road South\, Weddington\, NC\, 28173\, United States
CATEGORIES:Bible Study,Children,Food
END:VEVENT
BEGIN:VEVENT
DTSTART;TZID=America/New_York:20260329T091500
DTEND;TZID=America/New_York:20260329T101500
DTSTAMP:20260425T100750
CREATED:20260210T174228Z
LAST-MODIFIED:20260210T174237Z
UID:9146-1774775700-1774779300@fbcw.com
SUMMARY:Adult/Youth Community Groups
DESCRIPTION:
URL:https://fbcw.com/event/adultyouth-community-groups-2/
LOCATION:First Baptist Church of Weddington\, 348 Providence Road South\, Weddington\, NC\, 28173\, United States
CATEGORIES:Bible Study
END:VEVENT
BEGIN:VEVENT
DTSTART;VALUE=DATE:20260329
DTEND;VALUE=DATE:20260330
DTSTAMP:20260425T100750
CREATED:20260210T195908Z
LAST-MODIFIED:20260210T195908Z
UID:9182-1774742400-1774828799@fbcw.com
SUMMARY:Palm Sunday
DESCRIPTION:Palm Sunday
URL:https://fbcw.com/event/palm-sunday/
END:VEVENT
BEGIN:VEVENT
DTSTART;TZID=America/New_York:20260325T190000
DTEND;TZID=America/New_York:20260325T203000
DTSTAMP:20260425T100750
CREATED:20260210T195714Z
LAST-MODIFIED:20260210T195727Z
UID:9180-1774465200-1774470600@fbcw.com
SUMMARY:Youth
DESCRIPTION:
URL:https://fbcw.com/event/youth-2-copy-copy-copy-copy-copy-copy-copy-copy-copy-copy-copy-copy-copy-copy-copy-copy-copy-copy-2-copy-copy-copy-copy-copy-copy-copy-copy-copy-2-copy-copy-copy-copy-copy-copy-copy-copy-copy-copy-86/
LOCATION:First Baptist Church of Weddington\, 348 Providence Road South\, Weddington\, NC\, 28173\, United States
CATEGORIES:Youth
END:VEVENT
BEGIN:VEVENT
DTSTART;TZID=America/New_York:20260325T183000
DTEND;TZID=America/New_York:20260325T200000
DTSTAMP:20260425T100750
CREATED:20260210T195535Z
LAST-MODIFIED:20260210T195547Z
UID:9172-1774463400-1774468800@fbcw.com
SUMMARY:Wednesday Evening Community Groups
DESCRIPTION:Women’s Community Group – 1st & 3rd Wednesdays (6:30pm)\nMen’s Community Group – 2nd & 4th Wednesdays (7pm)\nWe have started two community groups – one for men and one for women. The groups will be going through IMB’s study\, “Deepen Discipleship” and praying together. With this study\, you’ll spend time reading and meditating on Scripture and using key questions for self-reflection each day. Come be a part of one of these groups!
URL:https://fbcw.com/event/wednesday-evening-community-groups-copy-copy-copy-copy-copy-copy-copy-copy-copy-copy-copy-copy-2-copy-copy-copy-copy-copy-copy-copy-copy-copy-copy-copy-copy-copy-copy-copy-copy-copy-copy-copy-copy-12/
CATEGORIES:Bible Study,Prayer
END:VEVENT
BEGIN:VEVENT
DTSTART;TZID=America/New_York:20260322T103000
DTEND;TZID=America/New_York:20260322T113000
DTSTAMP:20260425T100750
CREATED:20260210T174436Z
LAST-MODIFIED:20260210T174449Z
UID:9154-1774175400-1774179000@fbcw.com
SUMMARY:Worship Service
DESCRIPTION:Join us for our regular worship gathering every Sunday at 10:30am (nursery is available)!  If you are unable to be with us here in-person at FBCW\, you can view our recorded sermons on our church app\, website (fbcw.com)\, Facebook\, and YouTube.  
URL:https://fbcw.com/event/worship-service-7-copy/
LOCATION:First Baptist Church of Weddington\, 348 Providence Road South\, Weddington\, NC\, 28173\, United States
END:VEVENT
BEGIN:VEVENT
DTSTART;TZID=America/New_York:20260322T091500
DTEND;TZID=America/New_York:20260322T101500
DTSTAMP:20260425T100750
CREATED:20260210T174152Z
LAST-MODIFIED:20260210T174204Z
UID:9144-1774170900-1774174500@fbcw.com
SUMMARY:Adult/Youth Community Groups
DESCRIPTION:
URL:https://fbcw.com/event/adultyouth-community-groups-copy-copy-copy/
LOCATION:First Baptist Church of Weddington\, 348 Providence Road South\, Weddington\, NC\, 28173\, United States
CATEGORIES:Bible Study
END:VEVENT
BEGIN:VEVENT
DTSTART;TZID=America/New_York:20260320T113000
DTEND;TZID=America/New_York:20260320T120000
DTSTAMP:20260425T100750
CREATED:20260210T174557Z
LAST-MODIFIED:20260210T174610Z
UID:9158-1774006200-1774008000@fbcw.com
SUMMARY:Operation Reach Out Lunches
DESCRIPTION:FBCW partners with Operation Reach Out by providing 40 bagged lunches\, on the third Friday of every month\, for those who attend their daily Bible study. We are in need of volunteers to help provide these lunches.  If you would like to donate an item for the lunches or prepare sandwiches\, please contact Allison Matthews.  You can also find a sign-up sheet on the bulletin board if you can help! \n 
URL:https://fbcw.com/event/operation-reach-out-lunches-copy-copy-copy-copy-copy-copy-copy-copy-copy-copy-copy-copy-copy-copy-copy-copy-2-copy-copy-copy-copy-copy-copy-copy-copy-copy-copy-copy-copy-copy-copy-copy-copy-copy-cop-7/
CATEGORIES:Outreach
END:VEVENT
BEGIN:VEVENT
DTSTART;TZID=America/New_York:20260318T190000
DTEND;TZID=America/New_York:20260318T203000
DTSTAMP:20260425T100750
CREATED:20260210T195652Z
LAST-MODIFIED:20260210T195707Z
UID:9178-1773860400-1773865800@fbcw.com
SUMMARY:Youth
DESCRIPTION:
URL:https://fbcw.com/event/youth-2-copy-copy-copy-copy-copy-copy-copy-copy-copy-copy-copy-copy-copy-copy-copy-copy-copy-copy-2-copy-copy-copy-copy-copy-copy-copy-copy-copy-2-copy-copy-copy-copy-copy-copy-copy-copy-copy-copy-85/
LOCATION:First Baptist Church of Weddington\, 348 Providence Road South\, Weddington\, NC\, 28173\, United States
CATEGORIES:Youth
END:VEVENT
BEGIN:VEVENT
DTSTART;TZID=America/New_York:20260318T183000
DTEND;TZID=America/New_York:20260318T200000
DTSTAMP:20260425T100750
CREATED:20260210T194135Z
LAST-MODIFIED:20260210T194147Z
UID:9170-1773858600-1773864000@fbcw.com
SUMMARY:Wednesday Evening Community Groups
DESCRIPTION:Women’s Community Group – 1st & 3rd Wednesdays (6:30pm)\nMen’s Community Group – 2nd & 4th Wednesdays (7pm)\nWe have started two community groups – one for men and one for women. The groups will be going through IMB’s study\, “Deepen Discipleship” and praying together. With this study\, you’ll spend time reading and meditating on Scripture and using key questions for self-reflection each day. Come be a part of one of these groups!
URL:https://fbcw.com/event/wednesday-evening-community-groups-copy-copy-copy-copy-copy-copy-copy-copy-copy-copy-copy-copy-2-copy-copy-copy-copy-copy-copy-copy-copy-copy-copy-copy-copy-copy-copy-copy-copy-copy-copy-copy-copy-1-9/
CATEGORIES:Bible Study,Prayer
END:VEVENT
BEGIN:VEVENT
DTSTART;TZID=America/New_York:20260315T103000
DTEND;TZID=America/New_York:20260315T113000
DTSTAMP:20260425T100750
CREATED:20260210T174350Z
LAST-MODIFIED:20260210T174402Z
UID:9152-1773570600-1773574200@fbcw.com
SUMMARY:Worship Service
DESCRIPTION:Join us for our regular worship gathering every Sunday at 10:30am (nursery is available)!  If you are unable to be with us here in-person at FBCW\, you can view our recorded sermons on our church app\, website (fbcw.com)\, Facebook\, and YouTube.  
URL:https://fbcw.com/event/worship-service-7/
LOCATION:First Baptist Church of Weddington\, 348 Providence Road South\, Weddington\, NC\, 28173\, United States
END:VEVENT
BEGIN:VEVENT
DTSTART;TZID=America/New_York:20260315T091500
DTEND;TZID=America/New_York:20260315T101500
DTSTAMP:20260425T100750
CREATED:20260210T174132Z
LAST-MODIFIED:20260210T174145Z
UID:9142-1773566100-1773569700@fbcw.com
SUMMARY:Adult/Youth Community Groups
DESCRIPTION:
URL:https://fbcw.com/event/adultyouth-community-groups-copy-copy/
LOCATION:First Baptist Church of Weddington\, 348 Providence Road South\, Weddington\, NC\, 28173\, United States
CATEGORIES:Bible Study
END:VEVENT
BEGIN:VEVENT
DTSTART;TZID=America/New_York:20260311T190000
DTEND;TZID=America/New_York:20260311T203000
DTSTAMP:20260425T100750
CREATED:20260210T195621Z
LAST-MODIFIED:20260210T195634Z
UID:9176-1773255600-1773261000@fbcw.com
SUMMARY:Youth
DESCRIPTION:
URL:https://fbcw.com/event/youth-2-copy-copy-copy-copy-copy-copy-copy-copy-copy-copy-copy-copy-copy-copy-copy-copy-copy-copy-2-copy-copy-copy-copy-copy-copy-copy-copy-copy-2-copy-copy-copy-copy-copy-copy-copy-copy-copy-copy-84/
LOCATION:First Baptist Church of Weddington\, 348 Providence Road South\, Weddington\, NC\, 28173\, United States
CATEGORIES:Youth
END:VEVENT
BEGIN:VEVENT
DTSTART;TZID=America/New_York:20260311T183000
DTEND;TZID=America/New_York:20260311T200000
DTSTAMP:20260425T100750
CREATED:20260210T194117Z
LAST-MODIFIED:20260210T194128Z
UID:9168-1773253800-1773259200@fbcw.com
SUMMARY:Wednesday Evening Community Groups
DESCRIPTION:Women’s Community Group – 1st & 3rd Wednesdays (6:30pm)\nMen’s Community Group – 2nd & 4th Wednesdays (7pm)\nWe have started two community groups – one for men and one for women. The groups will be going through IMB’s study\, “Deepen Discipleship” and praying together. With this study\, you’ll spend time reading and meditating on Scripture and using key questions for self-reflection each day. Come be a part of one of these groups!
URL:https://fbcw.com/event/wednesday-evening-community-groups-copy-copy-copy-copy-copy-copy-copy-copy-copy-copy-copy-copy-2-copy-copy-copy-copy-copy-copy-copy-copy-copy-copy-copy-copy-copy-copy-copy-copy-copy-copy-copy-copy-1-8/
CATEGORIES:Bible Study,Prayer
END:VEVENT
BEGIN:VEVENT
DTSTART;TZID=America/New_York:20260308T103000
DTEND;TZID=America/New_York:20260308T113000
DTSTAMP:20260425T100750
CREATED:20260210T174330Z
LAST-MODIFIED:20260210T174339Z
UID:9150-1772965800-1772969400@fbcw.com
SUMMARY:Worship Service
DESCRIPTION:Join us for our regular worship gathering every Sunday at 10:30am (nursery is available)!  If you are unable to be with us here in-person at FBCW\, you can view our recorded sermons on our church app\, website (fbcw.com)\, Facebook\, and YouTube.  
URL:https://fbcw.com/event/worship-service-6/
LOCATION:First Baptist Church of Weddington\, 348 Providence Road South\, Weddington\, NC\, 28173\, United States
END:VEVENT
BEGIN:VEVENT
DTSTART;TZID=America/New_York:20260308T091500
DTEND;TZID=America/New_York:20260308T101500
DTSTAMP:20260425T100750
CREATED:20260210T174114Z
LAST-MODIFIED:20260210T174125Z
UID:9140-1772961300-1772964900@fbcw.com
SUMMARY:Adult/Youth Community Groups
DESCRIPTION:
URL:https://fbcw.com/event/adultyouth-community-groups-copy/
LOCATION:First Baptist Church of Weddington\, 348 Providence Road South\, Weddington\, NC\, 28173\, United States
CATEGORIES:Bible Study
END:VEVENT
BEGIN:VEVENT
DTSTART;TZID=America/New_York:20260307T090000
DTEND;TZID=America/New_York:20260307T103000
DTSTAMP:20260425T100750
CREATED:20260210T183633Z
LAST-MODIFIED:20260210T183657Z
UID:9164-1772874000-1772879400@fbcw.com
SUMMARY:Men's Breakfast
DESCRIPTION:All the men are invited to meet at Vera’s Kitchen in Waxhaw (first Saturday of every month) at 9:00am for breakfast and fellowship.  If you have any questions\, contact David Campbell.
URL:https://fbcw.com/event/mens-breakfast-2-copy-copy-copy-copy-copy-copy-copy-2-copy-copy-copy-copy-copy-2-copy-copy-copy-copy-copy-copy-copy-copy-copy-copy-2-copy-copy-copy-copy-copy-copy-copy-copy-copy-copy-copy-copy-2-cop-3/
LOCATION:Vera’s Kitchen\, 203 N Broome St\, Waxhaw\, North Carolina\, 28173
CATEGORIES:Men's Ministry
END:VEVENT
BEGIN:VEVENT
DTSTART;TZID=America/New_York:20260304T190000
DTEND;TZID=America/New_York:20260304T203000
DTSTAMP:20260425T100750
CREATED:20260210T195559Z
LAST-MODIFIED:20260210T195613Z
UID:9174-1772650800-1772656200@fbcw.com
SUMMARY:Youth
DESCRIPTION:
URL:https://fbcw.com/event/youth-2-copy-copy-copy-copy-copy-copy-copy-copy-copy-copy-copy-copy-copy-copy-copy-copy-copy-copy-2-copy-copy-copy-copy-copy-copy-copy-copy-copy-2-copy-copy-copy-copy-copy-copy-copy-copy-copy-copy-83/
LOCATION:First Baptist Church of Weddington\, 348 Providence Road South\, Weddington\, NC\, 28173\, United States
CATEGORIES:Youth
END:VEVENT
BEGIN:VEVENT
DTSTART;TZID=America/New_York:20260304T183000
DTEND;TZID=America/New_York:20260304T200000
DTSTAMP:20260425T100750
CREATED:20260210T193959Z
LAST-MODIFIED:20260210T194101Z
UID:9166-1772649000-1772654400@fbcw.com
SUMMARY:Wednesday Evening Community Groups
DESCRIPTION:Women’s Community Group – 1st & 3rd Wednesdays (6:30pm)\nMen’s Community Group – 2nd & 4th Wednesdays (7pm)\nWe have started two community groups – one for men and one for women. The groups will be going through IMB’s study\, “Deepen Discipleship” and praying together. With this study\, you’ll spend time reading and meditating on Scripture and using key questions for self-reflection each day. Come be a part of one of these groups!
URL:https://fbcw.com/event/wednesday-evening-community-groups-copy-copy-copy-copy-copy-copy-copy-copy-copy-copy-copy-copy-2-copy-copy-copy-copy-copy-copy-copy-copy-copy-copy-copy-copy-copy-copy-copy-copy-copy-copy-copy-copy-1-7/
CATEGORIES:Bible Study,Prayer
END:VEVENT
BEGIN:VEVENT
DTSTART;TZID=America/New_York:20260301T103000
DTEND;TZID=America/New_York:20260301T113000
DTSTAMP:20260425T100750
CREATED:20260210T174304Z
LAST-MODIFIED:20260210T174321Z
UID:9148-1772361000-1772364600@fbcw.com
SUMMARY:Worship Service
DESCRIPTION:Join us for our regular worship gathering every Sunday at 10:30am (nursery is available)!  If you are unable to be with us here in-person at FBCW\, you can view our recorded sermons on our church app\, website (fbcw.com)\, Facebook\, and YouTube.  
URL:https://fbcw.com/event/worship-service-5-copy-copy-copy-copy/
LOCATION:First Baptist Church of Weddington\, 348 Providence Road South\, Weddington\, NC\, 28173\, United States
END:VEVENT
BEGIN:VEVENT
DTSTART;TZID=America/New_York:20260301T091500
DTEND;TZID=America/New_York:20260301T101500
DTSTAMP:20260425T100750
CREATED:20260210T174056Z
LAST-MODIFIED:20260210T174108Z
UID:9138-1772356500-1772360100@fbcw.com
SUMMARY:Adult/Youth Community Groups
DESCRIPTION:
URL:https://fbcw.com/event/adultyouth-community-groups/
LOCATION:First Baptist Church of Weddington\, 348 Providence Road South\, Weddington\, NC\, 28173\, United States
CATEGORIES:Bible Study
END:VEVENT
BEGIN:VEVENT
DTSTART;VALUE=DATE:20260301
DTEND;VALUE=DATE:20260309
DTSTAMP:20260425T100750
CREATED:20260210T183123Z
LAST-MODIFIED:20260210T183143Z
UID:9162-1772323200-1773014399@fbcw.com
SUMMARY:Week Of Prayer - Annie Armstrong Easter Offering
DESCRIPTION:
URL:https://fbcw.com/event/week-of-prayer-annie-armstrong-easter-offering-copy-copy-copy/
LOCATION:First Baptist Church of Weddington\, 348 Providence Road South\, Weddington\, NC\, 28173\, United States
CATEGORIES:Outreach,Prayer
END:VEVENT
BEGIN:VEVENT
DTSTART;TZID=America/New_York:20260225T190000
DTEND;TZID=America/New_York:20260225T203000
DTSTAMP:20260425T100750
CREATED:20260121T193141Z
LAST-MODIFIED:20260121T193152Z
UID:9109-1772046000-1772051400@fbcw.com
SUMMARY:Youth
DESCRIPTION:
URL:https://fbcw.com/event/youth-2-copy-copy-copy-copy-copy-copy-copy-copy-copy-copy-copy-copy-copy-copy-copy-copy-copy-copy-2-copy-copy-copy-copy-copy-copy-copy-copy-copy-2-copy-copy-copy-copy-copy-copy-copy-copy-copy-copy-82/
LOCATION:First Baptist Church of Weddington\, 348 Providence Road South\, Weddington\, NC\, 28173\, United States
CATEGORIES:Youth
END:VEVENT
BEGIN:VEVENT
DTSTART;TZID=America/New_York:20260225T183000
DTEND;TZID=America/New_York:20260225T200000
DTSTAMP:20260425T100750
CREATED:20260121T194103Z
LAST-MODIFIED:20260121T194116Z
UID:9119-1772044200-1772049600@fbcw.com
SUMMARY:Wednesday Evening Community Groups
DESCRIPTION:Women’s Community Group – 1st & 3rd Wednesdays (6:30pm)\nMen’s Community Group – 2nd & 4th Wednesdays (7pm)\nWe have started two community groups – one for men and one for women. The groups will be going through IMB’s study\, “Deepen Discipleship” and praying together. With this study\, you’ll spend time reading and meditating on Scripture and using key questions for self-reflection each day. Come be a part of one of these groups!
URL:https://fbcw.com/event/wednesday-evening-community-groups-copy-copy-copy-copy-copy-copy-copy-copy-copy-copy-copy-copy-2-copy-copy-copy-copy-copy-copy-copy-copy-copy-copy-copy-copy-copy-copy-copy-copy-copy-copy-copy-copy-1-6/
CATEGORIES:Bible Study,Prayer
END:VEVENT
BEGIN:VEVENT
DTSTART;TZID=America/New_York:20260222T103000
DTEND;TZID=America/New_York:20260222T113000
DTSTAMP:20260425T100750
CREATED:20260121T192355Z
LAST-MODIFIED:20260121T192404Z
UID:9085-1771756200-1771759800@fbcw.com
SUMMARY:Worship Service
DESCRIPTION:Join us for our regular worship gathering every Sunday at 10:30am (nursery is available)!  If you are unable to be with us here in-person at FBCW\, you can view our recorded sermons on our church app\, website (fbcw.com)\, Facebook\, and YouTube.  
URL:https://fbcw.com/event/worship-service-5-copy-copy-copy/
LOCATION:First Baptist Church of Weddington\, 348 Providence Road South\, Weddington\, NC\, 28173\, United States
END:VEVENT
BEGIN:VEVENT
DTSTART;TZID=America/New_York:20260222T091500
DTEND;TZID=America/New_York:20260222T101500
DTSTAMP:20260425T100750
CREATED:20260121T192059Z
LAST-MODIFIED:20260121T192113Z
UID:9069-1771751700-1771755300@fbcw.com
SUMMARY:Adult/Youth Community Groups
DESCRIPTION:
URL:https://fbcw.com/event/online-bible-fellowship-classes-adult-3-adult-6-copy-copy-2-copy-copy-copy-copy-copy-copy-copy-copy-copy-copy-copy-2-copy-2-copy-copy-copy-copy-copy-copy-copy-copy-copy-copy-copy-copy-copy-copy-co-85/
LOCATION:First Baptist Church of Weddington\, 348 Providence Road South\, Weddington\, NC\, 28173\, United States
CATEGORIES:Bible Study
END:VEVENT
BEGIN:VEVENT
DTSTART;TZID=America/New_York:20260220T113000
DTEND;TZID=America/New_York:20260220T120000
DTSTAMP:20260425T100750
CREATED:20260121T192512Z
LAST-MODIFIED:20260121T192525Z
UID:9089-1771587000-1771588800@fbcw.com
SUMMARY:Operation Reach Out Lunches
DESCRIPTION:FBCW partners with Operation Reach Out by providing 40 bagged lunches\, on the third Friday of every month\, for those who attend their daily Bible study. We are in need of volunteers to help provide these lunches.  If you would like to donate an item for the lunches or prepare sandwiches\, please contact Allison Matthews.  You can also find a sign-up sheet on the bulletin board if you can help! \n 
URL:https://fbcw.com/event/operation-reach-out-lunches-copy-copy-copy-copy-copy-copy-copy-copy-copy-copy-copy-copy-copy-copy-copy-copy-2-copy-copy-copy-copy-copy-copy-copy-copy-copy-copy-copy-copy-copy-copy-copy-copy-copy-cop-6/
CATEGORIES:Outreach
END:VEVENT
BEGIN:VEVENT
DTSTART;TZID=America/New_York:20260218T190000
DTEND;TZID=America/New_York:20260218T203000
DTSTAMP:20260425T100750
CREATED:20260121T193120Z
LAST-MODIFIED:20260121T193133Z
UID:9107-1771441200-1771446600@fbcw.com
SUMMARY:Youth
DESCRIPTION:
URL:https://fbcw.com/event/youth-2-copy-copy-copy-copy-copy-copy-copy-copy-copy-copy-copy-copy-copy-copy-copy-copy-copy-copy-2-copy-copy-copy-copy-copy-copy-copy-copy-copy-2-copy-copy-copy-copy-copy-copy-copy-copy-copy-copy-81/
LOCATION:First Baptist Church of Weddington\, 348 Providence Road South\, Weddington\, NC\, 28173\, United States
CATEGORIES:Youth
END:VEVENT
BEGIN:VEVENT
DTSTART;TZID=America/New_York:20260218T183000
DTEND;TZID=America/New_York:20260218T200000
DTSTAMP:20260425T100750
CREATED:20260121T194027Z
LAST-MODIFIED:20260121T194058Z
UID:9117-1771439400-1771444800@fbcw.com
SUMMARY:Wednesday Evening Community Groups
DESCRIPTION:Women’s Community Group – 1st & 3rd Wednesdays (6:30pm)\nMen’s Community Group – 2nd & 4th Wednesdays (7pm)\nWe have started two community groups – one for men and one for women. The groups will be going through IMB’s study\, “Deepen Discipleship” and praying together. With this study\, you’ll spend time reading and meditating on Scripture and using key questions for self-reflection each day. Come be a part of one of these groups!
URL:https://fbcw.com/event/wednesday-evening-community-groups-copy-copy-copy-copy-copy-copy-copy-copy-copy-copy-copy-copy-2-copy-copy-copy-copy-copy-copy-copy-copy-copy-copy-copy-copy-copy-copy-copy-copy-copy-copy-copy-copy-1-5/
CATEGORIES:Bible Study,Prayer
END:VEVENT
END:VCALENDAR