BEGIN:VCALENDAR
VERSION:2.0
PRODID:-//First Baptist Church of Weddington - ECPv6.15.20//NONSGML v1.0//EN
CALSCALE:GREGORIAN
METHOD:PUBLISH
X-WR-CALNAME:First Baptist Church of Weddington
X-ORIGINAL-URL:https://fbcw.com
X-WR-CALDESC:Events for First Baptist Church of Weddington
REFRESH-INTERVAL;VALUE=DURATION:PT1H
X-Robots-Tag:noindex
X-PUBLISHED-TTL:PT1H
BEGIN:VTIMEZONE
TZID:America/New_York
BEGIN:DAYLIGHT
TZOFFSETFROM:-0500
TZOFFSETTO:-0400
TZNAME:EDT
DTSTART:20230312T070000
END:DAYLIGHT
BEGIN:STANDARD
TZOFFSETFROM:-0400
TZOFFSETTO:-0500
TZNAME:EST
DTSTART:20231105T060000
END:STANDARD
BEGIN:DAYLIGHT
TZOFFSETFROM:-0500
TZOFFSETTO:-0400
TZNAME:EDT
DTSTART:20240310T070000
END:DAYLIGHT
BEGIN:STANDARD
TZOFFSETFROM:-0400
TZOFFSETTO:-0500
TZNAME:EST
DTSTART:20241103T060000
END:STANDARD
BEGIN:DAYLIGHT
TZOFFSETFROM:-0500
TZOFFSETTO:-0400
TZNAME:EDT
DTSTART:20250309T070000
END:DAYLIGHT
BEGIN:STANDARD
TZOFFSETFROM:-0400
TZOFFSETTO:-0500
TZNAME:EST
DTSTART:20251102T060000
END:STANDARD
END:VTIMEZONE
BEGIN:VEVENT
DTSTART;TZID=America/New_York:20240703T190000
DTEND;TZID=America/New_York:20240703T203000
DTSTAMP:20260426T000625
CREATED:20240606T175425Z
LAST-MODIFIED:20240626T185017Z
UID:7706-1720033200-1720038600@fbcw.com
SUMMARY:No Youth
DESCRIPTION:
URL:https://fbcw.com/event/youth-2-copy-copy-copy-copy-copy-copy-copy-copy-copy-copy-copy-copy-copy-copy-copy-copy-copy-copy-2-copy-copy-copy-copy-copy-copy-copy-copy-copy-2-copy-copy-copy-copy-copy-copy-copy-copy-copy-copy-49/
LOCATION:First Baptist Church of Weddington\, 348 Providence Road South\, Weddington\, NC\, 28173\, United States
CATEGORIES:Youth
END:VEVENT
BEGIN:VEVENT
DTSTART;TZID=America/New_York:20240710T190000
DTEND;TZID=America/New_York:20240710T203000
DTSTAMP:20260426T000625
CREATED:20240606T175458Z
LAST-MODIFIED:20240606T175539Z
UID:7708-1720638000-1720643400@fbcw.com
SUMMARY:Youth
DESCRIPTION:
URL:https://fbcw.com/event/youth-2-copy-copy-copy-copy-copy-copy-copy-copy-copy-copy-copy-copy-copy-copy-copy-copy-copy-copy-2-copy-copy-copy-copy-copy-copy-copy-copy-copy-2-copy-copy-copy-copy-copy-copy-copy-copy-copy-copy-50/
LOCATION:First Baptist Church of Weddington\, 348 Providence Road South\, Weddington\, NC\, 28173\, United States
CATEGORIES:Youth
END:VEVENT
BEGIN:VEVENT
DTSTART;TZID=America/New_York:20240717T190000
DTEND;TZID=America/New_York:20240717T203000
DTSTAMP:20260426T000625
CREATED:20240606T175548Z
LAST-MODIFIED:20240606T175603Z
UID:7710-1721242800-1721248200@fbcw.com
SUMMARY:Youth
DESCRIPTION:
URL:https://fbcw.com/event/youth-2-copy-copy-copy-copy-copy-copy-copy-copy-copy-copy-copy-copy-copy-copy-copy-copy-copy-copy-2-copy-copy-copy-copy-copy-copy-copy-copy-copy-2-copy-copy-copy-copy-copy-copy-copy-copy-copy-copy-5-2/
LOCATION:First Baptist Church of Weddington\, 348 Providence Road South\, Weddington\, NC\, 28173\, United States
CATEGORIES:Youth
END:VEVENT
BEGIN:VEVENT
DTSTART;TZID=America/New_York:20240724T190000
DTEND;TZID=America/New_York:20240724T203000
DTSTAMP:20260426T000625
CREATED:20240606T175610Z
LAST-MODIFIED:20240606T175635Z
UID:7712-1721847600-1721853000@fbcw.com
SUMMARY:Youth
DESCRIPTION:
URL:https://fbcw.com/event/youth-2-copy-copy-copy-copy-copy-copy-copy-copy-copy-copy-copy-copy-copy-copy-copy-copy-copy-copy-2-copy-copy-copy-copy-copy-copy-copy-copy-copy-2-copy-copy-copy-copy-copy-copy-copy-copy-copy-copy-5-3/
LOCATION:First Baptist Church of Weddington\, 348 Providence Road South\, Weddington\, NC\, 28173\, United States
CATEGORIES:Youth
END:VEVENT
BEGIN:VEVENT
DTSTART;TZID=America/New_York:20240731T190000
DTEND;TZID=America/New_York:20240731T203000
DTSTAMP:20260426T000625
CREATED:20240606T175643Z
LAST-MODIFIED:20240606T175711Z
UID:7714-1722452400-1722457800@fbcw.com
SUMMARY:Youth
DESCRIPTION:
URL:https://fbcw.com/event/youth-2-copy-copy-copy-copy-copy-copy-copy-copy-copy-copy-copy-copy-copy-copy-copy-copy-copy-copy-2-copy-copy-copy-copy-copy-copy-copy-copy-copy-2-copy-copy-copy-copy-copy-copy-copy-copy-copy-copy-5-4/
LOCATION:First Baptist Church of Weddington\, 348 Providence Road South\, Weddington\, NC\, 28173\, United States
CATEGORIES:Youth
END:VEVENT
END:VCALENDAR