BEGIN:VCALENDAR
VERSION:2.0
PRODID:-//First Baptist Church of Weddington - ECPv6.15.20//NONSGML v1.0//EN
CALSCALE:GREGORIAN
METHOD:PUBLISH
X-WR-CALNAME:First Baptist Church of Weddington
X-ORIGINAL-URL:https://fbcw.com
X-WR-CALDESC:Events for First Baptist Church of Weddington
REFRESH-INTERVAL;VALUE=DURATION:PT1H
X-Robots-Tag:noindex
X-PUBLISHED-TTL:PT1H
BEGIN:VTIMEZONE
TZID:America/New_York
BEGIN:DAYLIGHT
TZOFFSETFROM:-0500
TZOFFSETTO:-0400
TZNAME:EDT
DTSTART:20200308T070000
END:DAYLIGHT
BEGIN:STANDARD
TZOFFSETFROM:-0400
TZOFFSETTO:-0500
TZNAME:EST
DTSTART:20201101T060000
END:STANDARD
BEGIN:DAYLIGHT
TZOFFSETFROM:-0500
TZOFFSETTO:-0400
TZNAME:EDT
DTSTART:20210314T070000
END:DAYLIGHT
BEGIN:STANDARD
TZOFFSETFROM:-0400
TZOFFSETTO:-0500
TZNAME:EST
DTSTART:20211107T060000
END:STANDARD
BEGIN:DAYLIGHT
TZOFFSETFROM:-0500
TZOFFSETTO:-0400
TZNAME:EDT
DTSTART:20220313T070000
END:DAYLIGHT
BEGIN:STANDARD
TZOFFSETFROM:-0400
TZOFFSETTO:-0500
TZNAME:EST
DTSTART:20221106T060000
END:STANDARD
BEGIN:DAYLIGHT
TZOFFSETFROM:-0500
TZOFFSETTO:-0400
TZNAME:EDT
DTSTART:20230312T070000
END:DAYLIGHT
BEGIN:STANDARD
TZOFFSETFROM:-0400
TZOFFSETTO:-0500
TZNAME:EST
DTSTART:20231105T060000
END:STANDARD
BEGIN:DAYLIGHT
TZOFFSETFROM:-0500
TZOFFSETTO:-0400
TZNAME:EDT
DTSTART:20240310T070000
END:DAYLIGHT
BEGIN:STANDARD
TZOFFSETFROM:-0400
TZOFFSETTO:-0500
TZNAME:EST
DTSTART:20241103T060000
END:STANDARD
END:VTIMEZONE
BEGIN:VEVENT
DTSTART;TZID=America/New_York:20230520T130000
DTEND;TZID=America/New_York:20230520T143000
DTSTAMP:20260425T114613
CREATED:20230517T153903Z
LAST-MODIFIED:20230517T153903Z
UID:6601-1684587600-1684593000@fbcw.com
SUMMARY:Ladies Tea
DESCRIPTION:All the ladies of the church are invited to a Afternoon Tea on Saturday\, May 20th\, at 1pm. Hats are requested.  Please RSVP by signing up on the bulletin board. If you have any questions\, please call Mary Beaver or Betty Carns.
URL:https://fbcw.com/event/ladies-tea-2/
LOCATION:First Baptist Church of Weddington\, 348 Providence Road South\, Weddington\, NC\, 28173\, United States
CATEGORIES:Women's Ministry
END:VEVENT
BEGIN:VEVENT
DTSTART;TZID=America/New_York:20230415T100000
DTEND;TZID=America/New_York:20230415T113000
DTSTAMP:20260425T114613
CREATED:20230330T170837Z
LAST-MODIFIED:20230330T171000Z
UID:6562-1681552800-1681558200@fbcw.com
SUMMARY:Women's Monthly Bible Study
DESCRIPTION:(REVISED DATE & TIME) \nThe Women’s Bible Study titled\, Zeal: A Bible Study on Titus for Women by Keri Folmar\, continues at 10am here at the church.  All the women of the church are invited to attend.  See Veronica Willard if you have any questions.
URL:https://fbcw.com/event/womens-monthly-bible-study-copy-copy-copy-copy-copy-3-copy-copy-copy-copy-copy/
LOCATION:First Baptist Church of Weddington\, 348 Providence Road South\, Weddington\, NC\, 28173\, United States
CATEGORIES:Bible Study,Women's Ministry
END:VEVENT
BEGIN:VEVENT
DTSTART;TZID=America/New_York:20230412T114500
DTEND;TZID=America/New_York:20230412T130000
DTSTAMP:20260425T114613
CREATED:20230330T170733Z
LAST-MODIFIED:20230330T170733Z
UID:6559-1681299900-1681304400@fbcw.com
SUMMARY:Ladies Lunch Bunch
DESCRIPTION:All the ladies of the church are invited to join us on Wednesday\, April 12th\, at 11:45am at Hickory Tavern on Providence Road across from Waverly Shopping Center. Please RSVP to Jeanell Graves by Tuesday\, April 10th\, if you plan on attending.
URL:https://fbcw.com/event/ladies-lunch-bunch-2/
LOCATION:Hickory Tavern\, 11504 Providence Rd\, Charlotte\, NC\, 28277\, United States
CATEGORIES:Women's Ministry
END:VEVENT
BEGIN:VEVENT
DTSTART;TZID=America/New_York:20230311T100000
DTEND;TZID=America/New_York:20230311T113000
DTSTAMP:20260425T114613
CREATED:20230209T183047Z
LAST-MODIFIED:20230209T183103Z
UID:6482-1678528800-1678534200@fbcw.com
SUMMARY:Women's Monthly Bible Study
DESCRIPTION:The Women’s Bible Study titled\, Zeal: A Bible Study on Titus for Women by Keri Folmar\, continues at 10am at the home of Amber Walker.  All the women of the church are invited to attend.  See Veronica Willard if you have any questions.
URL:https://fbcw.com/event/womens-monthly-bible-study-copy-copy-copy-copy-copy-3-copy-copy-copy-copy/
LOCATION:First Baptist Church of Weddington\, 348 Providence Road South\, Weddington\, NC\, 28173\, United States
CATEGORIES:Bible Study,Women's Ministry
END:VEVENT
BEGIN:VEVENT
DTSTART;TZID=America/New_York:20230218T150000
DTEND;TZID=America/New_York:20230218T163000
DTSTAMP:20260425T114613
CREATED:20230209T170522Z
LAST-MODIFIED:20230209T170522Z
UID:6430-1676732400-1676737800@fbcw.com
SUMMARY:Baby Shower for Meghan Kienzle
DESCRIPTION:All the ladies of the church are invited to a Baby Shower honoring Meghan Kienzle on Saturday\, February 18th at 3:00pm. Shower is being held at the home of Amber Walker. Meghan is registered at babylist.com/baby-meghan-kienzle. Please RSVP to Amber Walker.
URL:https://fbcw.com/event/baby-shower-for-meghan-kienzle/
LOCATION:NC
CATEGORIES:Women's Ministry
END:VEVENT
BEGIN:VEVENT
DTSTART;TZID=America/New_York:20230211T100000
DTEND;TZID=America/New_York:20230211T113000
DTSTAMP:20260425T114613
CREATED:20230205T220407Z
LAST-MODIFIED:20230205T220537Z
UID:6416-1676109600-1676115000@fbcw.com
SUMMARY:Women's Monthly Bible Study
DESCRIPTION:The Women’s Bible Study titled\, Zeal: A Bible Study on Titus for Women by Keri Folmar\, continues at 10am at the home of Amber Walker.  All the women of the church are invited to attend.  See Veronica Willard if you have any questions.
URL:https://fbcw.com/event/womens-monthly-bible-study-copy-copy-copy-copy-copy-3-copy-copy-copy/
LOCATION:First Baptist Church of Weddington\, 348 Providence Road South\, Weddington\, NC\, 28173\, United States
CATEGORIES:Bible Study,Women's Ministry
END:VEVENT
BEGIN:VEVENT
DTSTART;TZID=America/New_York:20230208T114500
DTEND;TZID=America/New_York:20230208T130000
DTSTAMP:20260425T114613
CREATED:20230209T174151Z
LAST-MODIFIED:20230209T174531Z
UID:6434-1675856700-1675861200@fbcw.com
SUMMARY:Ladies Lunch Bunch (2nd Wednesday of each month)
DESCRIPTION:All the ladies of the church are invited to join us on Wednesday\, February 8th\, at 11:45am at Brixx in the Blakeney Shopping Center. Please RSVP to Jeanell Graves at 704-942-1704 by Tuesday\, February 7th\, if you plan on attending.
URL:https://fbcw.com/event/ladies-lunch-bunch-copy-copy/
LOCATION:Brixx Blakeney\, 9820 Rea Rd\, \, Charlotte\, NC\, 28277
CATEGORIES:Fellowship Activities,Women's Ministry
END:VEVENT
BEGIN:VEVENT
DTSTART;TZID=America/New_York:20221214T114500
DTEND;TZID=America/New_York:20221214T120000
DTSTAMP:20260425T114613
CREATED:20221122T151958Z
LAST-MODIFIED:20221122T151958Z
UID:6264-1671018300-1671019200@fbcw.com
SUMMARY:No Ladies Lunch Bunch
DESCRIPTION:We will not have our regular Ladies Lunch Bunch this month.  See you in January!
URL:https://fbcw.com/event/no-ladies-lunch-bunch/
LOCATION:NC
CATEGORIES:Women's Ministry
END:VEVENT
BEGIN:VEVENT
DTSTART;TZID=America/New_York:20221206T190000
DTEND;TZID=America/New_York:20221206T210000
DTSTAMP:20260425T114613
CREATED:20221122T150625Z
LAST-MODIFIED:20221122T150625Z
UID:6248-1670353200-1670360400@fbcw.com
SUMMARY:Ladies Christmas Tea & Cookie Exchange
DESCRIPTION:All the ladies of the church are invited to our annual Christmas Tea & Cookie Exchange on Tuesday\, December 6th\, at 7pm.  This event is being held at the home of Jan Laney.  Everyone is asked to bring 3 dozen of their favorite cookies!  Click HERE for more details.
URL:https://fbcw.com/event/ladies-christmas-tea-cookie-exchange/
LOCATION:NC
CATEGORIES:Women's Ministry
END:VEVENT
BEGIN:VEVENT
DTSTART;TZID=America/New_York:20221112T100000
DTEND;TZID=America/New_York:20221112T170000
DTSTAMP:20260425T114613
CREATED:20221006T144039Z
LAST-MODIFIED:20221006T144055Z
UID:6113-1668247200-1668272400@fbcw.com
SUMMARY:Women's Monthly Bible Study
DESCRIPTION:The Women’s Bible Study titled\, Zeal: A Bible Study on Titus for Women by Keri Folmar\, continues at 10am.  All the women of the church are invited to attend.  See Veronica Willard if you have any questions.
URL:https://fbcw.com/event/womens-monthly-bible-study-copy-copy-copy-copy-copy-3-copy-copy/
LOCATION:First Baptist Church of Weddington\, 348 Providence Road South\, Weddington\, NC\, 28173\, United States
CATEGORIES:Bible Study,Women's Ministry
END:VEVENT
BEGIN:VEVENT
DTSTART;TZID=America/New_York:20221012T114500
DTEND;TZID=America/New_York:20221012T130000
DTSTAMP:20260425T114613
CREATED:20221006T141049Z
LAST-MODIFIED:20221006T143440Z
UID:6103-1665575100-1665579600@fbcw.com
SUMMARY:Ladies Lunch Bunch
DESCRIPTION:The Ladies Lunch Bunch (2nd Wednesday of each month): Wednesday\, October 12th\, at 11:45am at Chili’s in the Blakeney Shopping Center.  All the ladies of the church are invited!  Please RSVP to Jeanell Graves if you plan on attended.
URL:https://fbcw.com/event/ladies-lunch-bunch-copy/
LOCATION:Chili’s\, 9730 Rea Rd\, Charlotte\, NC\, 28277
CATEGORIES:Fellowship Activities,Women's Ministry
END:VEVENT
BEGIN:VEVENT
DTSTART;TZID=America/New_York:20221008T100000
DTEND;TZID=America/New_York:20221008T170000
DTSTAMP:20260425T114613
CREATED:20221006T143915Z
LAST-MODIFIED:20221006T180742Z
UID:6111-1665223200-1665248400@fbcw.com
SUMMARY:Women's Monthly Bible Study (Canceled)
DESCRIPTION:
URL:https://fbcw.com/event/womens-monthly-bible-study-copy-copy-copy-copy-copy-3-copy/
LOCATION:First Baptist Church of Weddington\, 348 Providence Road South\, Weddington\, NC\, 28173\, United States
CATEGORIES:Bible Study,Women's Ministry
END:VEVENT
BEGIN:VEVENT
DTSTART;TZID=America/New_York:20220914T114500
DTEND;TZID=America/New_York:20220914T130000
DTSTAMP:20260425T114613
CREATED:20220831T151203Z
LAST-MODIFIED:20220831T151203Z
UID:5991-1663155900-1663160400@fbcw.com
SUMMARY:Ladies Lunch Bunch
DESCRIPTION:The Ladies Lunch Bunch (2nd Wednesday of each month): Wednesday\, September 14th\, at 11:45am at McAlister’s Deli in Blakeney.  All the ladies of the church are invited!  Contact Jeanell Graves is you have any questions.
URL:https://fbcw.com/event/ladies-lunch-bunch/
LOCATION:McAlister’s\, 9864 Rea Rd A\, Charlotte\, 28277\, United States
CATEGORIES:Fellowship Activities,Women's Ministry
END:VEVENT
BEGIN:VEVENT
DTSTART;TZID=America/New_York:20220910T100000
DTEND;TZID=America/New_York:20220910T170000
DTSTAMP:20260425T114613
CREATED:20220831T160705Z
LAST-MODIFIED:20220831T160927Z
UID:6034-1662804000-1662829200@fbcw.com
SUMMARY:Women's Monthly Bible Study
DESCRIPTION:The Women’s Bible Study titled\, Zeal: A Bible Study on Titus for Women by Keri Folmar\, continues at 10am.  All the women of the church are invited to attend.  See Veronica Willard if you have any questions.
URL:https://fbcw.com/event/womens-monthly-bible-study-copy-copy-copy-copy-copy-3/
LOCATION:First Baptist Church of Weddington\, 348 Providence Road South\, Weddington\, NC\, 28173\, United States
CATEGORIES:Bible Study,Women's Ministry
END:VEVENT
BEGIN:VEVENT
DTSTART;TZID=America/New_York:20220813T100000
DTEND;TZID=America/New_York:20220813T113000
DTSTAMP:20260425T114613
CREATED:20220720T152457Z
LAST-MODIFIED:20220720T152530Z
UID:5919-1660384800-1660390200@fbcw.com
SUMMARY:Women's Monthly Bible Study
DESCRIPTION:We have started a new Women’s Bible Study titled\, Zeal: A Bible Study on Titus for Women by Keri Folmar.  This is a 9-session study and will meet on the second Saturday of every month at 10am.  All the women of the church are invited to attend.  Invite your friends!  Book cost is $10.00.  See Veronica Willard if you have any questions.
URL:https://fbcw.com/event/womens-monthly-bible-study-copy-copy-copy-copy-copy-2/
LOCATION:First Baptist Church of Weddington\, 348 Providence Road South\, Weddington\, NC\, 28173\, United States
CATEGORIES:Bible Study,Women's Ministry
END:VEVENT
BEGIN:VEVENT
DTSTART;TZID=America/New_York:20220709T100000
DTEND;TZID=America/New_York:20220709T170000
DTSTAMP:20260425T114613
CREATED:20220609T173327Z
LAST-MODIFIED:20220609T173354Z
UID:5826-1657360800-1657386000@fbcw.com
SUMMARY:Women's Monthly Bible Study
DESCRIPTION:We have started a new Women’s Bible Study titled\, Zeal: A Bible Study on Titus for Women by Keri Folmar.  This is a 9-session study and will meet on the second Saturday of every month at 10am.  All the women of the church are invited to attend.  Invite your friends!  Book cost is $10.00.  See Veronica Willard if you have any questions.
URL:https://fbcw.com/event/womens-monthly-bible-study-copy-copy-copy-copy/
LOCATION:First Baptist Church of Weddington\, 348 Providence Road South\, Weddington\, NC\, 28173\, United States
CATEGORIES:Bible Study,Women's Ministry
END:VEVENT
BEGIN:VEVENT
DTSTART;TZID=America/New_York:20220611T100000
DTEND;TZID=America/New_York:20220611T170000
DTSTAMP:20260425T114613
CREATED:20220609T173401Z
LAST-MODIFIED:20220609T173500Z
UID:5828-1654941600-1654966800@fbcw.com
SUMMARY:No Women's Monthly Bible Study
DESCRIPTION:Our women’s monthly Bible study will not meet in June.
URL:https://fbcw.com/event/womens-monthly-bible-study-copy-copy-copy-copy-copy/
LOCATION:First Baptist Church of Weddington\, 348 Providence Road South\, Weddington\, NC\, 28173\, United States
CATEGORIES:Bible Study,Women's Ministry
END:VEVENT
BEGIN:VEVENT
DTSTART;TZID=America/New_York:20220514T100000
DTEND;TZID=America/New_York:20220514T170000
DTSTAMP:20260425T114613
CREATED:20220428T190448Z
LAST-MODIFIED:20220428T190505Z
UID:5746-1652522400-1652547600@fbcw.com
SUMMARY:Women's Monthly Bible Study
DESCRIPTION:We have started a new Women’s Bible Study titled\, Zeal: A Bible Study on Titus for Women by Keri Folmar.  This is a 9-session study and will meet on the second Saturday of every month at 10am.  All the women of the church are invited to attend.  Invite your friends!  Book cost is $10.00.  See Veronica Willard if you have any questions.
URL:https://fbcw.com/event/womens-monthly-bible-study-copy-copy-copy/
LOCATION:First Baptist Church of Weddington\, 348 Providence Road South\, Weddington\, NC\, 28173\, United States
CATEGORIES:Bible Study,Women's Ministry
END:VEVENT
BEGIN:VEVENT
DTSTART;TZID=America/New_York:20220430T130000
DTEND;TZID=America/New_York:20220430T143000
DTSTAMP:20260425T114613
CREATED:20220316T170139Z
LAST-MODIFIED:20220316T171141Z
UID:5629-1651323600-1651329000@fbcw.com
SUMMARY:Ladies Tea
DESCRIPTION:Ladies of First Baptist Church of Weddington are Invited to a Tea on Saturday\, April 30\, 2022 at 1pm. \nHats are requested.  Please RSVP by signing up on the bulletin board. \n  \nWe are in need of 3-4 ladies to decorate her own table. \nWe are in need of several women to make 3-4 sandwiches and bake some tea sweets. \nIf you have any questions\, please call Mary Beaver or Betty Carns.
URL:https://fbcw.com/event/ladies-tea/
LOCATION:NC
CATEGORIES:Fellowship Activities,Women's Ministry
END:VEVENT
BEGIN:VEVENT
DTSTART;TZID=America/New_York:20220409T100000
DTEND;TZID=America/New_York:20220409T170000
DTSTAMP:20260425T114613
CREATED:20220203T181800Z
LAST-MODIFIED:20220203T181819Z
UID:5549-1649498400-1649523600@fbcw.com
SUMMARY:Women's Monthly Bible Study
DESCRIPTION:We have started a new Women’s Bible Study titled\, Zeal: A Bible Study on Titus for Women by Keri Folmar.  This is a 9-session study and will meet on the second Saturday of every month at 10am.  All the women of the church are invited to attend.  Invite your friends!  Book cost is $10.00.  See Veronica Willard if you have any questions.
URL:https://fbcw.com/event/womens-monthly-bible-study-copy-copy/
LOCATION:First Baptist Church of Weddington\, 348 Providence Road South\, Weddington\, NC\, 28173\, United States
CATEGORIES:Bible Study,Women's Ministry
END:VEVENT
BEGIN:VEVENT
DTSTART;TZID=America/New_York:20220312T100000
DTEND;TZID=America/New_York:20220312T170000
DTSTAMP:20260425T114613
CREATED:20220203T180640Z
LAST-MODIFIED:20220203T180758Z
UID:5533-1647079200-1647104400@fbcw.com
SUMMARY:Women's Monthly Bible Study
DESCRIPTION:We have started a new Women’s Bible Study titled\, Zeal: A Bible Study on Titus for Women by Keri Folmar.  This is a 9-session study and will meet on the second Saturday of every month at 10am.  All the women of the church are invited to attend.  Invite your friends!  Book cost is $10.00.  See Veronica Willard if you have any questions.
URL:https://fbcw.com/event/womens-monthly-bible-study-copy/
LOCATION:First Baptist Church of Weddington\, 348 Providence Road South\, Weddington\, NC\, 28173\, United States
CATEGORIES:Bible Study,Women's Ministry
END:VEVENT
BEGIN:VEVENT
DTSTART;TZID=America/New_York:20220212T090000
DTEND;TZID=America/New_York:20220212T170000
DTSTAMP:20260425T114613
CREATED:20220203T180631Z
LAST-MODIFIED:20220203T180631Z
UID:5531-1644656400-1644685200@fbcw.com
SUMMARY:Women's Monthly Bible Study
DESCRIPTION:We will be starting a new Women’s Bible Study titled\, Zeal: A Bible Study on Titus for Women by Keri Folmar\, on February 12th at 9am.  This is a 9-session study and will meet on the second Saturday of every month.  Please note the time will change to 10am starting in March.  All the women of the church are invited to attend.  Invite your friends!  Please sign up on the bulletin board by February 7th if you plan on attending.  Book cost is $10.00.  See Veronica Willard if you have any questions.
URL:https://fbcw.com/event/womens-monthly-bible-study/
LOCATION:First Baptist Church of Weddington\, 348 Providence Road South\, Weddington\, NC\, 28173\, United States
CATEGORIES:Bible Study,Women's Ministry
END:VEVENT
BEGIN:VEVENT
DTSTART;TZID=America/New_York:20220108T090000
DTEND;TZID=America/New_York:20220108T100000
DTSTAMP:20260425T114613
CREATED:20220104T171717Z
LAST-MODIFIED:20220104T171741Z
UID:5463-1641632400-1641636000@fbcw.com
SUMMARY:Women's Ministry Monthly Prayer Walk
DESCRIPTION:All the women of the church are invited to join us on the second Saturday of every month at 8am as we prayer walk around the church.  If you would prefer not to walk\, we will have a group praying inside as well.  We will lift up prayers of the church\, pray for those that drive by our church\, and pray for God to boldly transform our community\, our country\, and the world!  Come be a part of this special time of prayer and fellowship.  If you have any questions\, please reach out to Denise Castano. \n  \n 
URL:https://fbcw.com/event/mens-bible-study-copy-copy-copy-copy-copy-copy-copy-copy-copy-copy-copy-copy-copy-copy-copy-copy-copy-copy-copy-copy-copy-copy-copy-copy-copy-copy-copy-copy-copy-copy-copy-copy-copy-copy-copy-3-cop-72/
LOCATION:First Baptist Church of Weddington\, 348 Providence Road South\, Weddington\, NC\, 28173\, United States
CATEGORIES:Women's Ministry
END:VEVENT
BEGIN:VEVENT
DTSTART;TZID=America/New_York:20211211T090000
DTEND;TZID=America/New_York:20211211T100000
DTSTAMP:20260425T114613
CREATED:20211118T183758Z
LAST-MODIFIED:20211118T183857Z
UID:5360-1639213200-1639216800@fbcw.com
SUMMARY:No Women's Ministry Monthly Prayer Walk
DESCRIPTION:There will be no prayer walk this month. \n  \n 
URL:https://fbcw.com/event/mens-bible-study-copy-copy-copy-copy-copy-copy-copy-copy-copy-copy-copy-copy-copy-copy-copy-copy-copy-copy-copy-copy-copy-copy-copy-copy-copy-copy-copy-copy-copy-copy-copy-copy-copy-copy-copy-3-cop-71/
LOCATION:First Baptist Church of Weddington\, 348 Providence Road South\, Weddington\, NC\, 28173\, United States
CATEGORIES:Women's Ministry
END:VEVENT
BEGIN:VEVENT
DTSTART;TZID=America/New_York:20211113T090000
DTEND;TZID=America/New_York:20211113T100000
DTSTAMP:20260425T114613
CREATED:20211019T181746Z
LAST-MODIFIED:20211118T183931Z
UID:5305-1636794000-1636797600@fbcw.com
SUMMARY:Women's Ministry Monthly Prayer Walk
DESCRIPTION:All the women of the church are invited to join us on the second Saturday of every month at 8am as we prayer walk around the church.  If you would prefer not to walk\, we will have a group praying inside as well.  We will lift up prayers of the church\, pray for those that drive by our church\, and pray for God to boldly transform our community\, our country\, and the world!  Come be a part of this special time of prayer and fellowship.  If you have any questions\, please reach out to Denise Castano. \n  \n 
URL:https://fbcw.com/event/mens-bible-study-copy-copy-copy-copy-copy-copy-copy-copy-copy-copy-copy-copy-copy-copy-copy-copy-copy-copy-copy-copy-copy-copy-copy-copy-copy-copy-copy-copy-copy-copy-copy-copy-copy-copy-copy-3-cop-70/
LOCATION:First Baptist Church of Weddington\, 348 Providence Road South\, Weddington\, NC\, 28173\, United States
CATEGORIES:Women's Ministry
END:VEVENT
BEGIN:VEVENT
DTSTART;TZID=America/New_York:20211009T080000
DTEND;TZID=America/New_York:20211009T210000
DTSTAMP:20260425T114613
CREATED:20210914T170621Z
LAST-MODIFIED:20210914T170652Z
UID:5242-1633766400-1633813200@fbcw.com
SUMMARY:Women's Ministry Monthly Prayer Walk
DESCRIPTION:All the women of the church are invited to join us on the second Saturday of every month at 8am as we prayer walk around the church.  If you would prefer not to walk\, we will have a group praying inside as well.  We will lift up prayers of the church\, pray for those that drive by our church\, and pray for God to boldly transform our community\, our country\, and the world!  Come be a part of this special time of prayer and fellowship.  If you have any questions\, please reach out to Denise Castano. \n  \n 
URL:https://fbcw.com/event/mens-bible-study-copy-copy-copy-copy-copy-copy-copy-copy-copy-copy-copy-copy-copy-copy-copy-copy-copy-copy-copy-copy-copy-copy-copy-copy-copy-copy-copy-copy-copy-copy-copy-copy-copy-copy-copy-3-cop-69/
LOCATION:First Baptist Church of Weddington\, 348 Providence Road South\, Weddington\, NC\, 28173\, United States
CATEGORIES:Women's Ministry
END:VEVENT
BEGIN:VEVENT
DTSTART;TZID=America/New_York:20210911T080000
DTEND;TZID=America/New_York:20210911T210000
DTSTAMP:20260425T114613
CREATED:20210819T154718Z
LAST-MODIFIED:20210819T154751Z
UID:5163-1631347200-1631394000@fbcw.com
SUMMARY:Women's Ministry Monthly Prayer Walk
DESCRIPTION:All the women of the church are invited to join us on the second Saturday of every month at 8am as we prayer walk around the church.  If you would prefer not to walk\, we will have a group praying inside as well.  We will lift up prayers of the church\, pray for those that drive by our church\, and pray for God to boldly transform our community\, our country\, and the world!  Come be a part of this special time of prayer and fellowship.  If you have any questions\, please reach out to Denise Castano. \n  \n 
URL:https://fbcw.com/event/mens-bible-study-copy-copy-copy-copy-copy-copy-copy-copy-copy-copy-copy-copy-copy-copy-copy-copy-copy-copy-copy-copy-copy-copy-copy-copy-copy-copy-copy-copy-copy-copy-copy-copy-copy-copy-copy-3-cop-64/
LOCATION:First Baptist Church of Weddington\, 348 Providence Road South\, Weddington\, NC\, 28173\, United States
CATEGORIES:Women's Ministry
END:VEVENT
BEGIN:VEVENT
DTSTART;TZID=America/New_York:20210814T080000
DTEND;TZID=America/New_York:20210814T210000
DTSTAMP:20260425T114613
CREATED:20210708T142221Z
LAST-MODIFIED:20210708T142246Z
UID:5079-1628928000-1628974800@fbcw.com
SUMMARY:Women's Ministry Monthly Prayer Walk
DESCRIPTION:All the women of the church are invited to join us on the second Saturday of every month at 8am as we prayer walk around the church.  If you would prefer not to walk\, we will have a group praying inside as well.  We will lift up prayers of the church\, pray for those that drive by our church\, and pray for God to boldly transform our community\, our country\, and the world!  Come be a part of this special time of prayer and fellowship.  If you have any questions\, please reach out to Denise Castano. \n  \n 
URL:https://fbcw.com/event/mens-bible-study-copy-copy-copy-copy-copy-copy-copy-copy-copy-copy-copy-copy-copy-copy-copy-copy-copy-copy-copy-copy-copy-copy-copy-copy-copy-copy-copy-copy-copy-copy-copy-copy-copy-copy-copy-3-cop-58/
LOCATION:First Baptist Church of Weddington\, 348 Providence Road South\, Weddington\, NC\, 28173\, United States
CATEGORIES:Women's Ministry
END:VEVENT
BEGIN:VEVENT
DTSTART;TZID=America/New_York:20210710T080000
DTEND;TZID=America/New_York:20210710T210000
DTSTAMP:20260425T114613
CREATED:20210609T184944Z
LAST-MODIFIED:20210610T182150Z
UID:4973-1625904000-1625950800@fbcw.com
SUMMARY:Women's Ministry Monthly Prayer Walk
DESCRIPTION:All the women of the church are invited to join us on the second Saturday of every month at 8am as we prayer walk around the church.  If you would prefer not to walk\, we will have a group praying inside as well.  We will lift up prayers of the church\, pray for those that drive by our church\, and pray for God to boldly transform our community\, our country\, and the world!  Come be a part of this special time of prayer and fellowship.  If you have any questions\, please reach out to Denise Castano. \n  \n 
URL:https://fbcw.com/event/mens-bible-study-copy-copy-copy-copy-copy-copy-copy-copy-copy-copy-copy-copy-copy-copy-copy-copy-copy-copy-copy-copy-copy-copy-copy-copy-copy-copy-copy-copy-copy-copy-copy-copy-copy-copy-copy-3-cop-52/
LOCATION:First Baptist Church of Weddington\, 348 Providence Road South\, Weddington\, NC\, 28173\, United States
CATEGORIES:Women's Ministry
END:VEVENT
BEGIN:VEVENT
DTSTART;TZID=America/New_York:20210605T090000
DTEND;TZID=America/New_York:20210605T100000
DTSTAMP:20260425T114613
CREATED:20210512T171105Z
LAST-MODIFIED:20210512T171609Z
UID:4891-1622883600-1622887200@fbcw.com
SUMMARY:Ladies Fellowship
DESCRIPTION:All the women of the church are invited for a special time of fellowship here at the church on Saturday\, June 5th\, at 9am.  Bring your favorite cup of coffee and lawn chair!  We will meet outside\, weather permitting.  If you have any questions\, please reach out to Denise Castano.
URL:https://fbcw.com/event/ladies-fellowship-2/
LOCATION:NC
CATEGORIES:Women's Ministry
END:VEVENT
END:VCALENDAR