BEGIN:VCALENDAR
VERSION:2.0
PRODID:-//First Baptist Church of Weddington - ECPv6.15.20//NONSGML v1.0//EN
CALSCALE:GREGORIAN
METHOD:PUBLISH
X-ORIGINAL-URL:https://fbcw.com
X-WR-CALDESC:Events for First Baptist Church of Weddington
REFRESH-INTERVAL;VALUE=DURATION:PT1H
X-Robots-Tag:noindex
X-PUBLISHED-TTL:PT1H
BEGIN:VTIMEZONE
TZID:America/New_York
BEGIN:DAYLIGHT
TZOFFSETFROM:-0500
TZOFFSETTO:-0400
TZNAME:EDT
DTSTART:20230312T070000
END:DAYLIGHT
BEGIN:STANDARD
TZOFFSETFROM:-0400
TZOFFSETTO:-0500
TZNAME:EST
DTSTART:20231105T060000
END:STANDARD
BEGIN:DAYLIGHT
TZOFFSETFROM:-0500
TZOFFSETTO:-0400
TZNAME:EDT
DTSTART:20240310T070000
END:DAYLIGHT
BEGIN:STANDARD
TZOFFSETFROM:-0400
TZOFFSETTO:-0500
TZNAME:EST
DTSTART:20241103T060000
END:STANDARD
BEGIN:DAYLIGHT
TZOFFSETFROM:-0500
TZOFFSETTO:-0400
TZNAME:EDT
DTSTART:20250309T070000
END:DAYLIGHT
BEGIN:STANDARD
TZOFFSETFROM:-0400
TZOFFSETTO:-0500
TZNAME:EST
DTSTART:20251102T060000
END:STANDARD
END:VTIMEZONE
BEGIN:VEVENT
DTSTART;TZID=America/New_York:20240511T100000
DTEND;TZID=America/New_York:20240511T113000
DTSTAMP:20260425T132801
CREATED:20240409T160449Z
LAST-MODIFIED:20240409T160502Z
UID:7510-1715421600-1715427000@fbcw.com
SUMMARY:Women's Bible Study
DESCRIPTION:Every 2nd Saturday of the month at 10am here at FBCW.  We will be studying the Book of James.  The workbook will be provided by the church. See Veronica Willard or Sharon Pinkham if you have any questions. \n 
URL:https://fbcw.com/event/womens-bible-study-2-copy-copy-2-copy-copy-copy-copy/
LOCATION:First Baptist Church of Weddington\, 348 Providence Road South\, Weddington\, NC\, 28173\, United States
CATEGORIES:Women's Ministry
END:VEVENT
BEGIN:VEVENT
DTSTART;TZID=America/New_York:20240518T130000
DTEND;TZID=America/New_York:20240518T150000
DTSTAMP:20260425T132801
CREATED:20240319T171730Z
LAST-MODIFIED:20240319T171833Z
UID:7421-1716037200-1716044400@fbcw.com
SUMMARY:Ladies Tea
DESCRIPTION:All the ladies of the church are invited to a Afternoon Tea on Saturday\, May 18th\, at 1pm. Hats are requested.  Please RSVP by signing up on our APP or the church bulletin board. If you have any questions\, please call Mary Beaver or Betty Carns.
URL:https://fbcw.com/event/ladies-tea-2-copy/
LOCATION:First Baptist Church of Weddington\, 348 Providence Road South\, Weddington\, NC\, 28173\, United States
CATEGORIES:Women's Ministry
END:VEVENT
END:VCALENDAR