BEGIN:VCALENDAR
VERSION:2.0
PRODID:-//First Baptist Church of Weddington - ECPv6.15.20//NONSGML v1.0//EN
CALSCALE:GREGORIAN
METHOD:PUBLISH
X-ORIGINAL-URL:https://fbcw.com
X-WR-CALDESC:Events for First Baptist Church of Weddington
REFRESH-INTERVAL;VALUE=DURATION:PT1H
X-Robots-Tag:noindex
X-PUBLISHED-TTL:PT1H
BEGIN:VTIMEZONE
TZID:America/New_York
BEGIN:DAYLIGHT
TZOFFSETFROM:-0500
TZOFFSETTO:-0400
TZNAME:EDT
DTSTART:20190310T070000
END:DAYLIGHT
BEGIN:STANDARD
TZOFFSETFROM:-0400
TZOFFSETTO:-0500
TZNAME:EST
DTSTART:20191103T060000
END:STANDARD
BEGIN:DAYLIGHT
TZOFFSETFROM:-0500
TZOFFSETTO:-0400
TZNAME:EDT
DTSTART:20200308T070000
END:DAYLIGHT
BEGIN:STANDARD
TZOFFSETFROM:-0400
TZOFFSETTO:-0500
TZNAME:EST
DTSTART:20201101T060000
END:STANDARD
BEGIN:DAYLIGHT
TZOFFSETFROM:-0500
TZOFFSETTO:-0400
TZNAME:EDT
DTSTART:20210314T070000
END:DAYLIGHT
BEGIN:STANDARD
TZOFFSETFROM:-0400
TZOFFSETTO:-0500
TZNAME:EST
DTSTART:20211107T060000
END:STANDARD
BEGIN:DAYLIGHT
TZOFFSETFROM:-0500
TZOFFSETTO:-0400
TZNAME:EDT
DTSTART:20220313T070000
END:DAYLIGHT
BEGIN:STANDARD
TZOFFSETFROM:-0400
TZOFFSETTO:-0500
TZNAME:EST
DTSTART:20221106T060000
END:STANDARD
BEGIN:DAYLIGHT
TZOFFSETFROM:-0500
TZOFFSETTO:-0400
TZNAME:EDT
DTSTART:20230312T070000
END:DAYLIGHT
BEGIN:STANDARD
TZOFFSETFROM:-0400
TZOFFSETTO:-0500
TZNAME:EST
DTSTART:20231105T060000
END:STANDARD
END:VTIMEZONE
BEGIN:VTIMEZONE
TZID:America/New_York
BEGIN:DAYLIGHT
TZOFFSETFROM:-0500
TZOFFSETTO:-0400
TZNAME:EDT
DTSTART:20190310T070000
END:DAYLIGHT
BEGIN:STANDARD
TZOFFSETFROM:-0400
TZOFFSETTO:-0500
TZNAME:EST
DTSTART:20191103T060000
END:STANDARD
BEGIN:DAYLIGHT
TZOFFSETFROM:-0500
TZOFFSETTO:-0400
TZNAME:EDT
DTSTART:20200308T070000
END:DAYLIGHT
BEGIN:STANDARD
TZOFFSETFROM:-0400
TZOFFSETTO:-0500
TZNAME:EST
DTSTART:20201101T060000
END:STANDARD
BEGIN:DAYLIGHT
TZOFFSETFROM:-0500
TZOFFSETTO:-0400
TZNAME:EDT
DTSTART:20210314T070000
END:DAYLIGHT
BEGIN:STANDARD
TZOFFSETFROM:-0400
TZOFFSETTO:-0500
TZNAME:EST
DTSTART:20211107T060000
END:STANDARD
BEGIN:DAYLIGHT
TZOFFSETFROM:-0500
TZOFFSETTO:-0400
TZNAME:EDT
DTSTART:20220313T070000
END:DAYLIGHT
BEGIN:STANDARD
TZOFFSETFROM:-0400
TZOFFSETTO:-0500
TZNAME:EST
DTSTART:20221106T060000
END:STANDARD
END:VTIMEZONE
BEGIN:VTIMEZONE
TZID:UTC
BEGIN:STANDARD
TZOFFSETFROM:+0000
TZOFFSETTO:+0000
TZNAME:UTC
DTSTART:20180101T000000
END:STANDARD
END:VTIMEZONE
BEGIN:VEVENT
DTSTART;TZID=America/New_York:20220315T113000
DTEND;TZID=America/New_York:20220315T130000
DTSTAMP:20260423T231202
CREATED:20220216T201441Z
LAST-MODIFIED:20220216T201441Z
UID:5567-1647343800-1647349200@fbcw.com
SUMMARY:Senior Adult Lunch
DESCRIPTION:The Senior Adults are planning to meet for lunch at Panera Bread Waverly on Tuesday\, March 15th\, at 11:30am.  All are welcome.  Please sign up on the bulletin board if you plan on attending.  If you need additional information\, please contact Sally or Frank Burroughs.
URL:https://fbcw.com/event/senior-adult-lunch-2/
LOCATION:Panera Bread\, Waverly Shopping Center
CATEGORIES:Senior Adults
END:VEVENT
BEGIN:VEVENT
DTSTART;TZID=America/New_York:20211112T113000
DTEND;TZID=America/New_York:20211112T130000
DTSTAMP:20260423T231202
CREATED:20211011T183407Z
LAST-MODIFIED:20211011T183407Z
UID:5281-1636716600-1636722000@fbcw.com
SUMMARY:Diamond Set
DESCRIPTION:The Senior Adults are planning to meet at the church on Friday\, November 12th\, at 11:30 AM for soup\, salad and scripture. We will have soup and attendees will bring their favorite salad (potluck style) or dessert.  No one else should be in the church and we plan to socially distant.  Frank and Sally Burroughs will show highlights of their recent Egypt and Nile River trip.  All are welcome.  Please sign up on the bulletin board near the kitchen with what you plan to bring so we do not have too many duplicates. If you need additional information or would like to attend\, call Sally or Frank Burroughs.
URL:https://fbcw.com/event/diamond-set-4/
LOCATION:First Baptist Church of Weddington\, 348 Providence Road South\, Weddington\, NC\, 28173\, United States
CATEGORIES:Senior Adults
END:VEVENT
BEGIN:VEVENT
DTSTART;TZID=America/New_York:20211007T113000
DTEND;TZID=America/New_York:20211007T133000
DTSTAMP:20260423T231202
CREATED:20210913T150823Z
LAST-MODIFIED:20210913T151211Z
UID:5185-1633606200-1633613400@fbcw.com
SUMMARY:Diamond Set Picnic
DESCRIPTION:The Diamond Set will meet at 11:30am for a picnic at Colonel Francis Beatty Park on Thursday\, October 7th.  Burgers will be provided and attendees will bring side dishes.  Please sign up on the church bulletin board if you plan on attending.  The park address is 4330 Weddington Road\, Matthews\, NC 28105.  If you have any questions\, you may call Sally or Frank Burroughs.
URL:https://fbcw.com/event/diamond-set-picnic-copy-2/
LOCATION:Colonel Francis Beatty Park\, 4330 Weddington Rd.\, Matthews\, NC\, 28105\, United States
CATEGORIES:Senior Adults
END:VEVENT
BEGIN:VEVENT
DTSTART;TZID=America/New_York:20210609T100000
DTEND;TZID=America/New_York:20210609T140000
DTSTAMP:20260423T231202
CREATED:20210519T132542Z
LAST-MODIFIED:20210519T132806Z
UID:4898-1623232800-1623247200@fbcw.com
SUMMARY:Diamond Set
DESCRIPTION:The Diamond Set will meet at the church at 10:00am on June 9th and carpool to the Daniel Stowe Botanical Gardens in Belmont. Admission is $12.95 for seniors.  Please plan to bring a bagged lunch and we will picnic at the gardens after our tour.  Please sign up on the bulletin board so we will know who will be attending. If you have any questions\, you may call Frank or Sally Burroughs.
URL:https://fbcw.com/event/diamond-set-picnic-copy/
CATEGORIES:Senior Adults
END:VEVENT
BEGIN:VEVENT
DTSTART;TZID=America/New_York:20210513T113000
DTEND;TZID=America/New_York:20210513T133000
DTSTAMP:20260423T231202
CREATED:20210512T161643Z
LAST-MODIFIED:20210512T161643Z
UID:4839-1620905400-1620912600@fbcw.com
SUMMARY:Diamond Set Picnic
DESCRIPTION:The Diamond Set will meet at 11:30 for a picnic at Colonel Francis Beatty Park on Thursday\, May 13th.  The park provides a sheltered picnic area\, so we will meet rain or shine.  Burgers will be provided and attendees will bring side dishes.  Please sign up on the sheet located in the church hallway outside the kitchen\, so we will know who is attending and what side dish you will bring.  If you have any questions\, you may call Frank or Sally Burroughs.
URL:https://fbcw.com/event/diamond-set-picnic/
CATEGORIES:Senior Adults
END:VEVENT
BEGIN:VEVENT
DTSTART;TZID=America/New_York:20210416T113000
DTEND;TZID=America/New_York:20210416T130000
DTSTAMP:20260423T231202
CREATED:20210325T141015Z
LAST-MODIFIED:20210329T132718Z
UID:4667-1618572600-1618578000@fbcw.com
SUMMARY:Senior Adult Lunch
DESCRIPTION:The Senior Adults are planning to meet at the church on Friday\, April 16th\, at 11:30am for soup\, salad and scripture. We will have soup and attendees will bring their favorite salad (potluck style). Pastor Jordon’s wife Veronica will join us\, allowing everyone to talk with her in a small group and get to know her better. No one else should be in the church and we plan to socially distant with masks. This is an opportunity to visit and have fellowship. All are welcome.  If you need additional information or would like to attend\, call Sally or Frank Burroughs.
URL:https://fbcw.com/event/senior-adult-lunch-copy/
LOCATION:First Baptist Church of Weddington\, 348 Providence Road South\, Weddington\, NC\, 28173\, United States
CATEGORIES:Senior Adults
END:VEVENT
BEGIN:VEVENT
DTSTART;TZID=America/New_York:20210312T110000
DTEND;TZID=America/New_York:20210312T123000
DTSTAMP:20260423T231202
CREATED:20210303T175145Z
LAST-MODIFIED:20210303T175145Z
UID:4634-1615546800-1615552200@fbcw.com
SUMMARY:Senior Adult Lunch
DESCRIPTION:The Senior Adults are planning to meet at the church on Friday\, March 12th\, at 11:00am for soup\, salad and scripture. We will have soup and attendees will bring their favorite salad (potluck style). Pastor Jordan will join us\, allowing everyone to talk with him in a small group and get know him better. No one else should be in the church and we plan to socially distant with masks. This is an opportunity to visit and have fellowship. If you need additional information or would like to attend\, call Sally or Frank Burroughs.
URL:https://fbcw.com/event/senior-adult-lunch/
LOCATION:First Baptist Church of Weddington\, 348 Providence Road South\, Weddington\, NC\, 28173\, United States
CATEGORIES:Senior Adults
END:VEVENT
BEGIN:VEVENT
DTSTART;TZID=America/New_York:20210219T093000
DTEND;TZID=America/New_York:20210219T103000
DTSTAMP:20260423T231202
CREATED:20210118T175544Z
LAST-MODIFIED:20210118T175544Z
UID:4395-1613727000-1613730600@fbcw.com
SUMMARY:Senior Adult Event
DESCRIPTION:The Senior Adults are planning to meet at the church\, Friday\, February 19\, at 9:30am to assemble bag lunches for the homeless. No one else should be in the church and we plan to be socially distant with masks. This is an opportunity to visit and have fellowship while helping the less fortunate If you need additional information or would like to attend\, call Sally or Frank Burroughs.
URL:https://fbcw.com/event/senior-adult-event/
LOCATION:First Baptist Church of Weddington\, 348 Providence Road South\, Weddington\, NC\, 28173\, United States
CATEGORIES:Senior Adults
END:VEVENT
BEGIN:VEVENT
DTSTART;TZID=America/New_York:20201120T100000
DTEND;TZID=America/New_York:20201120T110000
DTSTAMP:20260423T231202
CREATED:20201028T174756Z
LAST-MODIFIED:20201028T174756Z
UID:4229-1605866400-1605870000@fbcw.com
SUMMARY:Senior Adult Gathering
DESCRIPTION:The Senior Adults are planning to meet in the church sanctuary\, Friday\, November 20\, at 10am.  No one else should be in the church and we plan to be socially distant with masks with no more than 12 expected.  Many of us have not seen each other for over 8 months and this is an opportunity to visit and have fellowship.  If you need additional information or would like to attend\, call Sally or Frank Burroughs.
URL:https://fbcw.com/event/senior-adult-gathering/
CATEGORIES:Senior Adults
END:VEVENT
BEGIN:VEVENT
DTSTART;TZID=America/New_York:20200317T113000
DTEND;TZID=America/New_York:20200317T140000
DTSTAMP:20260423T231202
CREATED:20200220T185751Z
LAST-MODIFIED:20200318T160629Z
UID:3322-1584444600-1584453600@fbcw.com
SUMMARY:Diamond Set  - Canceled
DESCRIPTION:Event has been canceled. \n 
URL:https://fbcw.com/event/diamond-set-lunch-and-a-movie/
LOCATION:First Baptist Church of Weddington\, 348 Providence Road South\, Weddington\, NC\, 28173\, United States
CATEGORIES:Senior Adults
END:VEVENT
BEGIN:VEVENT
DTSTART;TZID=America/New_York:20200212T113000
DTEND;TZID=America/New_York:20200212T133000
DTSTAMP:20260423T231202
CREATED:20200120T194723Z
LAST-MODIFIED:20200120T194723Z
UID:3206-1581507000-1581514200@fbcw.com
SUMMARY:Diamond Set
DESCRIPTION:Plans are to see the movie Amazing Love at the home of Frank and Sally Burroughs on Wednesday\, February 12th.  We will have soup and salad at 11:30am\, followed with the movie. Please sign up on the bulletin board if you plan on attending so the proper amount of food can be prepared.  If you have and questions call Frank Burroughs.
URL:https://fbcw.com/event/diamond-set-3/
CATEGORIES:Senior Adults
END:VEVENT
BEGIN:VEVENT
DTSTART;TZID=America/New_York:20200108T113000
DTEND;TZID=America/New_York:20200108T150000
DTSTAMP:20260423T231202
CREATED:20191219T174021Z
LAST-MODIFIED:20191219T174021Z
UID:3075-1578483000-1578495600@fbcw.com
SUMMARY:Diamond Set
DESCRIPTION:Plans are to see the movie It’s A Beautiful Day in the Neighborhood at Regal Stonecrest Movie theater on Wednesday\, January 8th. Times for the movie have not been released yet\, but plans are to meet at True Pizza at 11:30am for lunch and then go to the movie. Please sign up on the bulletin board so you can be updated as details are finalized later. If you have and questions please call Frank Burroughs. \n 
URL:https://fbcw.com/event/diamond-set-2/
CATEGORIES:Senior Adults
END:VEVENT
BEGIN:VEVENT
DTSTART;TZID=UTC:20191013T000000
DTEND;TZID=UTC:20191013T160000
DTSTAMP:20260423T231202
CREATED:20190930T233415Z
LAST-MODIFIED:20190930T233415Z
UID:2850-1570924800-1570982400@fbcw.com
SUMMARY:Diamond Set
DESCRIPTION:The Diamond Set is planning to go to the play\, Lord of Light by Narroway Productions in Fort Mill. The  matinee is at 2pm on October 13th. Plans are to carpool after church and get lunch somewhere near the venue. The price is $27 for seniors (55+)\, $29 for adults\, $18.00 for students (13-18) and $14.50 for 12 and under. All are invited. Please call Frank Burroughs @ 704-849-0032 before October 2nd if interested\, so seats together can be reserved.  A sign-up sheet is on the Bulletin Board. \n 
URL:https://fbcw.com/event/diamond-set/
CATEGORIES:Fellowship Activities,Senior Adults
END:VEVENT
BEGIN:VEVENT
DTSTART;TZID=UTC:20190911T110000
DTEND;TZID=UTC:20190911T130000
DTSTAMP:20260423T231202
CREATED:20190828T220250Z
LAST-MODIFIED:20190828T220250Z
UID:2644-1568199600-1568206800@fbcw.com
SUMMARY:Diamond Set Picnic Lunch
DESCRIPTION:The Diamond set will meet for a picnic lunch on Wednesday\, September 11th\, at Colonel Francis Beatty Park in Matthews at 11:00am. The address is 4330 Weddington Rd. We will meet at shelter #1\, overlooking the lake. Burgers and grilled chicken will be provided. Everyone is asked to bring a side item or drink to share. Please sign up on the bulletin board if you plan on attending. Contact Frank Burroughs if you have any questions.
URL:https://fbcw.com/event/diamond-set-picnic-lunch/
CATEGORIES:Senior Adults
END:VEVENT
END:VCALENDAR