BEGIN:VCALENDAR
VERSION:2.0
PRODID:-//First Baptist Church of Weddington - ECPv6.15.20//NONSGML v1.0//EN
CALSCALE:GREGORIAN
METHOD:PUBLISH
X-ORIGINAL-URL:https://fbcw.com
X-WR-CALDESC:Events for First Baptist Church of Weddington
REFRESH-INTERVAL;VALUE=DURATION:PT1H
X-Robots-Tag:noindex
X-PUBLISHED-TTL:PT1H
BEGIN:VTIMEZONE
TZID:America/New_York
BEGIN:DAYLIGHT
TZOFFSETFROM:-0500
TZOFFSETTO:-0400
TZNAME:EDT
DTSTART:20240310T070000
END:DAYLIGHT
BEGIN:STANDARD
TZOFFSETFROM:-0400
TZOFFSETTO:-0500
TZNAME:EST
DTSTART:20241103T060000
END:STANDARD
BEGIN:DAYLIGHT
TZOFFSETFROM:-0500
TZOFFSETTO:-0400
TZNAME:EDT
DTSTART:20250309T070000
END:DAYLIGHT
BEGIN:STANDARD
TZOFFSETFROM:-0400
TZOFFSETTO:-0500
TZNAME:EST
DTSTART:20251102T060000
END:STANDARD
BEGIN:DAYLIGHT
TZOFFSETFROM:-0500
TZOFFSETTO:-0400
TZNAME:EDT
DTSTART:20260308T070000
END:DAYLIGHT
BEGIN:STANDARD
TZOFFSETFROM:-0400
TZOFFSETTO:-0500
TZNAME:EST
DTSTART:20261101T060000
END:STANDARD
BEGIN:DAYLIGHT
TZOFFSETFROM:-0500
TZOFFSETTO:-0400
TZNAME:EDT
DTSTART:20270314T070000
END:DAYLIGHT
BEGIN:STANDARD
TZOFFSETFROM:-0400
TZOFFSETTO:-0500
TZNAME:EST
DTSTART:20271107T060000
END:STANDARD
END:VTIMEZONE
BEGIN:VEVENT
DTSTART;TZID=America/New_York:20251224T183000
DTEND;TZID=America/New_York:20251224T200000
DTSTAMP:20260425T084609
CREATED:20251208T153052Z
LAST-MODIFIED:20251208T153454Z
UID:9020-1766601000-1766606400@fbcw.com
SUMMARY:No Wednesday Evening Community Groups or Youth
DESCRIPTION:Our Wednesday’s evening community groups and youth will break till January.
URL:https://fbcw.com/event/wednesday-evening-community-groups-copy-copy-copy-copy-copy-copy-copy-copy-copy-copy-copy-copy-2-copy-copy-copy-copy-copy-copy-copy-copy-copy-copy-copy-copy-copy-copy-copy-copy-copy-copy-copy-copy-1-3/
CATEGORIES:Bible Study,Prayer
END:VEVENT
BEGIN:VEVENT
DTSTART;TZID=America/New_York:20251231T183000
DTEND;TZID=America/New_York:20251231T200000
DTSTAMP:20260425T084609
CREATED:20251208T152945Z
LAST-MODIFIED:20251208T153439Z
UID:9018-1767205800-1767211200@fbcw.com
SUMMARY:No Wednesday Evening Community Groups or Youth
DESCRIPTION:Our Wednesday’s evening community groups and youth will break till January.
URL:https://fbcw.com/event/wednesday-evening-community-groups-copy-copy-copy-copy-copy-copy-copy-copy-copy-copy-copy-copy-2-copy-copy-copy-copy-copy-copy-copy-copy-copy-copy-copy-copy-copy-copy-copy-copy-copy-copy-copy-copy-1-2/
CATEGORIES:Bible Study,Prayer
END:VEVENT
BEGIN:VEVENT
DTSTART;TZID=America/New_York:20260128T183000
DTEND;TZID=America/New_York:20260128T200000
DTSTAMP:20260425T084609
CREATED:20260121T193220Z
LAST-MODIFIED:20260121T193947Z
UID:9111-1769625000-1769630400@fbcw.com
SUMMARY:Wednesday Evening Community Groups
DESCRIPTION:Women’s Community Group – 1st & 3rd Wednesdays (6:30pm)\nMen’s Community Group – 2nd & 4th Wednesdays (7pm)\nWe have started two community groups – one for men and one for women. The groups will be going through IMB’s study\, “Deepen Discipleship” and praying together. With this study\, you’ll spend time reading and meditating on Scripture and using key questions for self-reflection each day. Come be a part of one of these groups!
URL:https://fbcw.com/event/wednesday-evening-community-groups-copy-copy-copy-copy-copy-copy-copy-copy-copy-copy-copy-copy-2-copy-copy-copy-copy-copy-copy-copy-copy-copy-copy-copy-copy-copy-copy-copy-copy-copy-copy-copy-copy-c-7/
CATEGORIES:Bible Study,Prayer
END:VEVENT
BEGIN:VEVENT
DTSTART;TZID=America/New_York:20260204T183000
DTEND;TZID=America/New_York:20260204T200000
DTSTAMP:20260425T084609
CREATED:20260121T193953Z
LAST-MODIFIED:20260121T194005Z
UID:9113-1770229800-1770235200@fbcw.com
SUMMARY:Wednesday Evening Community Groups
DESCRIPTION:Women’s Community Group – 1st & 3rd Wednesdays (6:30pm)\nMen’s Community Group – 2nd & 4th Wednesdays (7pm)\nWe have started two community groups – one for men and one for women. The groups will be going through IMB’s study\, “Deepen Discipleship” and praying together. With this study\, you’ll spend time reading and meditating on Scripture and using key questions for self-reflection each day. Come be a part of one of these groups!
URL:https://fbcw.com/event/wednesday-evening-community-groups-copy-copy-copy-copy-copy-copy-copy-copy-copy-copy-copy-copy-2-copy-copy-copy-copy-copy-copy-copy-copy-copy-copy-copy-copy-copy-copy-copy-copy-copy-copy-copy-copy-11/
CATEGORIES:Bible Study,Prayer
END:VEVENT
BEGIN:VEVENT
DTSTART;TZID=America/New_York:20260211T183000
DTEND;TZID=America/New_York:20260211T200000
DTSTAMP:20260425T084609
CREATED:20260121T194011Z
LAST-MODIFIED:20260121T194022Z
UID:9115-1770834600-1770840000@fbcw.com
SUMMARY:Wednesday Evening Community Groups
DESCRIPTION:Women’s Community Group – 1st & 3rd Wednesdays (6:30pm)\nMen’s Community Group – 2nd & 4th Wednesdays (7pm)\nWe have started two community groups – one for men and one for women. The groups will be going through IMB’s study\, “Deepen Discipleship” and praying together. With this study\, you’ll spend time reading and meditating on Scripture and using key questions for self-reflection each day. Come be a part of one of these groups!
URL:https://fbcw.com/event/wednesday-evening-community-groups-copy-copy-copy-copy-copy-copy-copy-copy-copy-copy-copy-copy-2-copy-copy-copy-copy-copy-copy-copy-copy-copy-copy-copy-copy-copy-copy-copy-copy-copy-copy-copy-copy-1-4/
CATEGORIES:Bible Study,Prayer
END:VEVENT
BEGIN:VEVENT
DTSTART;TZID=America/New_York:20260218T183000
DTEND;TZID=America/New_York:20260218T200000
DTSTAMP:20260425T084609
CREATED:20260121T194027Z
LAST-MODIFIED:20260121T194058Z
UID:9117-1771439400-1771444800@fbcw.com
SUMMARY:Wednesday Evening Community Groups
DESCRIPTION:Women’s Community Group – 1st & 3rd Wednesdays (6:30pm)\nMen’s Community Group – 2nd & 4th Wednesdays (7pm)\nWe have started two community groups – one for men and one for women. The groups will be going through IMB’s study\, “Deepen Discipleship” and praying together. With this study\, you’ll spend time reading and meditating on Scripture and using key questions for self-reflection each day. Come be a part of one of these groups!
URL:https://fbcw.com/event/wednesday-evening-community-groups-copy-copy-copy-copy-copy-copy-copy-copy-copy-copy-copy-copy-2-copy-copy-copy-copy-copy-copy-copy-copy-copy-copy-copy-copy-copy-copy-copy-copy-copy-copy-copy-copy-1-5/
CATEGORIES:Bible Study,Prayer
END:VEVENT
BEGIN:VEVENT
DTSTART;TZID=America/New_York:20260225T183000
DTEND;TZID=America/New_York:20260225T200000
DTSTAMP:20260425T084609
CREATED:20260121T194103Z
LAST-MODIFIED:20260121T194116Z
UID:9119-1772044200-1772049600@fbcw.com
SUMMARY:Wednesday Evening Community Groups
DESCRIPTION:Women’s Community Group – 1st & 3rd Wednesdays (6:30pm)\nMen’s Community Group – 2nd & 4th Wednesdays (7pm)\nWe have started two community groups – one for men and one for women. The groups will be going through IMB’s study\, “Deepen Discipleship” and praying together. With this study\, you’ll spend time reading and meditating on Scripture and using key questions for self-reflection each day. Come be a part of one of these groups!
URL:https://fbcw.com/event/wednesday-evening-community-groups-copy-copy-copy-copy-copy-copy-copy-copy-copy-copy-copy-copy-2-copy-copy-copy-copy-copy-copy-copy-copy-copy-copy-copy-copy-copy-copy-copy-copy-copy-copy-copy-copy-1-6/
CATEGORIES:Bible Study,Prayer
END:VEVENT
BEGIN:VEVENT
DTSTART;VALUE=DATE:20260301
DTEND;VALUE=DATE:20260309
DTSTAMP:20260425T084609
CREATED:20260210T183123Z
LAST-MODIFIED:20260210T183143Z
UID:9162-1772323200-1773014399@fbcw.com
SUMMARY:Week Of Prayer - Annie Armstrong Easter Offering
DESCRIPTION:
URL:https://fbcw.com/event/week-of-prayer-annie-armstrong-easter-offering-copy-copy-copy/
LOCATION:First Baptist Church of Weddington\, 348 Providence Road South\, Weddington\, NC\, 28173\, United States
CATEGORIES:Outreach,Prayer
END:VEVENT
BEGIN:VEVENT
DTSTART;TZID=America/New_York:20260304T183000
DTEND;TZID=America/New_York:20260304T200000
DTSTAMP:20260425T084609
CREATED:20260210T193959Z
LAST-MODIFIED:20260210T194101Z
UID:9166-1772649000-1772654400@fbcw.com
SUMMARY:Wednesday Evening Community Groups
DESCRIPTION:Women’s Community Group – 1st & 3rd Wednesdays (6:30pm)\nMen’s Community Group – 2nd & 4th Wednesdays (7pm)\nWe have started two community groups – one for men and one for women. The groups will be going through IMB’s study\, “Deepen Discipleship” and praying together. With this study\, you’ll spend time reading and meditating on Scripture and using key questions for self-reflection each day. Come be a part of one of these groups!
URL:https://fbcw.com/event/wednesday-evening-community-groups-copy-copy-copy-copy-copy-copy-copy-copy-copy-copy-copy-copy-2-copy-copy-copy-copy-copy-copy-copy-copy-copy-copy-copy-copy-copy-copy-copy-copy-copy-copy-copy-copy-1-7/
CATEGORIES:Bible Study,Prayer
END:VEVENT
BEGIN:VEVENT
DTSTART;TZID=America/New_York:20260311T183000
DTEND;TZID=America/New_York:20260311T200000
DTSTAMP:20260425T084609
CREATED:20260210T194117Z
LAST-MODIFIED:20260210T194128Z
UID:9168-1773253800-1773259200@fbcw.com
SUMMARY:Wednesday Evening Community Groups
DESCRIPTION:Women’s Community Group – 1st & 3rd Wednesdays (6:30pm)\nMen’s Community Group – 2nd & 4th Wednesdays (7pm)\nWe have started two community groups – one for men and one for women. The groups will be going through IMB’s study\, “Deepen Discipleship” and praying together. With this study\, you’ll spend time reading and meditating on Scripture and using key questions for self-reflection each day. Come be a part of one of these groups!
URL:https://fbcw.com/event/wednesday-evening-community-groups-copy-copy-copy-copy-copy-copy-copy-copy-copy-copy-copy-copy-2-copy-copy-copy-copy-copy-copy-copy-copy-copy-copy-copy-copy-copy-copy-copy-copy-copy-copy-copy-copy-1-8/
CATEGORIES:Bible Study,Prayer
END:VEVENT
BEGIN:VEVENT
DTSTART;TZID=America/New_York:20260318T183000
DTEND;TZID=America/New_York:20260318T200000
DTSTAMP:20260425T084609
CREATED:20260210T194135Z
LAST-MODIFIED:20260210T194147Z
UID:9170-1773858600-1773864000@fbcw.com
SUMMARY:Wednesday Evening Community Groups
DESCRIPTION:Women’s Community Group – 1st & 3rd Wednesdays (6:30pm)\nMen’s Community Group – 2nd & 4th Wednesdays (7pm)\nWe have started two community groups – one for men and one for women. The groups will be going through IMB’s study\, “Deepen Discipleship” and praying together. With this study\, you’ll spend time reading and meditating on Scripture and using key questions for self-reflection each day. Come be a part of one of these groups!
URL:https://fbcw.com/event/wednesday-evening-community-groups-copy-copy-copy-copy-copy-copy-copy-copy-copy-copy-copy-copy-2-copy-copy-copy-copy-copy-copy-copy-copy-copy-copy-copy-copy-copy-copy-copy-copy-copy-copy-copy-copy-1-9/
CATEGORIES:Bible Study,Prayer
END:VEVENT
BEGIN:VEVENT
DTSTART;TZID=America/New_York:20260325T183000
DTEND;TZID=America/New_York:20260325T200000
DTSTAMP:20260425T084609
CREATED:20260210T195535Z
LAST-MODIFIED:20260210T195547Z
UID:9172-1774463400-1774468800@fbcw.com
SUMMARY:Wednesday Evening Community Groups
DESCRIPTION:Women’s Community Group – 1st & 3rd Wednesdays (6:30pm)\nMen’s Community Group – 2nd & 4th Wednesdays (7pm)\nWe have started two community groups – one for men and one for women. The groups will be going through IMB’s study\, “Deepen Discipleship” and praying together. With this study\, you’ll spend time reading and meditating on Scripture and using key questions for self-reflection each day. Come be a part of one of these groups!
URL:https://fbcw.com/event/wednesday-evening-community-groups-copy-copy-copy-copy-copy-copy-copy-copy-copy-copy-copy-copy-2-copy-copy-copy-copy-copy-copy-copy-copy-copy-copy-copy-copy-copy-copy-copy-copy-copy-copy-copy-copy-12/
CATEGORIES:Bible Study,Prayer
END:VEVENT
BEGIN:VEVENT
DTSTART;TZID=America/New_York:20260401T183000
DTEND;TZID=America/New_York:20260401T200000
DTSTAMP:20260425T084609
CREATED:20260402T161452Z
LAST-MODIFIED:20260402T161513Z
UID:9277-1775068200-1775073600@fbcw.com
SUMMARY:Wednesday Evening Community Groups
DESCRIPTION:Women’s Community Group – 1st & 3rd Wednesdays (6:30pm)\nMen’s Community Group – 2nd & 4th Wednesdays (7pm)\nWe have started two community groups – one for men and one for women. The groups will be going through IMB’s study\, “Deepen Discipleship” and praying together. With this study\, you’ll spend time reading and meditating on Scripture and using key questions for self-reflection each day. Come be a part of one of these groups!
URL:https://fbcw.com/event/wednesday-evening-community-groups-copy-copy-copy-copy-copy-copy-copy-copy-copy-copy-copy-copy-2-copy-copy-copy-copy-copy-copy-copy-copy-copy-copy-copy-copy-copy-copy-copy-copy-copy-copy-copy-copy-13/
CATEGORIES:Bible Study,Prayer
END:VEVENT
BEGIN:VEVENT
DTSTART;TZID=America/New_York:20260408T183000
DTEND;TZID=America/New_York:20260408T203000
DTSTAMP:20260425T084609
CREATED:20260402T161719Z
LAST-MODIFIED:20260402T161800Z
UID:9287-1775673000-1775680200@fbcw.com
SUMMARY:No Wednesday Evening Community Groups or Youth
DESCRIPTION:
URL:https://fbcw.com/event/wednesday-evening-community-groups-copy-copy-copy-copy-copy-copy-copy-copy-copy-copy-copy-copy-copy-2-copy/
CATEGORIES:Bible Study,Prayer
END:VEVENT
BEGIN:VEVENT
DTSTART;TZID=America/New_York:20260415T183000
DTEND;TZID=America/New_York:20260415T200000
DTSTAMP:20260425T084609
CREATED:20260402T161536Z
LAST-MODIFIED:20260402T161547Z
UID:9279-1776277800-1776283200@fbcw.com
SUMMARY:Wednesday Evening Community Groups
DESCRIPTION:Women’s Community Group – 1st & 3rd Wednesdays (6:30pm)\nMen’s Community Group – 2nd & 4th Wednesdays (7pm)\nWe have started two community groups – one for men and one for women. The groups will be going through IMB’s study\, “Deepen Discipleship” and praying together. With this study\, you’ll spend time reading and meditating on Scripture and using key questions for self-reflection each day. Come be a part of one of these groups!
URL:https://fbcw.com/event/wednesday-evening-community-groups-copy-copy-copy-copy-copy-copy-copy-copy-copy-copy-copy-copy-2-copy-copy-copy-copy-copy-copy-copy-copy-copy-copy-copy-copy-copy-copy-copy-copy-copy-copy-copy-copy-14/
CATEGORIES:Bible Study,Prayer
END:VEVENT
BEGIN:VEVENT
DTSTART;TZID=America/New_York:20260422T183000
DTEND;TZID=America/New_York:20260422T200000
DTSTAMP:20260425T084609
CREATED:20260402T161553Z
LAST-MODIFIED:20260402T161607Z
UID:9281-1776882600-1776888000@fbcw.com
SUMMARY:Wednesday Evening Community Groups
DESCRIPTION:Women’s Community Group – 1st & 3rd Wednesdays (6:30pm)\nMen’s Community Group – 2nd & 4th Wednesdays (7pm)\nWe have started two community groups – one for men and one for women. The groups will be going through IMB’s study\, “Deepen Discipleship” and praying together. With this study\, you’ll spend time reading and meditating on Scripture and using key questions for self-reflection each day. Come be a part of one of these groups!
URL:https://fbcw.com/event/wednesday-evening-community-groups-copy-copy-copy-copy-copy-copy-copy-copy-copy-copy-copy-copy-2-copy-copy-copy-copy-copy-copy-copy-copy-copy-copy-copy-copy-copy-copy-copy-copy-copy-copy-copy-copy-15/
CATEGORIES:Bible Study,Prayer
END:VEVENT
BEGIN:VEVENT
DTSTART;TZID=America/New_York:20260429T183000
DTEND;TZID=America/New_York:20260429T200000
DTSTAMP:20260425T084609
CREATED:20260402T161613Z
LAST-MODIFIED:20260402T161627Z
UID:9283-1777487400-1777492800@fbcw.com
SUMMARY:Wednesday Evening Community Groups
DESCRIPTION:Women’s Community Group – 1st & 3rd Wednesdays (6:30pm)\nMen’s Community Group – 2nd & 4th Wednesdays (7pm)\nWe have started two community groups – one for men and one for women. The groups will be going through IMB’s study\, “Deepen Discipleship” and praying together. With this study\, you’ll spend time reading and meditating on Scripture and using key questions for self-reflection each day. Come be a part of one of these groups!
URL:https://fbcw.com/event/wednesday-evening-community-groups-copy-copy-copy-copy-copy-copy-copy-copy-copy-copy-copy-copy-2-copy-copy-copy-copy-copy-copy-copy-copy-copy-copy-copy-copy-copy-copy-copy-copy-copy-copy-copy-copy-16/
CATEGORIES:Bible Study,Prayer
END:VEVENT
END:VCALENDAR