BEGIN:VCALENDAR
VERSION:2.0
PRODID:-//First Baptist Church of Weddington - ECPv6.15.20//NONSGML v1.0//EN
CALSCALE:GREGORIAN
METHOD:PUBLISH
X-ORIGINAL-URL:https://fbcw.com
X-WR-CALDESC:Events for First Baptist Church of Weddington
REFRESH-INTERVAL;VALUE=DURATION:PT1H
X-Robots-Tag:noindex
X-PUBLISHED-TTL:PT1H
BEGIN:VTIMEZONE
TZID:America/New_York
BEGIN:DAYLIGHT
TZOFFSETFROM:-0500
TZOFFSETTO:-0400
TZNAME:EDT
DTSTART:20240310T070000
END:DAYLIGHT
BEGIN:STANDARD
TZOFFSETFROM:-0400
TZOFFSETTO:-0500
TZNAME:EST
DTSTART:20241103T060000
END:STANDARD
BEGIN:DAYLIGHT
TZOFFSETFROM:-0500
TZOFFSETTO:-0400
TZNAME:EDT
DTSTART:20250309T070000
END:DAYLIGHT
BEGIN:STANDARD
TZOFFSETFROM:-0400
TZOFFSETTO:-0500
TZNAME:EST
DTSTART:20251102T060000
END:STANDARD
BEGIN:DAYLIGHT
TZOFFSETFROM:-0500
TZOFFSETTO:-0400
TZNAME:EDT
DTSTART:20260308T070000
END:DAYLIGHT
BEGIN:STANDARD
TZOFFSETFROM:-0400
TZOFFSETTO:-0500
TZNAME:EST
DTSTART:20261101T060000
END:STANDARD
END:VTIMEZONE
BEGIN:VEVENT
DTSTART;VALUE=DATE:20250302
DTEND;VALUE=DATE:20250310
DTSTAMP:20260425T113739
CREATED:20250219T171003Z
LAST-MODIFIED:20250219T171027Z
UID:8237-1740873600-1741564799@fbcw.com
SUMMARY:Week Of Prayer - Annie Armstrong Easter Offering
DESCRIPTION:
URL:https://fbcw.com/event/week-of-prayer-annie-armstrong-easter-offering-copy-copy/
LOCATION:First Baptist Church of Weddington\, 348 Providence Road South\, Weddington\, NC\, 28173\, United States
CATEGORIES:Outreach,Prayer
END:VEVENT
BEGIN:VEVENT
DTSTART;TZID=America/New_York:20250305T183000
DTEND;TZID=America/New_York:20250305T200000
DTSTAMP:20260425T113739
CREATED:20250219T163503Z
LAST-MODIFIED:20250219T163526Z
UID:8186-1741199400-1741204800@fbcw.com
SUMMARY:Wednesday Evening Community Groups
DESCRIPTION:Women’s Community Group – 1st & 3rd Wednesdays (6:30pm)\nMen’s Community Group – 2nd & 4th Wednesdays (7pm)\nWe have started two community groups – one for men and one for women. The groups will be reading and discussing JI Packer’s “Knowing God” and praying together. 
URL:https://fbcw.com/event/wednesday-evening-community-groups-copy-copy-copy-copy-copy/
CATEGORIES:Bible Study,Prayer
END:VEVENT
BEGIN:VEVENT
DTSTART;TZID=America/New_York:20250312T183000
DTEND;TZID=America/New_York:20250312T200000
DTSTAMP:20260425T113739
CREATED:20250219T163530Z
LAST-MODIFIED:20250219T163542Z
UID:8188-1741804200-1741809600@fbcw.com
SUMMARY:Wednesday Evening Community Groups
DESCRIPTION:Women’s Community Group – 1st & 3rd Wednesdays (6:30pm)\nMen’s Community Group – 2nd & 4th Wednesdays (7pm)\nWe have started two community groups – one for men and one for women. The groups will be reading and discussing JI Packer’s “Knowing God” and praying together. 
URL:https://fbcw.com/event/wednesday-evening-community-groups-copy-copy-copy-copy-copy-copy/
CATEGORIES:Bible Study,Prayer
END:VEVENT
BEGIN:VEVENT
DTSTART;TZID=America/New_York:20250319T183000
DTEND;TZID=America/New_York:20250319T200000
DTSTAMP:20260425T113739
CREATED:20250219T163601Z
LAST-MODIFIED:20250219T163615Z
UID:8190-1742409000-1742414400@fbcw.com
SUMMARY:Wednesday Evening Community Groups
DESCRIPTION:Women’s Community Group – 1st & 3rd Wednesdays (6:30pm)\nMen’s Community Group – 2nd & 4th Wednesdays (7pm)\nWe have started two community groups – one for men and one for women. The groups will be reading and discussing JI Packer’s “Knowing God” and praying together. 
URL:https://fbcw.com/event/wednesday-evening-community-groups-copy-copy-copy-copy-copy-copy-copy/
CATEGORIES:Bible Study,Prayer
END:VEVENT
BEGIN:VEVENT
DTSTART;TZID=America/New_York:20250326T183000
DTEND;TZID=America/New_York:20250326T200000
DTSTAMP:20260425T113739
CREATED:20250219T163619Z
LAST-MODIFIED:20250219T163630Z
UID:8192-1743013800-1743019200@fbcw.com
SUMMARY:Wednesday Evening Community Groups
DESCRIPTION:Women’s Community Group – 1st & 3rd Wednesdays (6:30pm)\nMen’s Community Group – 2nd & 4th Wednesdays (7pm)\nWe have started two community groups – one for men and one for women. The groups will be reading and discussing JI Packer’s “Knowing God” and praying together. 
URL:https://fbcw.com/event/wednesday-evening-community-groups-copy-copy-copy-copy-copy-copy-copy-copy/
CATEGORIES:Bible Study,Prayer
END:VEVENT
END:VCALENDAR