BEGIN:VCALENDAR
VERSION:2.0
PRODID:-//First Baptist Church of Weddington - ECPv6.15.20//NONSGML v1.0//EN
CALSCALE:GREGORIAN
METHOD:PUBLISH
X-WR-CALNAME:First Baptist Church of Weddington
X-ORIGINAL-URL:https://fbcw.com
X-WR-CALDESC:Events for First Baptist Church of Weddington
REFRESH-INTERVAL;VALUE=DURATION:PT1H
X-Robots-Tag:noindex
X-PUBLISHED-TTL:PT1H
BEGIN:VTIMEZONE
TZID:America/New_York
BEGIN:DAYLIGHT
TZOFFSETFROM:-0500
TZOFFSETTO:-0400
TZNAME:EDT
DTSTART:20190310T070000
END:DAYLIGHT
BEGIN:STANDARD
TZOFFSETFROM:-0400
TZOFFSETTO:-0500
TZNAME:EST
DTSTART:20191103T060000
END:STANDARD
BEGIN:DAYLIGHT
TZOFFSETFROM:-0500
TZOFFSETTO:-0400
TZNAME:EDT
DTSTART:20200308T070000
END:DAYLIGHT
BEGIN:STANDARD
TZOFFSETFROM:-0400
TZOFFSETTO:-0500
TZNAME:EST
DTSTART:20201101T060000
END:STANDARD
BEGIN:DAYLIGHT
TZOFFSETFROM:-0500
TZOFFSETTO:-0400
TZNAME:EDT
DTSTART:20210314T070000
END:DAYLIGHT
BEGIN:STANDARD
TZOFFSETFROM:-0400
TZOFFSETTO:-0500
TZNAME:EST
DTSTART:20211107T060000
END:STANDARD
BEGIN:DAYLIGHT
TZOFFSETFROM:-0500
TZOFFSETTO:-0400
TZNAME:EDT
DTSTART:20220313T070000
END:DAYLIGHT
BEGIN:STANDARD
TZOFFSETFROM:-0400
TZOFFSETTO:-0500
TZNAME:EST
DTSTART:20221106T060000
END:STANDARD
END:VTIMEZONE
BEGIN:VTIMEZONE
TZID:UTC
BEGIN:STANDARD
TZOFFSETFROM:+0000
TZOFFSETTO:+0000
TZNAME:UTC
DTSTART:20160101T000000
END:STANDARD
END:VTIMEZONE
BEGIN:VEVENT
DTSTART;TZID=America/New_York:20210716T080000
DTEND;TZID=America/New_York:20210716T103000
DTSTAMP:20260424T045840
CREATED:20210708T142014Z
LAST-MODIFIED:20210708T142041Z
UID:5077-1626422400-1626431400@fbcw.com
SUMMARY:Operation Reach-Out Lunches
DESCRIPTION:FBCW partners with Operation Reach Out by providing 40 bagged lunches\, on the third Friday of every month\, for those who attend their daily Bible study. We are in need of volunteers to help provide these lunches. If you would like to donate an item for the lunches or prepare sandwiches\, please contact Allison Matthews.
URL:https://fbcw.com/event/operation-reach-out-lunches-2-copy-2-copy-copy-copy-copy/
CATEGORIES:Outreach
END:VEVENT
BEGIN:VEVENT
DTSTART;TZID=America/New_York:20210618T080000
DTEND;TZID=America/New_York:20210618T103000
DTSTAMP:20260424T045840
CREATED:20210512T164213Z
LAST-MODIFIED:20210512T164239Z
UID:4883-1624003200-1624012200@fbcw.com
SUMMARY:Operation Reach-Out Lunches
DESCRIPTION:FBCW partners with Operation Reach Out by providing 40 bagged lunches\, on the third Friday of every month\, for those who attend their daily Bible study. We are in need of volunteers to help provide these lunches. If you would like to donate an item for the lunches or prepare sandwiches\, please contact Allison Matthews.
URL:https://fbcw.com/event/operation-reach-out-lunches-2-copy-2-copy-copy/
CATEGORIES:Outreach
END:VEVENT
BEGIN:VEVENT
DTSTART;TZID=America/New_York:20210521T080000
DTEND;TZID=America/New_York:20210521T103000
DTSTAMP:20260424T045840
CREATED:20210408T185112Z
LAST-MODIFIED:20210408T185134Z
UID:4766-1621584000-1621593000@fbcw.com
SUMMARY:Operation Reach-Out Lunches
DESCRIPTION:FBCW partners with Operation Reach Out by providing 40 bagged lunches\, on the third Friday of every month\, for those who attend their daily Bible study. We are in need of volunteers to help provide these lunches. If you would like to donate an item for the lunches or prepare sandwiches\, please contact Allison Matthews.
URL:https://fbcw.com/event/operation-reach-out-lunches-2-copy-2-copy/
CATEGORIES:Outreach
END:VEVENT
BEGIN:VEVENT
DTSTART;TZID=America/New_York:20210416T080000
DTEND;TZID=America/New_York:20210416T103000
DTSTAMP:20260424T045840
CREATED:20210216T141023Z
LAST-MODIFIED:20210216T141101Z
UID:4582-1618560000-1618569000@fbcw.com
SUMMARY:Operation Reach-Out Lunches
DESCRIPTION:FBCW partners with Operation Reach Out by providing 40 bagged lunches\, on the third Friday of every month\, for those who attend their daily Bible study. We are in need of volunteers to help provide these lunches. If you would like to donate an item for the lunches or prepare sandwiches\, please contact Allison Matthews.
URL:https://fbcw.com/event/operation-reach-out-lunches-2-copy-2/
CATEGORIES:Outreach
END:VEVENT
BEGIN:VEVENT
DTSTART;TZID=America/New_York:20210319T080000
DTEND;TZID=America/New_York:20210319T103000
DTSTAMP:20260424T045840
CREATED:20210118T182954Z
LAST-MODIFIED:20210118T182954Z
UID:4458-1616140800-1616149800@fbcw.com
SUMMARY:Operation Reach-Out Lunches
DESCRIPTION:FBCW partners with Operation Reach Out by providing 40 bagged lunches\, on the third Friday of every month\, for those who attend their daily Bible study. We are in need of volunteers to help provide these lunches. If you would like to donate an item for the lunches or prepare sandwiches\, please contact Allison Matthews.
URL:https://fbcw.com/event/operation-reach-out-lunches-2/
CATEGORIES:Outreach
END:VEVENT
BEGIN:VEVENT
DTSTART;TZID=America/New_York:20210219T080000
DTEND;TZID=America/New_York:20210219T103000
DTSTAMP:20260424T045840
CREATED:20210131T210948Z
LAST-MODIFIED:20210131T211138Z
UID:4492-1613721600-1613730600@fbcw.com
SUMMARY:Operation Reach-Out Lunches
DESCRIPTION:FBCW partners with Operation Reach Out by providing 40 bagged lunches\, on the third Friday of every month\, for those who attend their daily Bible study. We are in need of volunteers to help provide these lunches. If you would like to donate an item for the lunches or prepare sandwiches\, please contact Allison Matthews.
URL:https://fbcw.com/event/operation-reach-out-lunches-2-copy/
CATEGORIES:Outreach
END:VEVENT
BEGIN:VEVENT
DTSTART;TZID=UTC:20210115T113000
DTEND;TZID=UTC:20210115T120000
DTSTAMP:20260424T045840
CREATED:20201111T170555Z
LAST-MODIFIED:20201111T170620Z
UID:4319-1610710200-1610712000@fbcw.com
SUMMARY:Operation Reach Out Lunches
DESCRIPTION:FBCW partners with Operation Reach Out by providing 40 bagged lunches\, on the third Friday of every month\, for those who attend their daily Bible study. We are in need of volunteers to help provide these lunches.  If you would like to donate an item for the lunches or prepare sandwiches\, please contact Allison Matthews.  You can also find a sign-up sheet on the bulletin board if you can help! \n 
URL:https://fbcw.com/event/operation-reach-out-lunches-copy-copy-copy-copy-copy/
CATEGORIES:Outreach
END:VEVENT
BEGIN:VEVENT
DTSTART;TZID=UTC:20201218T113000
DTEND;TZID=UTC:20201218T120000
DTSTAMP:20260424T045840
CREATED:20200819T185522Z
LAST-MODIFIED:20200819T185603Z
UID:3919-1608291000-1608292800@fbcw.com
SUMMARY:Operation Reach Out Lunches
DESCRIPTION:FBCW partners with Operation Reach Out by providing 40 bagged lunches\, on the third Friday of every month\, for those who attend their daily Bible study. We are in need of volunteers to help provide these lunches.  If you would like to donate an item for the lunches or prepare sandwiches\, please contact Allison Matthews.  You can also find a sign-up sheet on the bulletin board if you can help! \n 
URL:https://fbcw.com/event/operation-reach-out-lunches-copy-copy-copy-copy/
CATEGORIES:Outreach
END:VEVENT
BEGIN:VEVENT
DTSTART;TZID=UTC:20201120T113000
DTEND;TZID=UTC:20201120T120000
DTSTAMP:20260424T045840
CREATED:20200819T185454Z
LAST-MODIFIED:20200819T185514Z
UID:3917-1605871800-1605873600@fbcw.com
SUMMARY:Operation Reach Out Lunches
DESCRIPTION:FBCW partners with Operation Reach Out by providing 40 bagged lunches\, on the third Friday of every month\, for those who attend their daily Bible study. We are in need of volunteers to help provide these lunches.  If you would like to donate an item for the lunches or prepare sandwiches\, please contact Allison Matthews.  You can also find a sign-up sheet on the bulletin board if you can help! \n 
URL:https://fbcw.com/event/operation-reach-out-lunches-copy-copy-copy/
CATEGORIES:Outreach
END:VEVENT
BEGIN:VEVENT
DTSTART;TZID=UTC:20201016T113000
DTEND;TZID=UTC:20201016T120000
DTSTAMP:20260424T045840
CREATED:20200819T185426Z
LAST-MODIFIED:20200819T185445Z
UID:3915-1602847800-1602849600@fbcw.com
SUMMARY:Operation Reach Out Lunches
DESCRIPTION:FBCW partners with Operation Reach Out by providing 40 bagged lunches\, on the third Friday of every month\, for those who attend their daily Bible study. We are in need of volunteers to help provide these lunches.  If you would like to donate an item for the lunches or prepare sandwiches\, please contact Allison Matthews.  You can also find a sign-up sheet on the bulletin board if you can help! \n 
URL:https://fbcw.com/event/operation-reach-out-lunches-copy-copy/
CATEGORIES:Outreach
END:VEVENT
BEGIN:VEVENT
DTSTART;TZID=UTC:20200918T113000
DTEND;TZID=UTC:20200918T120000
DTSTAMP:20260424T045840
CREATED:20200819T185325Z
LAST-MODIFIED:20200819T185418Z
UID:3913-1600428600-1600430400@fbcw.com
SUMMARY:Operation Reach Out Lunches
DESCRIPTION:FBCW partners with Operation Reach Out by providing 40 bagged lunches\, on the third Friday of every month\, for those who attend their daily Bible study. We are in need of volunteers to help provide these lunches.  If you would like to donate an item for the lunches or prepare sandwiches\, please contact Allison Matthews.  You can also find a sign-up sheet on the bulletin board if you can help! \n 
URL:https://fbcw.com/event/operation-reach-out-lunches-copy/
CATEGORIES:Outreach
END:VEVENT
BEGIN:VEVENT
DTSTART;TZID=America/New_York:20200321T084500
DTEND;TZID=America/New_York:20200321T103000
DTSTAMP:20260424T045840
CREATED:20200121T181020Z
LAST-MODIFIED:20200318T160525Z
UID:3276-1584780300-1584786600@fbcw.com
SUMMARY:Elizabethan Gardens Nursing Home Ministry - Canceled
DESCRIPTION:Event has been canceled.
URL:https://fbcw.com/event/elizabethan-gardens-nursing-home-ministry-copy-copy-copy-copy-copy-copy-copy-copy/
CATEGORIES:Outreach
END:VEVENT
BEGIN:VEVENT
DTSTART;TZID=America/New_York:20200215T084500
DTEND;TZID=America/New_York:20200215T103000
DTSTAMP:20260424T045840
CREATED:20191226T193126Z
LAST-MODIFIED:20191226T193536Z
UID:3117-1581756300-1581762600@fbcw.com
SUMMARY:Elizabethan Gardens Nursing Home Ministry
DESCRIPTION:The Elizabethan Gardens Nursing Home ministry is scheduled for the third Saturday of every month at 8:45 AM. Contact Sally Burroughs for more information.
URL:https://fbcw.com/event/elizabethan-gardens-nursing-home-ministry-copy-copy-copy-copy-copy-copy-copy/
CATEGORIES:Outreach
END:VEVENT
BEGIN:VEVENT
DTSTART;TZID=UTC:20200118T084500
DTEND;TZID=UTC:20200118T084500
DTSTAMP:20260424T045840
CREATED:20191219T173651Z
LAST-MODIFIED:20191219T173718Z
UID:3071-1579337100-1579337100@fbcw.com
SUMMARY:Elizabethan Gardens Nursing Home Ministry
DESCRIPTION:The Elizabethan Gardens Nursing Home ministry is scheduled for the third Saturday of every month at 8:45 AM. Contact Sally Burroughs for more information.
URL:https://fbcw.com/event/elizabethan-gardens-nursing-home-ministry-copy-copy-copy-copy-copy-copy/
CATEGORIES:Outreach
END:VEVENT
BEGIN:VEVENT
DTSTART;TZID=UTC:20191221T084500
DTEND;TZID=UTC:20191221T084500
DTSTAMP:20260424T045840
CREATED:20191009T214941Z
LAST-MODIFIED:20191009T215559Z
UID:2901-1576917900-1576917900@fbcw.com
SUMMARY:Elizabethan Gardens Nursing Home Ministry
DESCRIPTION:The Elizabethan Gardens Nursing Home ministry is scheduled for the third Saturday of every month at 8:45 AM. Contact Sally Burroughs for more information.
URL:https://fbcw.com/event/elizabethan-gardens-nursing-home-ministry-copy-copy-copy-copy-copy/
CATEGORIES:Outreach
END:VEVENT
BEGIN:VEVENT
DTSTART;TZID=UTC:20191116T084500
DTEND;TZID=UTC:20191116T084500
DTSTAMP:20260424T045840
CREATED:20190926T234910Z
LAST-MODIFIED:20190926T234928Z
UID:2832-1573893900-1573893900@fbcw.com
SUMMARY:Elizabethan Gardens Nursing Home Ministry
DESCRIPTION:The Elizabethan Gardens Nursing Home ministry is scheduled for the third Saturday of every month at 8:45 AM. Contact Sally Burroughs for more information.
URL:https://fbcw.com/event/elizabethan-gardens-nursing-home-ministry-copy-copy-copy-copy/
CATEGORIES:Outreach
END:VEVENT
BEGIN:VEVENT
DTSTART;TZID=UTC:20191019T084500
DTEND;TZID=UTC:20191019T084500
DTSTAMP:20260424T045840
CREATED:20190917T231527Z
LAST-MODIFIED:20190917T231604Z
UID:2734-1571474700-1571474700@fbcw.com
SUMMARY:Elizabethan Gardens Nursing Home Ministry
DESCRIPTION:The Elizabethan Gardens Nursing Home ministry is scheduled for the third Saturday of every month at 8:45 AM. Contact Sally Burroughs for more information.
URL:https://fbcw.com/event/elizabethan-gardens-nursing-home-ministry-copy-copy-copy/
CATEGORIES:Outreach
END:VEVENT
BEGIN:VEVENT
DTSTART;TZID=UTC:20190921T084500
DTEND;TZID=UTC:20190921T084500
DTSTAMP:20260424T045840
CREATED:20190725T232500Z
LAST-MODIFIED:20190725T232558Z
UID:2591-1569055500-1569055500@fbcw.com
SUMMARY:Elizabethan Gardens Nursing Home Ministry
DESCRIPTION:The Elizabethan Gardens Nursing Home ministry is scheduled for September 21st at 8:45 AM. Contact Sally Burroughs for more information.
URL:https://fbcw.com/event/elizabethan-gardens-nursing-home-ministry-copy-copy/
CATEGORIES:Outreach
END:VEVENT
BEGIN:VEVENT
DTSTART;TZID=UTC:20190817T084500
DTEND;TZID=UTC:20190817T100000
DTSTAMP:20260424T045840
CREATED:20190710T235409Z
LAST-MODIFIED:20190710T235451Z
UID:2511-1566031500-1566036000@fbcw.com
SUMMARY:Elizabethan Gardens Nursing Home Ministry
DESCRIPTION:The Elizabethan Gardens Nursing Home ministry is scheduled for August 17th at 8:45 AM. Contact Sally Burroughs for more information.
URL:https://fbcw.com/event/elizabethan-gardens-nursing-home-ministry-copy/
CATEGORIES:Outreach
END:VEVENT
BEGIN:VEVENT
DTSTART;TZID=UTC:20190719T113000
DTEND;TZID=UTC:20190719T120000
DTSTAMP:20260424T045840
CREATED:20190710T231556Z
LAST-MODIFIED:20190710T231556Z
UID:2438-1563535800-1563537600@fbcw.com
SUMMARY:Operation Reach Out Lunches
DESCRIPTION:FBCW partners with Operation Reach Out by providing 40 bagged lunches\, on the third Friday of every month\, for those who attend their daily Bible study. We are in need of volunteers to help provide these lunches.  If you would like to donate an item for the lunches or prepare sandwiches\, please contact Allison Matthews.  You can also find a sign-up sheet on the bulletin board if you can help! \n 
URL:https://fbcw.com/event/operation-reach-out-lunches/
CATEGORIES:Outreach
END:VEVENT
BEGIN:VEVENT
DTSTART;TZID=UTC:20180129T110000
DTEND;TZID=UTC:20180129T200000
DTSTAMP:20260424T045840
CREATED:20150917T001434Z
LAST-MODIFIED:20150917T001434Z
UID:440-1517223600-1517256000@fbcw.com
SUMMARY:Bake Off For Charity
DESCRIPTION:Maecenas leo nisi\, efficitur at felis sit amet\, lacinia auctor quam. Aliquam euismod pretium mattis. Aenean sollicitudin orci non orci gravida ullamcorper. Duis utres odios pellentesque\, efficiturs odio vitae\, aliquams arcu. Sed pulvinar lacus at neque imperdiet lobortis. Phasellus eget lectus rutrum\, fringilla nibh ut\, convallis orci. Quisque magna risus\, lacinia a pharetra vel\, gravida ac mi. Aenean ac interdum nisi\, et vehicula nisl. Suspendisse potenti. Cras leo ex\, congue eget dignissim nec\, porta maximus erat. Etiam ornare arcu neque\, in viverra eros egestas eu. Mauris diam velit\, dictum et vehicula nec\, sagittis nec sapien. Donec tincidunt purus et justo porttitor\, non porttitor quam fermentum orci non aliquams arcu dolores ipsums. \nDonec maximus a ante sit amet nisl nisi at arcu. Donec lobortis libero ex\, a sollicitudin neque volutpat. Aenean pretium nisi id lectus cursus sagittis. Aliquam sit amet nisl pretium\, consectetur purus non\, porta libero. Integer dui dui\, porta non mollis sit amet\, pharetra nec risus. Donec fringilla ex non arcu auctor\, vel faucibus felis pharetra. Pellentesque condimentum suscipit mi. Sed pretium\, tellus et efficitur dapibus\, metus nunc gravida ante\, at interdum nisl nisi at arcu. Donec lobortis libero ex\, a sollicitudin neque dapibus vitae. Maecenas volutpat est sit amet leo pretium mollis eu a odio dolores ipsums ficilis etras.
URL:https://fbcw.com/event/bake-off-for-charity/
LOCATION:South Campus\, 1234 Apple Avenue\, New York City\, NY\, 111111\, United States
CATEGORIES:Community,Food,Outreach
ATTACH;FMTTYPE=image/jpeg:https://fbcw.com/wp-content/uploads/2015/09/event_10-compressor.jpg
ORGANIZER;CN="Avada Church":MAILTO:noreply@example.com
END:VEVENT
BEGIN:VEVENT
DTSTART;TZID=UTC:20171222T080000
DTEND;TZID=UTC:20171222T170000
DTSTAMP:20260424T045840
CREATED:20150917T004835Z
LAST-MODIFIED:20150917T004835Z
UID:447-1513929600-1513962000@fbcw.com
SUMMARY:Guided Tours
DESCRIPTION:Maecenas leo nisi\, efficitur at felis sit amet\, lacinia auctor quam. Aliquam euismod pretium mattis. Aenean sollicitudin orci non orci gravida ullamcorper. Duis utres odios pellentesque\, efficiturs odio vitae\, aliquams arcu. Sed pulvinar lacus at neque imperdiet lobortis. Phasellus eget lectus rutrum\, fringilla nibh ut\, convallis orci. Quisque magna risus\, lacinia a pharetra vel\, gravida ac mi. Aenean ac interdum nisi\, et vehicula nisl. Suspendisse potenti. Cras leo ex\, congue eget dignissim nec\, porta maximus erat. Etiam ornare arcu neque\, in viverra eros egestas eu. Mauris diam velit\, dictum et vehicula nec\, sagittis nec sapien. Donec tincidunt purus et justo porttitor\, non porttitor quam fermentum orci non aliquams arcu dolores ipsums. \nDonec maximus a ante sit amet nisl nisi at arcu. Donec lobortis libero ex\, a sollicitudin neque volutpat. Aenean pretium nisi id lectus cursus sagittis. Aliquam sit amet nisl pretium\, consectetur purus non\, porta libero. Integer dui dui\, porta non mollis sit amet\, pharetra nec risus. Donec fringilla ex non arcu auctor\, vel faucibus felis pharetra. Pellentesque condimentum suscipit mi. Sed pretium\, tellus et efficitur dapibus\, metus nunc gravida ante\, at interdum nisl nisi at arcu. Donec lobortis libero ex\, a sollicitudin neque dapibus vitae. Maecenas volutpat est sit amet leo pretium mollis eu a odio dolores ipsums ficilis etras.
URL:https://fbcw.com/event/guided-tours/
LOCATION:South Campus\, 1234 Apple Avenue\, New York City\, NY\, 111111\, United States
CATEGORIES:Community,Music,Outreach
ATTACH;FMTTYPE=image/jpeg:https://fbcw.com/wp-content/uploads/2015/09/event_13-compressor.jpg
ORGANIZER;CN="Avada Church":MAILTO:noreply@example.com
END:VEVENT
BEGIN:VEVENT
DTSTART;TZID=UTC:20171210T080000
DTEND;TZID=UTC:20171210T170000
DTSTAMP:20260424T045840
CREATED:20150917T003351Z
LAST-MODIFIED:20150917T003351Z
UID:443-1512892800-1512925200@fbcw.com
SUMMARY:Family Photos
DESCRIPTION:Maecenas leo nisi\, efficitur at felis sit amet\, lacinia auctor quam. Aliquam euismod pretium mattis. Aenean sollicitudin orci non orci gravida ullamcorper. Duis utres odios pellentesque\, efficiturs odio vitae\, aliquams arcu. Sed pulvinar lacus at neque imperdiet lobortis. Phasellus eget lectus rutrum\, fringilla nibh ut\, convallis orci. Quisque magna risus\, lacinia a pharetra vel\, gravida ac mi. Aenean ac interdum nisi\, et vehicula nisl. Suspendisse potenti. Cras leo ex\, congue eget dignissim nec\, porta maximus erat. Etiam ornare arcu neque\, in viverra eros egestas eu. Mauris diam velit\, dictum et vehicula nec\, sagittis nec sapien. Donec tincidunt purus et justo porttitor\, non porttitor quam fermentum orci non aliquams arcu dolores ipsums. \nDonec maximus a ante sit amet nisl nisi at arcu. Donec lobortis libero ex\, a sollicitudin neque volutpat. Aenean pretium nisi id lectus cursus sagittis. Aliquam sit amet nisl pretium\, consectetur purus non\, porta libero. Integer dui dui\, porta non mollis sit amet\, pharetra nec risus. Donec fringilla ex non arcu auctor\, vel faucibus felis pharetra. Pellentesque condimentum suscipit mi. Sed pretium\, tellus et efficitur dapibus\, metus nunc gravida ante\, at interdum nisl nisi at arcu. Donec lobortis libero ex\, a sollicitudin neque dapibus vitae. Maecenas volutpat est sit amet leo pretium mollis eu a odio dolores ipsums ficilis etras.
URL:https://fbcw.com/event/family-photo-sessions/
LOCATION:South Campus\, 1234 Apple Avenue\, New York City\, NY\, 111111\, United States
CATEGORIES:Community,Music,Outreach
ATTACH;FMTTYPE=image/jpeg:https://fbcw.com/wp-content/uploads/2015/09/event_11-compressor.jpg
ORGANIZER;CN="Avada Church":MAILTO:noreply@example.com
END:VEVENT
BEGIN:VEVENT
DTSTART;TZID=UTC:20171109T180000
DTEND;TZID=UTC:20171109T210000
DTSTAMP:20260424T045840
CREATED:20150917T001709Z
LAST-MODIFIED:20150917T001709Z
UID:442-1510250400-1510261200@fbcw.com
SUMMARY:Light Celebration
DESCRIPTION:Maecenas leo nisi\, efficitur at felis sit amet\, lacinia auctor quam. Aliquam euismod pretium mattis. Aenean sollicitudin orci non orci gravida ullamcorper. Duis utres odios pellentesque\, efficiturs odio vitae\, aliquams arcu. Sed pulvinar lacus at neque imperdiet lobortis. Phasellus eget lectus rutrum\, fringilla nibh ut\, convallis orci. Quisque magna risus\, lacinia a pharetra vel\, gravida ac mi. Aenean ac interdum nisi\, et vehicula nisl. Suspendisse potenti. Cras leo ex\, congue eget dignissim nec\, porta maximus erat. Etiam ornare arcu neque\, in viverra eros egestas eu. Mauris diam velit\, dictum et vehicula nec\, sagittis nec sapien. Donec tincidunt purus et justo porttitor\, non porttitor quam fermentum orci non aliquams arcu dolores ipsums. \nDonec maximus a ante sit amet nisl nisi at arcu. Donec lobortis libero ex\, a sollicitudin neque volutpat. Aenean pretium nisi id lectus cursus sagittis. Aliquam sit amet nisl pretium\, consectetur purus non\, porta libero. Integer dui dui\, porta non mollis sit amet\, pharetra nec risus. Donec fringilla ex non arcu auctor\, vel faucibus felis pharetra. Pellentesque condimentum suscipit mi. Sed pretium\, tellus et efficitur dapibus\, metus nunc gravida ante\, at interdum nisl nisi at arcu. Donec lobortis libero ex\, a sollicitudin neque dapibus vitae. Maecenas volutpat est sit amet leo pretium mollis eu a odio dolores ipsums ficilis etras.
URL:https://fbcw.com/event/firework-celebration/
LOCATION:South Campus\, 1234 Apple Avenue\, New York City\, NY\, 111111\, United States
CATEGORIES:Music,Outreach
ATTACH;FMTTYPE=image/jpeg:https://fbcw.com/wp-content/uploads/2015/09/event_4-compressor.jpg
ORGANIZER;CN="Avada Church":MAILTO:noreply@example.com
END:VEVENT
BEGIN:VEVENT
DTSTART;TZID=UTC:20171102T080000
DTEND;TZID=UTC:20171102T170000
DTSTAMP:20260424T045840
CREATED:20150916T214836Z
LAST-MODIFIED:20150916T214836Z
UID:433-1509609600-1509642000@fbcw.com
SUMMARY:Family Growth
DESCRIPTION:Maecenas leo nisi\, efficitur at felis sit amet\, lacinia auctor quam. Aliquam euismod pretium mattis. Aenean sollicitudin orci non orci gravida ullamcorper. Duis utres odios pellentesque\, efficiturs odio vitae\, aliquams arcu. Sed pulvinar lacus at neque imperdiet lobortis. Phasellus eget lectus rutrum\, fringilla nibh ut\, convallis orci. Quisque magna risus\, lacinia a pharetra vel\, gravida ac mi. Aenean ac interdum nisi\, et vehicula nisl. Suspendisse potenti. Cras leo ex\, congue eget dignissim nec\, porta maximus erat. Etiam ornare arcu neque\, in viverra eros egestas eu. Mauris diam velit\, dictum et vehicula nec\, sagittis nec sapien. Donec tincidunt purus et justo porttitor\, non porttitor quam fermentum orci non aliquams arcu dolores ipsums. \nDonec maximus a ante sit amet nisl nisi at arcu. Donec lobortis libero ex\, a sollicitudin neque volutpat. Aenean pretium nisi id lectus cursus sagittis. Aliquam sit amet nisl pretium\, consectetur purus non\, porta libero. Integer dui dui\, porta non mollis sit amet\, pharetra nec risus. Donec fringilla ex non arcu auctor\, vel faucibus felis pharetra. Pellentesque condimentum suscipit mi. Sed pretium\, tellus et efficitur dapibus\, metus nunc gravida ante\, at interdum nisl nisi at arcu. Donec lobortis libero ex\, a sollicitudin neque dapibus vitae. Maecenas volutpat est sit amet leo pretium mollis eu a odio dolores ipsums ficilis etras.
URL:https://fbcw.com/event/family-growth/
LOCATION:South Campus\, 1234 Apple Avenue\, New York City\, NY\, 111111\, United States
CATEGORIES:Community,Food,Music,Outreach
ATTACH;FMTTYPE=image/jpeg:https://fbcw.com/wp-content/uploads/2015/09/event_6-compressor.jpg
ORGANIZER;CN="Avada Church":MAILTO:noreply@example.com
END:VEVENT
BEGIN:VEVENT
DTSTART;TZID=UTC:20171028T120000
DTEND;TZID=UTC:20171028T190000
DTSTAMP:20260424T045840
CREATED:20150916T235421Z
LAST-MODIFIED:20150916T235421Z
UID:439-1509192000-1509217200@fbcw.com
SUMMARY:Harvest Festival
DESCRIPTION:Maecenas leo nisi\, efficitur at felis sit amet\, lacinia auctor quam. Aliquam euismod pretium mattis. Aenean sollicitudin orci non orci gravida ullamcorper. Duis utres odios pellentesque\, efficiturs odio vitae\, aliquams arcu. Sed pulvinar lacus at neque imperdiet lobortis. Phasellus eget lectus rutrum\, fringilla nibh ut\, convallis orci. Quisque magna risus\, lacinia a pharetra vel\, gravida ac mi. Aenean ac interdum nisi\, et vehicula nisl. Suspendisse potenti. Cras leo ex\, congue eget dignissim nec\, porta maximus erat. Etiam ornare arcu neque\, in viverra eros egestas eu. Mauris diam velit\, dictum et vehicula nec\, sagittis nec sapien. Donec tincidunt purus et justo porttitor\, non porttitor quam fermentum orci non aliquams arcu dolores ipsums. \nDonec maximus a ante sit amet nisl nisi at arcu. Donec lobortis libero ex\, a sollicitudin neque volutpat. Aenean pretium nisi id lectus cursus sagittis. Aliquam sit amet nisl pretium\, consectetur purus non\, porta libero. Integer dui dui\, porta non mollis sit amet\, pharetra nec risus. Donec fringilla ex non arcu auctor\, vel faucibus felis pharetra. Pellentesque condimentum suscipit mi. Sed pretium\, tellus et efficitur dapibus\, metus nunc gravida ante\, at interdum nisl nisi at arcu. Donec lobortis libero ex\, a sollicitudin neque dapibus vitae. Maecenas volutpat est sit amet leo pretium mollis eu a odio dolores ipsums ficilis etras.
URL:https://fbcw.com/event/harvest-festival/
LOCATION:South Campus\, 1234 Apple Avenue\, New York City\, NY\, 111111\, United States
CATEGORIES:Community,Food,Outreach
ATTACH;FMTTYPE=image/jpeg:https://fbcw.com/wp-content/uploads/2015/09/event_3-compressor.jpg
ORGANIZER;CN="Avada Church":MAILTO:noreply@example.com
END:VEVENT
END:VCALENDAR