BEGIN:VCALENDAR
VERSION:2.0
PRODID:-//First Baptist Church of Weddington - ECPv6.15.20//NONSGML v1.0//EN
CALSCALE:GREGORIAN
METHOD:PUBLISH
X-WR-CALNAME:First Baptist Church of Weddington
X-ORIGINAL-URL:https://fbcw.com
X-WR-CALDESC:Events for First Baptist Church of Weddington
REFRESH-INTERVAL;VALUE=DURATION:PT1H
X-Robots-Tag:noindex
X-PUBLISHED-TTL:PT1H
BEGIN:VTIMEZONE
TZID:America/New_York
BEGIN:DAYLIGHT
TZOFFSETFROM:-0500
TZOFFSETTO:-0400
TZNAME:EDT
DTSTART:20200308T070000
END:DAYLIGHT
BEGIN:STANDARD
TZOFFSETFROM:-0400
TZOFFSETTO:-0500
TZNAME:EST
DTSTART:20201101T060000
END:STANDARD
BEGIN:DAYLIGHT
TZOFFSETFROM:-0500
TZOFFSETTO:-0400
TZNAME:EDT
DTSTART:20210314T070000
END:DAYLIGHT
BEGIN:STANDARD
TZOFFSETFROM:-0400
TZOFFSETTO:-0500
TZNAME:EST
DTSTART:20211107T060000
END:STANDARD
BEGIN:DAYLIGHT
TZOFFSETFROM:-0500
TZOFFSETTO:-0400
TZNAME:EDT
DTSTART:20220313T070000
END:DAYLIGHT
BEGIN:STANDARD
TZOFFSETFROM:-0400
TZOFFSETTO:-0500
TZNAME:EST
DTSTART:20221106T060000
END:STANDARD
BEGIN:DAYLIGHT
TZOFFSETFROM:-0500
TZOFFSETTO:-0400
TZNAME:EDT
DTSTART:20230312T070000
END:DAYLIGHT
BEGIN:STANDARD
TZOFFSETFROM:-0400
TZOFFSETTO:-0500
TZNAME:EST
DTSTART:20231105T060000
END:STANDARD
BEGIN:DAYLIGHT
TZOFFSETFROM:-0500
TZOFFSETTO:-0400
TZNAME:EDT
DTSTART:20240310T070000
END:DAYLIGHT
BEGIN:STANDARD
TZOFFSETFROM:-0400
TZOFFSETTO:-0500
TZNAME:EST
DTSTART:20241103T060000
END:STANDARD
BEGIN:DAYLIGHT
TZOFFSETFROM:-0500
TZOFFSETTO:-0400
TZNAME:EDT
DTSTART:20250309T070000
END:DAYLIGHT
BEGIN:STANDARD
TZOFFSETFROM:-0400
TZOFFSETTO:-0500
TZNAME:EST
DTSTART:20251102T060000
END:STANDARD
END:VTIMEZONE
BEGIN:VEVENT
DTSTART;TZID=America/New_York:20240119T113000
DTEND;TZID=America/New_York:20240119T120000
DTSTAMP:20260423T175647
CREATED:20231121T131336Z
LAST-MODIFIED:20231121T131349Z
UID:7212-1705663800-1705665600@fbcw.com
SUMMARY:Operation Reach Out Lunches
DESCRIPTION:FBCW partners with Operation Reach Out by providing 40 bagged lunches\, on the third Friday of every month\, for those who attend their daily Bible study. We are in need of volunteers to help provide these lunches.  If you would like to donate an item for the lunches or prepare sandwiches\, please contact Allison Matthews.  You can also find a sign-up sheet on the bulletin board if you can help! \n 
URL:https://fbcw.com/event/operation-reach-out-lunches-copy-copy-copy-copy-copy-copy-copy-copy-copy-copy-copy-copy-copy-copy-copy-copy/
CATEGORIES:Outreach
END:VEVENT
BEGIN:VEVENT
DTSTART;TZID=America/New_York:20231215T113000
DTEND;TZID=America/New_York:20231215T120000
DTSTAMP:20260423T175647
CREATED:20231120T200516Z
LAST-MODIFIED:20231120T200528Z
UID:7134-1702639800-1702641600@fbcw.com
SUMMARY:Operation Reach Out Lunches
DESCRIPTION:FBCW partners with Operation Reach Out by providing 40 bagged lunches\, on the third Friday of every month\, for those who attend their daily Bible study. We are in need of volunteers to help provide these lunches.  If you would like to donate an item for the lunches or prepare sandwiches\, please contact Allison Matthews.  You can also find a sign-up sheet on the bulletin board if you can help! \n 
URL:https://fbcw.com/event/operation-reach-out-lunches-copy-copy-copy-copy-copy-copy-copy-copy-copy-copy-copy-copy-copy-copy-copy/
CATEGORIES:Outreach
END:VEVENT
BEGIN:VEVENT
DTSTART;TZID=America/New_York:20231117T113000
DTEND;TZID=America/New_York:20231117T120000
DTSTAMP:20260423T175647
CREATED:20231120T200454Z
LAST-MODIFIED:20231120T200510Z
UID:7132-1700220600-1700222400@fbcw.com
SUMMARY:Operation Reach Out Lunches
DESCRIPTION:FBCW partners with Operation Reach Out by providing 40 bagged lunches\, on the third Friday of every month\, for those who attend their daily Bible study. We are in need of volunteers to help provide these lunches.  If you would like to donate an item for the lunches or prepare sandwiches\, please contact Allison Matthews.  You can also find a sign-up sheet on the bulletin board if you can help! \n 
URL:https://fbcw.com/event/operation-reach-out-lunches-copy-copy-copy-copy-copy-copy-copy-copy-copy-copy-copy-copy-copy-copy/
CATEGORIES:Outreach
END:VEVENT
BEGIN:VEVENT
DTSTART;TZID=America/New_York:20231020T113000
DTEND;TZID=America/New_York:20231020T120000
DTSTAMP:20260423T175647
CREATED:20231120T200435Z
LAST-MODIFIED:20231120T200449Z
UID:7130-1697801400-1697803200@fbcw.com
SUMMARY:Operation Reach Out Lunches
DESCRIPTION:FBCW partners with Operation Reach Out by providing 40 bagged lunches\, on the third Friday of every month\, for those who attend their daily Bible study. We are in need of volunteers to help provide these lunches.  If you would like to donate an item for the lunches or prepare sandwiches\, please contact Allison Matthews.  You can also find a sign-up sheet on the bulletin board if you can help! \n 
URL:https://fbcw.com/event/operation-reach-out-lunches-copy-copy-copy-copy-copy-copy-copy-copy-copy-copy-copy-copy-copy/
CATEGORIES:Outreach
END:VEVENT
BEGIN:VEVENT
DTSTART;TZID=America/New_York:20230915T113000
DTEND;TZID=America/New_York:20230915T120000
DTSTAMP:20260423T175647
CREATED:20230823T182442Z
LAST-MODIFIED:20230823T182458Z
UID:6904-1694777400-1694779200@fbcw.com
SUMMARY:Operation Reach Out Lunches
DESCRIPTION:FBCW partners with Operation Reach Out by providing 40 bagged lunches\, on the third Friday of every month\, for those who attend their daily Bible study. We are in need of volunteers to help provide these lunches.  If you would like to donate an item for the lunches or prepare sandwiches\, please contact Allison Matthews.  You can also find a sign-up sheet on the bulletin board if you can help! \n 
URL:https://fbcw.com/event/operation-reach-out-lunches-copy-copy-copy-copy-copy-copy-copy-copy-copy-copy-copy-copy/
CATEGORIES:Outreach
END:VEVENT
BEGIN:VEVENT
DTSTART;TZID=America/New_York:20230818T113000
DTEND;TZID=America/New_York:20230818T120000
DTSTAMP:20260423T175647
CREATED:20230711T183304Z
LAST-MODIFIED:20230711T183332Z
UID:6794-1692358200-1692360000@fbcw.com
SUMMARY:Operation Reach Out Lunches
DESCRIPTION:FBCW partners with Operation Reach Out by providing 40 bagged lunches\, on the third Friday of every month\, for those who attend their daily Bible study. We are in need of volunteers to help provide these lunches.  If you would like to donate an item for the lunches or prepare sandwiches\, please contact Allison Matthews.  You can also find a sign-up sheet on the bulletin board if you can help! \n 
URL:https://fbcw.com/event/operation-reach-out-lunches-copy-copy-copy-copy-copy-copy-copy-copy-copy-copy-copy/
CATEGORIES:Outreach
END:VEVENT
BEGIN:VEVENT
DTSTART;TZID=America/New_York:20230721T113000
DTEND;TZID=America/New_York:20230721T120000
DTSTAMP:20260423T175647
CREATED:20230711T183236Z
LAST-MODIFIED:20230711T183256Z
UID:6792-1689939000-1689940800@fbcw.com
SUMMARY:Operation Reach Out Lunches
DESCRIPTION:FBCW partners with Operation Reach Out by providing 40 bagged lunches\, on the third Friday of every month\, for those who attend their daily Bible study. We are in need of volunteers to help provide these lunches.  If you would like to donate an item for the lunches or prepare sandwiches\, please contact Allison Matthews.  You can also find a sign-up sheet on the bulletin board if you can help! \n 
URL:https://fbcw.com/event/operation-reach-out-lunches-copy-copy-copy-copy-copy-copy-copy-copy-copy-copy/
CATEGORIES:Outreach
END:VEVENT
BEGIN:VEVENT
DTSTART;TZID=America/New_York:20230616T113000
DTEND;TZID=America/New_York:20230616T120000
DTSTAMP:20260423T175647
CREATED:20230517T163430Z
LAST-MODIFIED:20230517T163447Z
UID:6692-1686915000-1686916800@fbcw.com
SUMMARY:Operation Reach Out Lunches
DESCRIPTION:FBCW partners with Operation Reach Out by providing 40 bagged lunches\, on the third Friday of every month\, for those who attend their daily Bible study. We are in need of volunteers to help provide these lunches.  If you would like to donate an item for the lunches or prepare sandwiches\, please contact Allison Matthews.  You can also find a sign-up sheet on the bulletin board if you can help! \n 
URL:https://fbcw.com/event/operation-reach-out-lunches-copy-copy-copy-copy-copy-copy-copy-copy-copy/
CATEGORIES:Outreach
END:VEVENT
BEGIN:VEVENT
DTSTART;TZID=America/New_York:20230519T113000
DTEND;TZID=America/New_York:20230519T120000
DTSTAMP:20260423T175647
CREATED:20230517T163353Z
LAST-MODIFIED:20230517T163424Z
UID:6690-1684495800-1684497600@fbcw.com
SUMMARY:Operation Reach Out Lunches
DESCRIPTION:FBCW partners with Operation Reach Out by providing 40 bagged lunches\, on the third Friday of every month\, for those who attend their daily Bible study. We are in need of volunteers to help provide these lunches.  If you would like to donate an item for the lunches or prepare sandwiches\, please contact Allison Matthews.  You can also find a sign-up sheet on the bulletin board if you can help! \n 
URL:https://fbcw.com/event/operation-reach-out-lunches-copy-copy-copy-copy-copy-copy-copy-copy/
CATEGORIES:Outreach
END:VEVENT
BEGIN:VEVENT
DTSTART;TZID=America/New_York:20230421T113000
DTEND;TZID=America/New_York:20230421T120000
DTSTAMP:20260423T175647
CREATED:20230330T172155Z
LAST-MODIFIED:20230517T163346Z
UID:6567-1682076600-1682078400@fbcw.com
SUMMARY:Operation Reach Out Lunches
DESCRIPTION:FBCW partners with Operation Reach Out by providing 40 bagged lunches\, on the third Friday of every month\, for those who attend their daily Bible study. We are in need of volunteers to help provide these lunches.  If you would like to donate an item for the lunches or prepare sandwiches\, please contact Allison Matthews.  You can also find a sign-up sheet on the bulletin board if you can help! \n 
URL:https://fbcw.com/event/operation-reach-out-lunches-copy-copy-copy-copy-copy-copy-copy/
CATEGORIES:Outreach
END:VEVENT
BEGIN:VEVENT
DTSTART;TZID=America/New_York:20230317T113000
DTEND;TZID=America/New_York:20230317T120000
DTSTAMP:20260423T175647
CREATED:20230209T184006Z
LAST-MODIFIED:20230209T184110Z
UID:6486-1679052600-1679054400@fbcw.com
SUMMARY:Operation Reach Out Lunches
DESCRIPTION:FBCW partners with Operation Reach Out by providing 40 bagged lunches\, on the third Friday of every month\, for those who attend their daily Bible study. We are in need of volunteers to help provide these lunches.  If you would like to donate an item for the lunches or prepare sandwiches\, please contact Allison Matthews.  You can also find a sign-up sheet on the bulletin board if you can help! \n 
URL:https://fbcw.com/event/operation-reach-out-lunches-copy-copy-copy-copy-copy-copy/
CATEGORIES:Outreach
END:VEVENT
BEGIN:VEVENT
DTSTART;VALUE=DATE:20230305
DTEND;VALUE=DATE:20230313
DTSTAMP:20260423T175647
CREATED:20230209T184329Z
LAST-MODIFIED:20230209T184909Z
UID:6490-1677974400-1678665599@fbcw.com
SUMMARY:Week Of Prayer - Annie Armstrong Easter Offering
DESCRIPTION:
URL:https://fbcw.com/event/week-of-prayer-annie-armstrong-easter-offering/
LOCATION:First Baptist Church of Weddington\, 348 Providence Road South\, Weddington\, NC\, 28173\, United States
CATEGORIES:Outreach,Prayer
END:VEVENT
BEGIN:VEVENT
DTSTART;TZID=America/New_York:20230217T080000
DTEND;TZID=America/New_York:20230217T103000
DTSTAMP:20260423T175647
CREATED:20230205T215613Z
LAST-MODIFIED:20230209T175837Z
UID:6410-1676620800-1676629800@fbcw.com
SUMMARY:Operation Reach-Out Lunches
DESCRIPTION:FBCW partners with Operation Reach Out by providing 40 bagged lunches\, on the third Friday of every month\, for those who attend their daily Bible study. We are in need of volunteers to help provide these lunches. If you would like to donate an item for the lunches or prepare sandwiches\, please contact Allison Matthews.
URL:https://fbcw.com/event/operation-reach-out-lunches-2-copy-2-copy-copy-copy-copy-2-copy-copy-copy-copy-copy-copy-copy-copy-copy-copy-copy-copy-copy-copy-copy-copy/
CATEGORIES:Outreach
END:VEVENT
BEGIN:VEVENT
DTSTART;TZID=America/New_York:20230120T080000
DTEND;TZID=America/New_York:20230120T103000
DTSTAMP:20260423T175647
CREATED:20221222T134802Z
LAST-MODIFIED:20221222T134936Z
UID:6330-1674201600-1674210600@fbcw.com
SUMMARY:Operation Reach-Out Lunches
DESCRIPTION:FBCW partners with Operation Reach Out by providing 40 bagged lunches\, on the third Friday of every month\, for those who attend their daily Bible study. We are in need of volunteers to help provide these lunches. If you would like to donate an item for the lunches or prepare sandwiches\, please contact Allison Matthews.
URL:https://fbcw.com/event/operation-reach-out-lunches-2-copy-2-copy-copy-copy-copy-2-copy-copy-copy-copy-copy-copy-copy-copy-copy-copy-copy-copy-copy-copy-copy/
CATEGORIES:Outreach
END:VEVENT
BEGIN:VEVENT
DTSTART;TZID=America/New_York:20221216T080000
DTEND;TZID=America/New_York:20221216T103000
DTSTAMP:20260423T175647
CREATED:20221122T150340Z
LAST-MODIFIED:20221122T150359Z
UID:6244-1671177600-1671186600@fbcw.com
SUMMARY:Operation Reach-Out Lunches
DESCRIPTION:FBCW partners with Operation Reach Out by providing 40 bagged lunches\, on the third Friday of every month\, for those who attend their daily Bible study. We are in need of volunteers to help provide these lunches. If you would like to donate an item for the lunches or prepare sandwiches\, please contact Allison Matthews.
URL:https://fbcw.com/event/operation-reach-out-lunches-2-copy-2-copy-copy-copy-copy-2-copy-copy-copy-copy-copy-copy-copy-copy-copy-copy-copy-copy-copy-copy/
CATEGORIES:Outreach
END:VEVENT
BEGIN:VEVENT
DTSTART;TZID=America/New_York:20221118T080000
DTEND;TZID=America/New_York:20221118T103000
DTSTAMP:20260423T175647
CREATED:20221006T144308Z
LAST-MODIFIED:20221006T144326Z
UID:6117-1668758400-1668767400@fbcw.com
SUMMARY:Operation Reach-Out Lunches
DESCRIPTION:FBCW partners with Operation Reach Out by providing 40 bagged lunches\, on the third Friday of every month\, for those who attend their daily Bible study. We are in need of volunteers to help provide these lunches. If you would like to donate an item for the lunches or prepare sandwiches\, please contact Allison Matthews.
URL:https://fbcw.com/event/operation-reach-out-lunches-2-copy-2-copy-copy-copy-copy-2-copy-copy-copy-copy-copy-copy-copy-copy-copy-copy-copy-copy-copy/
CATEGORIES:Outreach
END:VEVENT
BEGIN:VEVENT
DTSTART;TZID=America/New_York:20221021T080000
DTEND;TZID=America/New_York:20221021T103000
DTSTAMP:20260423T175647
CREATED:20221006T140849Z
LAST-MODIFIED:20221006T140952Z
UID:6101-1666339200-1666348200@fbcw.com
SUMMARY:Operation Reach-Out Lunches
DESCRIPTION:FBCW partners with Operation Reach Out by providing 40 bagged lunches\, on the third Friday of every month\, for those who attend their daily Bible study. We are in need of volunteers to help provide these lunches. If you would like to donate an item for the lunches or prepare sandwiches\, please contact Allison Matthews.
URL:https://fbcw.com/event/operation-reach-out-lunches-2-copy-2-copy-copy-copy-copy-2-copy-copy-copy-copy-copy-copy-copy-copy-copy-copy-copy-copy/
CATEGORIES:Outreach
END:VEVENT
BEGIN:VEVENT
DTSTART;TZID=America/New_York:20220916T080000
DTEND;TZID=America/New_York:20220916T103000
DTSTAMP:20260423T175647
CREATED:20220831T154912Z
LAST-MODIFIED:20220831T154929Z
UID:6011-1663315200-1663324200@fbcw.com
SUMMARY:Operation Reach-Out Lunches
DESCRIPTION:FBCW partners with Operation Reach Out by providing 40 bagged lunches\, on the third Friday of every month\, for those who attend their daily Bible study. We are in need of volunteers to help provide these lunches. If you would like to donate an item for the lunches or prepare sandwiches\, please contact Allison Matthews.
URL:https://fbcw.com/event/operation-reach-out-lunches-2-copy-2-copy-copy-copy-copy-2-copy-copy-copy-copy-copy-copy-copy-copy-copy-copy-copy/
CATEGORIES:Outreach
END:VEVENT
BEGIN:VEVENT
DTSTART;TZID=America/New_York:20220819T080000
DTEND;TZID=America/New_York:20220819T103000
DTSTAMP:20260423T175647
CREATED:20220720T152409Z
LAST-MODIFIED:20220720T152428Z
UID:5917-1660896000-1660905000@fbcw.com
SUMMARY:Operation Reach-Out Lunches
DESCRIPTION:FBCW partners with Operation Reach Out by providing 40 bagged lunches\, on the third Friday of every month\, for those who attend their daily Bible study. We are in need of volunteers to help provide these lunches. If you would like to donate an item for the lunches or prepare sandwiches\, please contact Allison Matthews.
URL:https://fbcw.com/event/operation-reach-out-lunches-2-copy-2-copy-copy-copy-copy-2-copy-copy-copy-copy-copy-copy-copy-copy-copy-copy/
CATEGORIES:Outreach
END:VEVENT
BEGIN:VEVENT
DTSTART;TZID=America/New_York:20220715T080000
DTEND;TZID=America/New_York:20220715T103000
DTSTAMP:20260423T175647
CREATED:20220609T173224Z
LAST-MODIFIED:20220609T173255Z
UID:5824-1657872000-1657881000@fbcw.com
SUMMARY:Operation Reach-Out Lunches
DESCRIPTION:FBCW partners with Operation Reach Out by providing 40 bagged lunches\, on the third Friday of every month\, for those who attend their daily Bible study. We are in need of volunteers to help provide these lunches. If you would like to donate an item for the lunches or prepare sandwiches\, please contact Allison Matthews.
URL:https://fbcw.com/event/operation-reach-out-lunches-2-copy-2-copy-copy-copy-copy-2-copy-copy-copy-copy-copy-copy-copy-copy-copy/
CATEGORIES:Outreach
END:VEVENT
BEGIN:VEVENT
DTSTART;TZID=America/New_York:20220617T080000
DTEND;TZID=America/New_York:20220617T103000
DTSTAMP:20260423T175647
CREATED:20220609T173201Z
LAST-MODIFIED:20220609T173217Z
UID:5822-1655452800-1655461800@fbcw.com
SUMMARY:Operation Reach-Out Lunches
DESCRIPTION:FBCW partners with Operation Reach Out by providing 40 bagged lunches\, on the third Friday of every month\, for those who attend their daily Bible study. We are in need of volunteers to help provide these lunches. If you would like to donate an item for the lunches or prepare sandwiches\, please contact Allison Matthews.
URL:https://fbcw.com/event/operation-reach-out-lunches-2-copy-2-copy-copy-copy-copy-2-copy-copy-copy-copy-copy-copy-copy-copy/
CATEGORIES:Outreach
END:VEVENT
BEGIN:VEVENT
DTSTART;TZID=America/New_York:20220520T080000
DTEND;TZID=America/New_York:20220520T103000
DTSTAMP:20260423T175647
CREATED:20220428T190603Z
LAST-MODIFIED:20220428T190619Z
UID:5750-1653033600-1653042600@fbcw.com
SUMMARY:Operation Reach-Out Lunches
DESCRIPTION:FBCW partners with Operation Reach Out by providing 40 bagged lunches\, on the third Friday of every month\, for those who attend their daily Bible study. We are in need of volunteers to help provide these lunches. If you would like to donate an item for the lunches or prepare sandwiches\, please contact Allison Matthews.
URL:https://fbcw.com/event/operation-reach-out-lunches-2-copy-2-copy-copy-copy-copy-2-copy-copy-copy-copy-copy-copy-copy/
CATEGORIES:Outreach
END:VEVENT
BEGIN:VEVENT
DTSTART;TZID=America/New_York:20220415T080000
DTEND;TZID=America/New_York:20220415T103000
DTSTAMP:20260423T175647
CREATED:20220203T181925Z
LAST-MODIFIED:20220203T182411Z
UID:5553-1650009600-1650018600@fbcw.com
SUMMARY:Operation Reach-Out Lunches
DESCRIPTION:FBCW partners with Operation Reach Out by providing 40 bagged lunches\, on the third Friday of every month\, for those who attend their daily Bible study. We are in need of volunteers to help provide these lunches. If you would like to donate an item for the lunches or prepare sandwiches\, please contact Allison Matthews.
URL:https://fbcw.com/event/operation-reach-out-lunches-2-copy-2-copy-copy-copy-copy-2-copy-copy-copy-copy-copy-copy/
CATEGORIES:Outreach
END:VEVENT
BEGIN:VEVENT
DTSTART;TZID=America/New_York:20220318T080000
DTEND;TZID=America/New_York:20220318T103000
DTSTAMP:20260423T175647
CREATED:20220203T181858Z
LAST-MODIFIED:20220203T181917Z
UID:5551-1647590400-1647599400@fbcw.com
SUMMARY:Operation Reach-Out Lunches
DESCRIPTION:FBCW partners with Operation Reach Out by providing 40 bagged lunches\, on the third Friday of every month\, for those who attend their daily Bible study. We are in need of volunteers to help provide these lunches. If you would like to donate an item for the lunches or prepare sandwiches\, please contact Allison Matthews.
URL:https://fbcw.com/event/operation-reach-out-lunches-2-copy-2-copy-copy-copy-copy-2-copy-copy-copy-copy-copy/
CATEGORIES:Outreach
END:VEVENT
BEGIN:VEVENT
DTSTART;TZID=America/New_York:20220218T080000
DTEND;TZID=America/New_York:20220218T103000
DTSTAMP:20260423T175647
CREATED:20220203T180854Z
LAST-MODIFIED:20220203T180919Z
UID:5535-1645171200-1645180200@fbcw.com
SUMMARY:Operation Reach-Out Lunches
DESCRIPTION:FBCW partners with Operation Reach Out by providing 40 bagged lunches\, on the third Friday of every month\, for those who attend their daily Bible study. We are in need of volunteers to help provide these lunches. If you would like to donate an item for the lunches or prepare sandwiches\, please contact Allison Matthews.
URL:https://fbcw.com/event/operation-reach-out-lunches-2-copy-2-copy-copy-copy-copy-2-copy-copy-copy-copy/
CATEGORIES:Outreach
END:VEVENT
BEGIN:VEVENT
DTSTART;TZID=America/New_York:20220121T080000
DTEND;TZID=America/New_York:20220121T103000
DTSTAMP:20260423T175647
CREATED:20211230T192356Z
LAST-MODIFIED:20211230T192413Z
UID:5441-1642752000-1642761000@fbcw.com
SUMMARY:Operation Reach-Out Lunches
DESCRIPTION:FBCW partners with Operation Reach Out by providing 40 bagged lunches\, on the third Friday of every month\, for those who attend their daily Bible study. We are in need of volunteers to help provide these lunches. If you would like to donate an item for the lunches or prepare sandwiches\, please contact Allison Matthews.
URL:https://fbcw.com/event/operation-reach-out-lunches-2-copy-2-copy-copy-copy-copy-2-copy-copy-copy/
CATEGORIES:Outreach
END:VEVENT
BEGIN:VEVENT
DTSTART;TZID=America/New_York:20211217T080000
DTEND;TZID=America/New_York:20211217T103000
DTSTAMP:20260423T175647
CREATED:20211118T184020Z
LAST-MODIFIED:20211118T184052Z
UID:5362-1639728000-1639737000@fbcw.com
SUMMARY:Operation Reach-Out Lunches
DESCRIPTION:FBCW partners with Operation Reach Out by providing 40 bagged lunches\, on the third Friday of every month\, for those who attend their daily Bible study. We are in need of volunteers to help provide these lunches. If you would like to donate an item for the lunches or prepare sandwiches\, please contact Allison Matthews.
URL:https://fbcw.com/event/operation-reach-out-lunches-2-copy-2-copy-copy-copy-copy-2-copy-copy/
CATEGORIES:Outreach
END:VEVENT
BEGIN:VEVENT
DTSTART;TZID=America/New_York:20211015T080000
DTEND;TZID=America/New_York:20211015T103000
DTSTAMP:20260423T175647
CREATED:20210914T170259Z
LAST-MODIFIED:20210914T170327Z
UID:5234-1634284800-1634293800@fbcw.com
SUMMARY:Operation Reach-Out Lunches
DESCRIPTION:FBCW partners with Operation Reach Out by providing 40 bagged lunches\, on the third Friday of every month\, for those who attend their daily Bible study. We are in need of volunteers to help provide these lunches. If you would like to donate an item for the lunches or prepare sandwiches\, please contact Allison Matthews.
URL:https://fbcw.com/event/operation-reach-out-lunches-2-copy-2-copy-copy-copy-copy-2-copy/
CATEGORIES:Outreach
END:VEVENT
BEGIN:VEVENT
DTSTART;TZID=America/New_York:20210917T080000
DTEND;TZID=America/New_York:20210917T103000
DTSTAMP:20260423T175647
CREATED:20210819T154554Z
LAST-MODIFIED:20210819T154614Z
UID:5161-1631865600-1631874600@fbcw.com
SUMMARY:Operation Reach-Out Lunches
DESCRIPTION:FBCW partners with Operation Reach Out by providing 40 bagged lunches\, on the third Friday of every month\, for those who attend their daily Bible study. We are in need of volunteers to help provide these lunches. If you would like to donate an item for the lunches or prepare sandwiches\, please contact Allison Matthews.
URL:https://fbcw.com/event/operation-reach-out-lunches-2-copy-2-copy-copy-copy-copy-2/
CATEGORIES:Outreach
END:VEVENT
BEGIN:VEVENT
DTSTART;TZID=America/New_York:20210820T080000
DTEND;TZID=America/New_York:20210820T103000
DTSTAMP:20260423T175647
CREATED:20210708T141932Z
LAST-MODIFIED:20210708T141954Z
UID:5075-1629446400-1629455400@fbcw.com
SUMMARY:Operation Reach-Out Lunches
DESCRIPTION:FBCW partners with Operation Reach Out by providing 40 bagged lunches\, on the third Friday of every month\, for those who attend their daily Bible study. We are in need of volunteers to help provide these lunches. If you would like to donate an item for the lunches or prepare sandwiches\, please contact Allison Matthews.
URL:https://fbcw.com/event/operation-reach-out-lunches-2-copy-2-copy-copy-copy/
CATEGORIES:Outreach
END:VEVENT
END:VCALENDAR