BEGIN:VCALENDAR
VERSION:2.0
PRODID:-//First Baptist Church of Weddington - ECPv6.15.20//NONSGML v1.0//EN
CALSCALE:GREGORIAN
METHOD:PUBLISH
X-ORIGINAL-URL:https://fbcw.com
X-WR-CALDESC:Events for First Baptist Church of Weddington
REFRESH-INTERVAL;VALUE=DURATION:PT1H
X-Robots-Tag:noindex
X-PUBLISHED-TTL:PT1H
BEGIN:VTIMEZONE
TZID:America/New_York
BEGIN:DAYLIGHT
TZOFFSETFROM:-0500
TZOFFSETTO:-0400
TZNAME:EDT
DTSTART:20200308T070000
END:DAYLIGHT
BEGIN:STANDARD
TZOFFSETFROM:-0400
TZOFFSETTO:-0500
TZNAME:EST
DTSTART:20201101T060000
END:STANDARD
BEGIN:DAYLIGHT
TZOFFSETFROM:-0500
TZOFFSETTO:-0400
TZNAME:EDT
DTSTART:20210314T070000
END:DAYLIGHT
BEGIN:STANDARD
TZOFFSETFROM:-0400
TZOFFSETTO:-0500
TZNAME:EST
DTSTART:20211107T060000
END:STANDARD
BEGIN:DAYLIGHT
TZOFFSETFROM:-0500
TZOFFSETTO:-0400
TZNAME:EDT
DTSTART:20220313T070000
END:DAYLIGHT
BEGIN:STANDARD
TZOFFSETFROM:-0400
TZOFFSETTO:-0500
TZNAME:EST
DTSTART:20221106T060000
END:STANDARD
BEGIN:DAYLIGHT
TZOFFSETFROM:-0500
TZOFFSETTO:-0400
TZNAME:EDT
DTSTART:20230312T070000
END:DAYLIGHT
BEGIN:STANDARD
TZOFFSETFROM:-0400
TZOFFSETTO:-0500
TZNAME:EST
DTSTART:20231105T060000
END:STANDARD
BEGIN:DAYLIGHT
TZOFFSETFROM:-0500
TZOFFSETTO:-0400
TZNAME:EDT
DTSTART:20240310T070000
END:DAYLIGHT
BEGIN:STANDARD
TZOFFSETFROM:-0400
TZOFFSETTO:-0500
TZNAME:EST
DTSTART:20241103T060000
END:STANDARD
BEGIN:DAYLIGHT
TZOFFSETFROM:-0500
TZOFFSETTO:-0400
TZNAME:EDT
DTSTART:20250309T070000
END:DAYLIGHT
BEGIN:STANDARD
TZOFFSETFROM:-0400
TZOFFSETTO:-0500
TZNAME:EST
DTSTART:20251102T060000
END:STANDARD
BEGIN:DAYLIGHT
TZOFFSETFROM:-0500
TZOFFSETTO:-0400
TZNAME:EDT
DTSTART:20260308T070000
END:DAYLIGHT
BEGIN:STANDARD
TZOFFSETFROM:-0400
TZOFFSETTO:-0500
TZNAME:EST
DTSTART:20261101T060000
END:STANDARD
END:VTIMEZONE
BEGIN:VTIMEZONE
TZID:America/New_York
BEGIN:DAYLIGHT
TZOFFSETFROM:-0500
TZOFFSETTO:-0400
TZNAME:EDT
DTSTART:20190310T070000
END:DAYLIGHT
BEGIN:STANDARD
TZOFFSETFROM:-0400
TZOFFSETTO:-0500
TZNAME:EST
DTSTART:20191103T060000
END:STANDARD
BEGIN:DAYLIGHT
TZOFFSETFROM:-0500
TZOFFSETTO:-0400
TZNAME:EDT
DTSTART:20200308T070000
END:DAYLIGHT
BEGIN:STANDARD
TZOFFSETFROM:-0400
TZOFFSETTO:-0500
TZNAME:EST
DTSTART:20201101T060000
END:STANDARD
BEGIN:DAYLIGHT
TZOFFSETFROM:-0500
TZOFFSETTO:-0400
TZNAME:EDT
DTSTART:20210314T070000
END:DAYLIGHT
BEGIN:STANDARD
TZOFFSETFROM:-0400
TZOFFSETTO:-0500
TZNAME:EST
DTSTART:20211107T060000
END:STANDARD
END:VTIMEZONE
BEGIN:VTIMEZONE
TZID:UTC
BEGIN:STANDARD
TZOFFSETFROM:+0000
TZOFFSETTO:+0000
TZNAME:UTC
DTSTART:20180101T000000
END:STANDARD
END:VTIMEZONE
BEGIN:VEVENT
DTSTART;VALUE=DATE:20251102
DTEND;VALUE=DATE:20251117
DTSTAMP:20260423T110818
CREATED:20251015T183611Z
LAST-MODIFIED:20251023T172100Z
UID:8864-1762041600-1763337599@fbcw.com
SUMMARY:Operation Christmas Child Shoebox Collection
DESCRIPTION:Since 1993\, God has used Samaritan’s Purse to deliver over 232 million Operation Christmas Child shoebox gifts to children in need and disciple millions of these boys and girls. \nOperation Christmas Child delivers gifts to children across the globe in over 170 countries — reaching those affected by natural disasters\, disease\, war\, terrorism\, poverty\, and famine. Each box contains gifts\, toys\, hygiene items\, and a Gospel storybook in the child’s language. \nYou can shine the light of the Gospel around the world through the power of a simple gift! \n\nShoeboxes will be available at FBCW starting November 2.\nHow to Pack a Shoebox – Fill a box with gifts for a boy or girl\, ages 2–14. Get updated tips on what to pack (and what NOT to pack) in your shoebox. Then\, drop off filled and labeled boxes to the church lobby by Sunday\, November 16.\nSee Starla Campbell if you have any questions.\n\n  \nINSTRUCTIONS \nBuild Your Shoebox Online! – Operation Christmas Child
URL:https://fbcw.com/event/operation-christmas-child-shoebox-collection/
CATEGORIES:Missions
END:VEVENT
BEGIN:VEVENT
DTSTART;TZID=America/New_York:20250928T103000
DTEND;TZID=America/New_York:20250928T113000
DTSTAMP:20260423T110818
CREATED:20250904T192536Z
LAST-MODIFIED:20250904T192914Z
UID:8777-1759055400-1759059000@fbcw.com
SUMMARY:Global Missions Service
DESCRIPTION:This year\, we will be receiving our global missions offering in the month of September\, and all proceeds will go to Marty and Jan Sanders for their upcoming move to serve as missionaries in Ethiopia. Our goal is $10\,000. We will have a Global Missions Service on Sunday\, September 28th. Please be in prayer about what the Lord would have you give toward this year’s offering.
URL:https://fbcw.com/event/global-missions-service/
CATEGORIES:Missions
END:VEVENT
BEGIN:VEVENT
DTSTART;TZID=America/New_York:20250928T091500
DTEND;TZID=America/New_York:20250928T120000
DTSTAMP:20260423T110818
CREATED:20250918T201757Z
LAST-MODIFIED:20250918T201757Z
UID:8796-1759050900-1759060800@fbcw.com
SUMMARY:Muffins for Missions
DESCRIPTION:Join us for an extra-sweet Sunday on September 28! Our FBCW Kids are hosting a bake sale with all proceeds going toward the Global Missions Offering.
URL:https://fbcw.com/event/muffins-for-missions/
LOCATION:First Baptist Church of Weddington\, 348 Providence Road South\, Weddington\, NC\, 28173\, United States
CATEGORIES:Children,Missions
END:VEVENT
BEGIN:VEVENT
DTSTART;TZID=America/New_York:20250910T183000
DTEND;TZID=America/New_York:20250910T193000
DTSTAMP:20260423T110818
CREATED:20250903T131045Z
LAST-MODIFIED:20250904T141808Z
UID:8762-1757529000-1757532600@fbcw.com
SUMMARY:Missions Night
DESCRIPTION:Join us Wednesday\, September 10th\, at 6:30PM for our next Missions Night! Pastor Jordon and Karis will be sharing about their recent mission trip to Uganda. You’ll learn about Ugandan culture\, hear stories of God’s power in the salvation of the lost\, and how you can be praying for the Ugandan people.
URL:https://fbcw.com/event/missions-night-3/
LOCATION:First Baptist Church of Weddington\, 348 Providence Road South\, Weddington\, NC\, 28173\, United States
CATEGORIES:Missions
END:VEVENT
BEGIN:VEVENT
DTSTART;TZID=America/New_York:20250803T180000
DTEND;TZID=America/New_York:20250803T190000
DTSTAMP:20260423T110818
CREATED:20250728T153858Z
LAST-MODIFIED:20250728T153858Z
UID:8718-1754244000-1754247600@fbcw.com
SUMMARY:Missions Night
DESCRIPTION:Join us Sunday evening\, August 3\, at 6:00pm for a “Missions Night” with Pastor Marty and Jan! We will hear more about their upcoming move and spend time in prayer for them.
URL:https://fbcw.com/event/missions-night-2/
CATEGORIES:Missions
END:VEVENT
BEGIN:VEVENT
DTSTART;VALUE=DATE:20210307
DTEND;VALUE=DATE:20210315
DTSTAMP:20260423T110818
CREATED:20210303T175629Z
LAST-MODIFIED:20210303T175629Z
UID:4638-1615075200-1615766399@fbcw.com
SUMMARY:Week of Prayer for North American Missions & The Annie Armstrong Easter Offering
DESCRIPTION:Prayer guides are available on the Connection Desk.
URL:https://fbcw.com/event/week-of-prayer-for-north-american-missions-the-annie-armstrong-easter-offering-2/
LOCATION:First Baptist Church of Weddington\, 348 Providence Road South\, Weddington\, NC\, 28173\, United States
CATEGORIES:Missions
END:VEVENT
BEGIN:VEVENT
DTSTART;TZID=America/New_York:20210306T100000
DTEND;TZID=America/New_York:20210306T120000
DTSTAMP:20260423T110818
CREATED:20210303T175426Z
LAST-MODIFIED:20210303T175426Z
UID:4636-1615024800-1615032000@fbcw.com
SUMMARY:Yard Work Day
DESCRIPTION:There will be a work day (weather permitting) at Sharon Pinkham’s house this Saturday\, March 6th at 10am.  We need people to come blow leaves and pick up sticks to get the yard ready for the summer mowing season.  Please bring your leaf blowers\, wheelbarrows\, tarps and rakes.  If you can help\, please contact David Campbell.
URL:https://fbcw.com/event/yard-work-day/
CATEGORIES:Missions
END:VEVENT
BEGIN:VEVENT
DTSTART;TZID=America/New_York:20200809T180000
DTEND;TZID=America/New_York:20200809T190000
DTSTAMP:20260423T110818
CREATED:20200803T153234Z
LAST-MODIFIED:20200803T153234Z
UID:3811-1596996000-1596999600@fbcw.com
SUMMARY:Missions Night
DESCRIPTION:You and your family are welcome to join us on ZOOM this Sunday\, August 9th\, at 6pm for a very special night about missions.  The Zoom invitation (link) will be sent out via email later this week. 
URL:https://fbcw.com/event/missions-night/
CATEGORIES:Missions
END:VEVENT
BEGIN:VEVENT
DTSTART;TZID=UTC:20190908T180000
DTEND;TZID=UTC:20190908T190000
DTSTAMP:20260423T110818
CREATED:20190725T225751Z
LAST-MODIFIED:20190725T225751Z
UID:2559-1567965600-1567969200@fbcw.com
SUMMARY:Honduras Mission Trip Report
DESCRIPTION:Join us on Sunday\, September 8\, at 6:00pm for a report on the Honduras Baptist Dental Mission Trip. \n 
URL:https://fbcw.com/event/honduras-mission-trip-report/
CATEGORIES:Missions
END:VEVENT
END:VCALENDAR