BEGIN:VCALENDAR
VERSION:2.0
PRODID:-//First Baptist Church of Weddington - ECPv6.15.20//NONSGML v1.0//EN
CALSCALE:GREGORIAN
METHOD:PUBLISH
X-WR-CALNAME:First Baptist Church of Weddington
X-ORIGINAL-URL:https://fbcw.com
X-WR-CALDESC:Events for First Baptist Church of Weddington
REFRESH-INTERVAL;VALUE=DURATION:PT1H
X-Robots-Tag:noindex
X-PUBLISHED-TTL:PT1H
BEGIN:VTIMEZONE
TZID:America/New_York
BEGIN:DAYLIGHT
TZOFFSETFROM:-0500
TZOFFSETTO:-0400
TZNAME:EDT
DTSTART:20240310T070000
END:DAYLIGHT
BEGIN:STANDARD
TZOFFSETFROM:-0400
TZOFFSETTO:-0500
TZNAME:EST
DTSTART:20241103T060000
END:STANDARD
BEGIN:DAYLIGHT
TZOFFSETFROM:-0500
TZOFFSETTO:-0400
TZNAME:EDT
DTSTART:20250309T070000
END:DAYLIGHT
BEGIN:STANDARD
TZOFFSETFROM:-0400
TZOFFSETTO:-0500
TZNAME:EST
DTSTART:20251102T060000
END:STANDARD
BEGIN:DAYLIGHT
TZOFFSETFROM:-0500
TZOFFSETTO:-0400
TZNAME:EDT
DTSTART:20260308T070000
END:DAYLIGHT
BEGIN:STANDARD
TZOFFSETFROM:-0400
TZOFFSETTO:-0500
TZNAME:EST
DTSTART:20261101T060000
END:STANDARD
END:VTIMEZONE
BEGIN:VEVENT
DTSTART;VALUE=DATE:20251102
DTEND;VALUE=DATE:20251117
DTSTAMP:20260423T192654
CREATED:20251015T183611Z
LAST-MODIFIED:20251023T172100Z
UID:8864-1762041600-1763337599@fbcw.com
SUMMARY:Operation Christmas Child Shoebox Collection
DESCRIPTION:Since 1993\, God has used Samaritan’s Purse to deliver over 232 million Operation Christmas Child shoebox gifts to children in need and disciple millions of these boys and girls. \nOperation Christmas Child delivers gifts to children across the globe in over 170 countries — reaching those affected by natural disasters\, disease\, war\, terrorism\, poverty\, and famine. Each box contains gifts\, toys\, hygiene items\, and a Gospel storybook in the child’s language. \nYou can shine the light of the Gospel around the world through the power of a simple gift! \n\nShoeboxes will be available at FBCW starting November 2.\nHow to Pack a Shoebox – Fill a box with gifts for a boy or girl\, ages 2–14. Get updated tips on what to pack (and what NOT to pack) in your shoebox. Then\, drop off filled and labeled boxes to the church lobby by Sunday\, November 16.\nSee Starla Campbell if you have any questions.\n\n  \nINSTRUCTIONS \nBuild Your Shoebox Online! – Operation Christmas Child
URL:https://fbcw.com/event/operation-christmas-child-shoebox-collection/
CATEGORIES:Missions
END:VEVENT
END:VCALENDAR