BEGIN:VCALENDAR
VERSION:2.0
PRODID:-//First Baptist Church of Weddington - ECPv6.15.20//NONSGML v1.0//EN
CALSCALE:GREGORIAN
METHOD:PUBLISH
X-WR-CALNAME:First Baptist Church of Weddington
X-ORIGINAL-URL:https://fbcw.com
X-WR-CALDESC:Events for First Baptist Church of Weddington
REFRESH-INTERVAL;VALUE=DURATION:PT1H
X-Robots-Tag:noindex
X-PUBLISHED-TTL:PT1H
BEGIN:VTIMEZONE
TZID:America/New_York
BEGIN:DAYLIGHT
TZOFFSETFROM:-0500
TZOFFSETTO:-0400
TZNAME:EDT
DTSTART:20230312T070000
END:DAYLIGHT
BEGIN:STANDARD
TZOFFSETFROM:-0400
TZOFFSETTO:-0500
TZNAME:EST
DTSTART:20231105T060000
END:STANDARD
BEGIN:DAYLIGHT
TZOFFSETFROM:-0500
TZOFFSETTO:-0400
TZNAME:EDT
DTSTART:20240310T070000
END:DAYLIGHT
BEGIN:STANDARD
TZOFFSETFROM:-0400
TZOFFSETTO:-0500
TZNAME:EST
DTSTART:20241103T060000
END:STANDARD
BEGIN:DAYLIGHT
TZOFFSETFROM:-0500
TZOFFSETTO:-0400
TZNAME:EDT
DTSTART:20250309T070000
END:DAYLIGHT
BEGIN:STANDARD
TZOFFSETFROM:-0400
TZOFFSETTO:-0500
TZNAME:EST
DTSTART:20251102T060000
END:STANDARD
BEGIN:DAYLIGHT
TZOFFSETFROM:-0500
TZOFFSETTO:-0400
TZNAME:EDT
DTSTART:20260308T070000
END:DAYLIGHT
BEGIN:STANDARD
TZOFFSETFROM:-0400
TZOFFSETTO:-0500
TZNAME:EST
DTSTART:20261101T060000
END:STANDARD
END:VTIMEZONE
BEGIN:VEVENT
DTSTART;TZID=America/New_York:20250607T090000
DTEND;TZID=America/New_York:20250607T103000
DTSTAMP:20260425T113827
CREATED:20250515T154502Z
LAST-MODIFIED:20250515T154515Z
UID:8492-1749286800-1749292200@fbcw.com
SUMMARY:Men's Breakfast
DESCRIPTION:All the men are invited to meet at Vera’s Kitchen in Waxhaw (first Saturday of every month) at 9:00am for breakfast and fellowship.  If you have any questions\, contact David Campbell.
URL:https://fbcw.com/event/mens-breakfast-2-copy-copy-copy-copy-copy-copy-copy-2-copy-copy-copy-copy-copy-2-copy-copy-copy-copy-copy-copy-copy-copy-copy-copy-2-copy-copy-copy-copy-copy-copy-copy-copy/
LOCATION:Vera’s Kitchen\, 203 N Broome St\, Waxhaw\, North Carolina\, 28173
CATEGORIES:Men's Ministry
END:VEVENT
BEGIN:VEVENT
DTSTART;TZID=America/New_York:20250606T070000
DTEND;TZID=America/New_York:20250606T080000
DTSTAMP:20260425T113827
CREATED:20250515T154328Z
LAST-MODIFIED:20250528T170533Z
UID:8482-1749193200-1749196800@fbcw.com
SUMMARY:First Men - Community Group Breakfast
DESCRIPTION:This group will meet at 7am every Friday morning at Vera’s Kitchen in Waxhaw. See Pastor Marty if you have any questions.
URL:https://fbcw.com/event/first-men-community-group-2-copy-copy-2-copy-copy-copy-copy-copy-copy-copy-copy-copy-copy-copy-copy-copy-copy-copy-copy-copy-2-copy-copy-copy-2-copy-copy-copy-copy-copy-copy-copy-copy-copy-copy-cop-33/
LOCATION:Vera’s Kitchen\, 203 N Broome St\, Waxhaw\, North Carolina\, 28173
CATEGORIES:Men's Ministry
END:VEVENT
BEGIN:VEVENT
DTSTART;TZID=America/New_York:20250530T070000
DTEND;TZID=America/New_York:20250530T080000
DTSTAMP:20260425T113827
CREATED:20250515T154315Z
LAST-MODIFIED:20250528T170622Z
UID:8480-1748588400-1748592000@fbcw.com
SUMMARY:First Men - Community Group Breakfast
DESCRIPTION:This group will meet at 7am every Friday morning at Vera’s Kitchen in Waxhaw. See Pastor Marty if you have any questions.
URL:https://fbcw.com/event/first-men-community-group-2-copy-copy-2-copy-copy-copy-copy-copy-copy-copy-copy-copy-copy-copy-copy-copy-copy-copy-copy-copy-2-copy-copy-copy-2-copy-copy-copy-copy-copy-copy-copy-copy-copy-copy-cop-32/
LOCATION:Vera’s Kitchen\, 203 N Broome St\, Waxhaw\, North Carolina\, 28173
CATEGORIES:Men's Ministry
END:VEVENT
BEGIN:VEVENT
DTSTART;TZID=America/New_York:20250523T080000
DTEND;TZID=America/New_York:20250523T090000
DTSTAMP:20260425T113827
CREATED:20250515T154301Z
LAST-MODIFIED:20250515T154312Z
UID:8478-1747987200-1747990800@fbcw.com
SUMMARY:First Men - Community Group Breakfast
DESCRIPTION:This group will meet at 8am every Friday morning at Vera’s Kitchen in Waxhaw. See Pastor Marty if you have any questions.
URL:https://fbcw.com/event/first-men-community-group-2-copy-copy-2-copy-copy-copy-copy-copy-copy-copy-copy-copy-copy-copy-copy-copy-copy-copy-copy-copy-2-copy-copy-copy-2-copy-copy-copy-copy-copy-copy-copy-copy-copy-copy-cop-31/
LOCATION:Vera’s Kitchen\, 203 N Broome St\, Waxhaw\, North Carolina\, 28173
CATEGORIES:Men's Ministry
END:VEVENT
BEGIN:VEVENT
DTSTART;TZID=America/New_York:20250516T080000
DTEND;TZID=America/New_York:20250516T090000
DTSTAMP:20260425T113827
CREATED:20250515T154248Z
LAST-MODIFIED:20250515T154258Z
UID:8476-1747382400-1747386000@fbcw.com
SUMMARY:First Men - Community Group Breakfast
DESCRIPTION:This group will meet at 8am every Friday morning at Vera’s Kitchen in Waxhaw. See Pastor Marty if you have any questions.
URL:https://fbcw.com/event/first-men-community-group-2-copy-copy-2-copy-copy-copy-copy-copy-copy-copy-copy-copy-copy-copy-copy-copy-copy-copy-copy-copy-2-copy-copy-copy-2-copy-copy-copy-copy-copy-copy-copy-copy-copy-copy-cop-30/
LOCATION:Vera’s Kitchen\, 203 N Broome St\, Waxhaw\, North Carolina\, 28173
CATEGORIES:Men's Ministry
END:VEVENT
BEGIN:VEVENT
DTSTART;TZID=America/New_York:20250509T080000
DTEND;TZID=America/New_York:20250509T090000
DTSTAMP:20260425T113827
CREATED:20250515T154234Z
LAST-MODIFIED:20250515T154245Z
UID:8474-1746777600-1746781200@fbcw.com
SUMMARY:First Men - Community Group Breakfast
DESCRIPTION:This group will meet at 8am every Friday morning at Vera’s Kitchen in Waxhaw. See Pastor Marty if you have any questions.
URL:https://fbcw.com/event/first-men-community-group-2-copy-copy-2-copy-copy-copy-copy-copy-copy-copy-copy-copy-copy-copy-copy-copy-copy-copy-copy-copy-2-copy-copy-copy-2-copy-copy-copy-copy-copy-copy-copy-copy-copy-copy-cop-29/
LOCATION:Vera’s Kitchen\, 203 N Broome St\, Waxhaw\, North Carolina\, 28173
CATEGORIES:Men's Ministry
END:VEVENT
BEGIN:VEVENT
DTSTART;TZID=America/New_York:20250503T090000
DTEND;TZID=America/New_York:20250503T103000
DTSTAMP:20260425T113827
CREATED:20250515T154447Z
LAST-MODIFIED:20250515T154459Z
UID:8490-1746262800-1746268200@fbcw.com
SUMMARY:Men's Breakfast
DESCRIPTION:All the men are invited to meet at Vera’s Kitchen in Waxhaw (first Saturday of every month) at 9:00am for breakfast and fellowship.  If you have any questions\, contact David Campbell.
URL:https://fbcw.com/event/mens-breakfast-2-copy-copy-copy-copy-copy-copy-copy-2-copy-copy-copy-copy-copy-2-copy-copy-copy-copy-copy-copy-copy-copy-copy-copy-2-copy-copy-copy-copy-copy-copy-copy/
LOCATION:Vera’s Kitchen\, 203 N Broome St\, Waxhaw\, North Carolina\, 28173
CATEGORIES:Men's Ministry
END:VEVENT
BEGIN:VEVENT
DTSTART;TZID=America/New_York:20250502T080000
DTEND;TZID=America/New_York:20250502T090000
DTSTAMP:20260425T113827
CREATED:20250515T154215Z
LAST-MODIFIED:20250515T154230Z
UID:8472-1746172800-1746176400@fbcw.com
SUMMARY:First Men - Community Group Breakfast
DESCRIPTION:This group will meet at 8am every Friday morning at Vera’s Kitchen in Waxhaw. See Pastor Marty if you have any questions.
URL:https://fbcw.com/event/first-men-community-group-2-copy-copy-2-copy-copy-copy-copy-copy-copy-copy-copy-copy-copy-copy-copy-copy-copy-copy-copy-copy-2-copy-copy-copy-2-copy-copy-copy-copy-copy-copy-copy-copy-copy-copy-cop-28/
LOCATION:Vera’s Kitchen\, 203 N Broome St\, Waxhaw\, North Carolina\, 28173
CATEGORIES:Men's Ministry
END:VEVENT
BEGIN:VEVENT
DTSTART;TZID=America/New_York:20250425T080000
DTEND;TZID=America/New_York:20250425T090000
DTSTAMP:20260425T113827
CREATED:20250227T184715Z
LAST-MODIFIED:20250227T184726Z
UID:8349-1745568000-1745571600@fbcw.com
SUMMARY:First Men - Community Group Breakfast
DESCRIPTION:This group will meet at 8am every Friday morning at Vera’s Kitchen in Waxhaw. See Pastor Marty if you have any questions.
URL:https://fbcw.com/event/first-men-community-group-2-copy-copy-2-copy-copy-copy-copy-copy-copy-copy-copy-copy-copy-copy-copy-copy-copy-copy-copy-copy-2-copy-copy-copy-2-copy-copy-copy-copy-copy-copy-copy-copy-copy-copy-cop-27/
LOCATION:Vera’s Kitchen\, 203 N Broome St\, Waxhaw\, North Carolina\, 28173
CATEGORIES:Men's Ministry
END:VEVENT
BEGIN:VEVENT
DTSTART;TZID=America/New_York:20250418T080000
DTEND;TZID=America/New_York:20250418T090000
DTSTAMP:20260425T113827
CREATED:20250227T184659Z
LAST-MODIFIED:20250313T172823Z
UID:8347-1744963200-1744966800@fbcw.com
SUMMARY:No First Men - Community Group Breakfast
DESCRIPTION:We will not meet today. \n 
URL:https://fbcw.com/event/first-men-community-group-2-copy-copy-2-copy-copy-copy-copy-copy-copy-copy-copy-copy-copy-copy-copy-copy-copy-copy-copy-copy-2-copy-copy-copy-2-copy-copy-copy-copy-copy-copy-copy-copy-copy-copy-cop-26/
LOCATION:Vera’s Kitchen\, 203 N Broome St\, Waxhaw\, North Carolina\, 28173
CATEGORIES:Men's Ministry
END:VEVENT
BEGIN:VEVENT
DTSTART;TZID=America/New_York:20250411T080000
DTEND;TZID=America/New_York:20250411T090000
DTSTAMP:20260425T113827
CREATED:20250227T184644Z
LAST-MODIFIED:20250227T184655Z
UID:8345-1744358400-1744362000@fbcw.com
SUMMARY:First Men - Community Group Breakfast
DESCRIPTION:This group will meet at 8am every Friday morning at Vera’s Kitchen in Waxhaw. See Pastor Marty if you have any questions.
URL:https://fbcw.com/event/first-men-community-group-2-copy-copy-2-copy-copy-copy-copy-copy-copy-copy-copy-copy-copy-copy-copy-copy-copy-copy-copy-copy-2-copy-copy-copy-2-copy-copy-copy-copy-copy-copy-copy-copy-copy-copy-cop-25/
LOCATION:Vera’s Kitchen\, 203 N Broome St\, Waxhaw\, North Carolina\, 28173
CATEGORIES:Men's Ministry
END:VEVENT
BEGIN:VEVENT
DTSTART;TZID=America/New_York:20250405T090000
DTEND;TZID=America/New_York:20250405T103000
DTSTAMP:20260425T113827
CREATED:20250227T183043Z
LAST-MODIFIED:20250227T183057Z
UID:8313-1743843600-1743849000@fbcw.com
SUMMARY:Men's Breakfast
DESCRIPTION:All the men are invited to meet at Vera’s Kitchen in Waxhaw (first Saturday of every month) at 9:00am for breakfast and fellowship.  If you have any questions\, contact David Campbell.
URL:https://fbcw.com/event/mens-breakfast-2-copy-copy-copy-copy-copy-copy-copy-2-copy-copy-copy-copy-copy-2-copy-copy-copy-copy-copy-copy-copy-copy-copy-copy-2-copy-copy-copy-copy-copy-copy/
LOCATION:Vera’s Kitchen\, 203 N Broome St\, Waxhaw\, North Carolina\, 28173
CATEGORIES:Men's Ministry
END:VEVENT
BEGIN:VEVENT
DTSTART;TZID=America/New_York:20250404T080000
DTEND;TZID=America/New_York:20250404T090000
DTSTAMP:20260425T113827
CREATED:20250227T184628Z
LAST-MODIFIED:20250227T184641Z
UID:8343-1743753600-1743757200@fbcw.com
SUMMARY:First Men - Community Group Breakfast
DESCRIPTION:This group will meet at 8am every Friday morning at Vera’s Kitchen in Waxhaw. See Pastor Marty if you have any questions.
URL:https://fbcw.com/event/first-men-community-group-2-copy-copy-2-copy-copy-copy-copy-copy-copy-copy-copy-copy-copy-copy-copy-copy-copy-copy-copy-copy-2-copy-copy-copy-2-copy-copy-copy-copy-copy-copy-copy-copy-copy-copy-cop-24/
LOCATION:Vera’s Kitchen\, 203 N Broome St\, Waxhaw\, North Carolina\, 28173
CATEGORIES:Men's Ministry
END:VEVENT
BEGIN:VEVENT
DTSTART;TZID=America/New_York:20250328T080000
DTEND;TZID=America/New_York:20250328T090000
DTSTAMP:20260425T113827
CREATED:20250219T170708Z
LAST-MODIFIED:20250219T170718Z
UID:8229-1743148800-1743152400@fbcw.com
SUMMARY:First Men - Community Group Breakfast
DESCRIPTION:This group will meet at 8am every Friday morning at Vera’s Kitchen in Waxhaw. See Pastor Marty if you have any questions.
URL:https://fbcw.com/event/first-men-community-group-2-copy-copy-2-copy-copy-copy-copy-copy-copy-copy-copy-copy-copy-copy-copy-copy-copy-copy-copy-copy-2-copy-copy-copy-2-copy-copy-copy-copy-copy-copy-copy-copy-copy-copy-cop-23/
LOCATION:Vera’s Kitchen\, 203 N Broome St\, Waxhaw\, North Carolina\, 28173
CATEGORIES:Men's Ministry
END:VEVENT
BEGIN:VEVENT
DTSTART;TZID=America/New_York:20250321T080000
DTEND;TZID=America/New_York:20250321T090000
DTSTAMP:20260425T113827
CREATED:20250219T170653Z
LAST-MODIFIED:20250219T170704Z
UID:8227-1742544000-1742547600@fbcw.com
SUMMARY:First Men - Community Group Breakfast
DESCRIPTION:This group will meet at 8am every Friday morning at Vera’s Kitchen in Waxhaw. See Pastor Marty if you have any questions.
URL:https://fbcw.com/event/first-men-community-group-2-copy-copy-2-copy-copy-copy-copy-copy-copy-copy-copy-copy-copy-copy-copy-copy-copy-copy-copy-copy-2-copy-copy-copy-2-copy-copy-copy-copy-copy-copy-copy-copy-copy-copy-cop-22/
LOCATION:Vera’s Kitchen\, 203 N Broome St\, Waxhaw\, North Carolina\, 28173
CATEGORIES:Men's Ministry
END:VEVENT
BEGIN:VEVENT
DTSTART;TZID=America/New_York:20250314T080000
DTEND;TZID=America/New_York:20250314T090000
DTSTAMP:20260425T113827
CREATED:20250219T170638Z
LAST-MODIFIED:20250219T170649Z
UID:8225-1741939200-1741942800@fbcw.com
SUMMARY:First Men - Community Group Breakfast
DESCRIPTION:This group will meet at 8am every Friday morning at Vera’s Kitchen in Waxhaw. See Pastor Marty if you have any questions.
URL:https://fbcw.com/event/first-men-community-group-2-copy-copy-2-copy-copy-copy-copy-copy-copy-copy-copy-copy-copy-copy-copy-copy-copy-copy-copy-copy-2-copy-copy-copy-2-copy-copy-copy-copy-copy-copy-copy-copy-copy-copy-cop-21/
LOCATION:Vera’s Kitchen\, 203 N Broome St\, Waxhaw\, North Carolina\, 28173
CATEGORIES:Men's Ministry
END:VEVENT
BEGIN:VEVENT
DTSTART;TZID=America/New_York:20250307T080000
DTEND;TZID=America/New_York:20250307T090000
DTSTAMP:20260425T113827
CREATED:20250219T170622Z
LAST-MODIFIED:20250219T170633Z
UID:8223-1741334400-1741338000@fbcw.com
SUMMARY:First Men - Community Group Breakfast
DESCRIPTION:This group will meet at 8am every Friday morning at Vera’s Kitchen in Waxhaw. See Pastor Marty if you have any questions.
URL:https://fbcw.com/event/first-men-community-group-2-copy-copy-2-copy-copy-copy-copy-copy-copy-copy-copy-copy-copy-copy-copy-copy-copy-copy-copy-copy-2-copy-copy-copy-2-copy-copy-copy-copy-copy-copy-copy-copy-copy-copy-cop-20/
LOCATION:Vera’s Kitchen\, 203 N Broome St\, Waxhaw\, North Carolina\, 28173
CATEGORIES:Men's Ministry
END:VEVENT
BEGIN:VEVENT
DTSTART;TZID=America/New_York:20250301T090000
DTEND;TZID=America/New_York:20250301T103000
DTSTAMP:20260425T113827
CREATED:20250219T170810Z
LAST-MODIFIED:20250219T170821Z
UID:8233-1740819600-1740825000@fbcw.com
SUMMARY:Men's Breakfast
DESCRIPTION:All the men are invited to meet at Vera’s Kitchen in Waxhaw (first Saturday of every month) at 9:00am for breakfast and fellowship.  If you have any questions\, contact David Campbell.
URL:https://fbcw.com/event/mens-breakfast-2-copy-copy-copy-copy-copy-copy-copy-2-copy-copy-copy-copy-copy-2-copy-copy-copy-copy-copy-copy-copy-copy-copy-copy-2-copy-copy-copy-copy-copy/
LOCATION:Vera’s Kitchen\, 203 N Broome St\, Waxhaw\, North Carolina\, 28173
CATEGORIES:Men's Ministry
END:VEVENT
BEGIN:VEVENT
DTSTART;TZID=America/New_York:20250228T080000
DTEND;TZID=America/New_York:20250228T090000
DTSTAMP:20260425T113827
CREATED:20250219T170542Z
LAST-MODIFIED:20250219T170601Z
UID:8220-1740729600-1740733200@fbcw.com
SUMMARY:First Men - Community Group Breakfast
DESCRIPTION:This group will meet at 8am every Friday morning at Vera’s Kitchen in Waxhaw. See Pastor Marty if you have any questions.
URL:https://fbcw.com/event/first-men-community-group-2-copy-copy-2-copy-copy-copy-copy-copy-copy-copy-copy-copy-copy-copy-copy-copy-copy-copy-copy-copy-2-copy-copy-copy-2-copy-copy-copy-copy-copy-copy-copy-copy-copy-copy-cop-19/
LOCATION:Vera’s Kitchen\, 203 N Broome St\, Waxhaw\, North Carolina\, 28173
CATEGORIES:Men's Ministry
END:VEVENT
BEGIN:VEVENT
DTSTART;TZID=America/New_York:20250221T080000
DTEND;TZID=America/New_York:20250221T090000
DTSTAMP:20260425T113827
CREATED:20250219T170527Z
LAST-MODIFIED:20250219T170539Z
UID:8218-1740124800-1740128400@fbcw.com
SUMMARY:First Men - Community Group Breakfast
DESCRIPTION:This group will meet at 8am every Friday morning at Vera’s Kitchen in Waxhaw. See Pastor Marty if you have any questions.
URL:https://fbcw.com/event/first-men-community-group-2-copy-copy-2-copy-copy-copy-copy-copy-copy-copy-copy-copy-copy-copy-copy-copy-copy-copy-copy-copy-2-copy-copy-copy-2-copy-copy-copy-copy-copy-copy-copy-copy-copy-copy-cop-18/
LOCATION:Vera’s Kitchen\, 203 N Broome St\, Waxhaw\, North Carolina\, 28173
CATEGORIES:Men's Ministry
END:VEVENT
BEGIN:VEVENT
DTSTART;TZID=America/New_York:20250214T080000
DTEND;TZID=America/New_York:20250214T090000
DTSTAMP:20260425T113827
CREATED:20250219T170502Z
LAST-MODIFIED:20250219T170521Z
UID:8216-1739520000-1739523600@fbcw.com
SUMMARY:First Men - Community Group Breakfast
DESCRIPTION:This group will meet at 8am every Friday morning at Vera’s Kitchen in Waxhaw. See Pastor Marty if you have any questions.
URL:https://fbcw.com/event/first-men-community-group-2-copy-copy-2-copy-copy-copy-copy-copy-copy-copy-copy-copy-copy-copy-copy-copy-copy-copy-copy-copy-2-copy-copy-copy-2-copy-copy-copy-copy-copy-copy-copy-copy-copy-copy-cop-17/
LOCATION:Vera’s Kitchen\, 203 N Broome St\, Waxhaw\, North Carolina\, 28173
CATEGORIES:Men's Ministry
END:VEVENT
BEGIN:VEVENT
DTSTART;TZID=America/New_York:20250207T080000
DTEND;TZID=America/New_York:20250207T090000
DTSTAMP:20260425T113827
CREATED:20250219T164239Z
LAST-MODIFIED:20250219T164254Z
UID:8213-1738915200-1738918800@fbcw.com
SUMMARY:First Men - Community Group Breakfast
DESCRIPTION:This group will meet at 8am every Friday morning at Vera’s Kitchen in Waxhaw. See Pastor Marty if you have any questions.
URL:https://fbcw.com/event/first-men-community-group-2-copy-copy-2-copy-copy-copy-copy-copy-copy-copy-copy-copy-copy-copy-copy-copy-copy-copy-copy-copy-2-copy-copy-copy-2-copy-copy-copy-copy-copy-copy-copy-copy-copy-copy-cop-16/
LOCATION:Vera’s Kitchen\, 203 N Broome St\, Waxhaw\, North Carolina\, 28173
CATEGORIES:Men's Ministry
END:VEVENT
BEGIN:VEVENT
DTSTART;TZID=America/New_York:20250201T090000
DTEND;TZID=America/New_York:20250201T103000
DTSTAMP:20260425T113827
CREATED:20250219T170755Z
LAST-MODIFIED:20250219T170807Z
UID:8231-1738400400-1738405800@fbcw.com
SUMMARY:Men's Breakfast
DESCRIPTION:All the men are invited to meet at Vera’s Kitchen in Waxhaw (first Saturday of every month) at 9:00am for breakfast and fellowship.  If you have any questions\, contact David Campbell.
URL:https://fbcw.com/event/mens-breakfast-2-copy-copy-copy-copy-copy-copy-copy-2-copy-copy-copy-copy-copy-2-copy-copy-copy-copy-copy-copy-copy-copy-copy-copy-2-copy-copy-copy-copy/
LOCATION:Vera’s Kitchen\, 203 N Broome St\, Waxhaw\, North Carolina\, 28173
CATEGORIES:Men's Ministry
END:VEVENT
BEGIN:VEVENT
DTSTART;TZID=America/New_York:20250131T080000
DTEND;TZID=America/New_York:20250131T090000
DTSTAMP:20260425T113827
CREATED:20250102T155103Z
LAST-MODIFIED:20250102T155113Z
UID:8087-1738310400-1738314000@fbcw.com
SUMMARY:First Men - Community Group Breakfast
DESCRIPTION:This group will meet at 8am every Friday morning at Vera’s Kitchen in Waxhaw. See Pastor Marty if you have any questions.
URL:https://fbcw.com/event/first-men-community-group-2-copy-copy-2-copy-copy-copy-copy-copy-copy-copy-copy-copy-copy-copy-copy-copy-copy-copy-copy-copy-2-copy-copy-copy-2-copy-copy-copy-copy-copy-copy-copy-copy-copy-copy-cop-15/
LOCATION:Vera’s Kitchen\, 203 N Broome St\, Waxhaw\, North Carolina\, 28173
CATEGORIES:Men's Ministry
END:VEVENT
BEGIN:VEVENT
DTSTART;TZID=America/New_York:20250124T080000
DTEND;TZID=America/New_York:20250124T090000
DTSTAMP:20260425T113827
CREATED:20250102T155049Z
LAST-MODIFIED:20250102T155100Z
UID:8085-1737705600-1737709200@fbcw.com
SUMMARY:First Men - Community Group Breakfast
DESCRIPTION:This group will meet at 8am every Friday morning at Vera’s Kitchen in Waxhaw. See Pastor Marty if you have any questions.
URL:https://fbcw.com/event/first-men-community-group-2-copy-copy-2-copy-copy-copy-copy-copy-copy-copy-copy-copy-copy-copy-copy-copy-copy-copy-copy-copy-2-copy-copy-copy-2-copy-copy-copy-copy-copy-copy-copy-copy-copy-copy-cop-14/
LOCATION:Vera’s Kitchen\, 203 N Broome St\, Waxhaw\, North Carolina\, 28173
CATEGORIES:Men's Ministry
END:VEVENT
BEGIN:VEVENT
DTSTART;TZID=America/New_York:20250117T080000
DTEND;TZID=America/New_York:20250117T090000
DTSTAMP:20260425T113827
CREATED:20250102T155022Z
LAST-MODIFIED:20250102T155032Z
UID:8083-1737100800-1737104400@fbcw.com
SUMMARY:First Men - Community Group Breakfast
DESCRIPTION:This group will meet at 8am every Friday morning at Vera’s Kitchen in Waxhaw. See Pastor Marty if you have any questions.
URL:https://fbcw.com/event/first-men-community-group-2-copy-copy-2-copy-copy-copy-copy-copy-copy-copy-copy-copy-copy-copy-copy-copy-copy-copy-copy-copy-2-copy-copy-copy-2-copy-copy-copy-copy-copy-copy-copy-copy-copy-copy-cop-13/
LOCATION:Vera’s Kitchen\, 203 N Broome St\, Waxhaw\, North Carolina\, 28173
CATEGORIES:Men's Ministry
END:VEVENT
BEGIN:VEVENT
DTSTART;TZID=America/New_York:20250110T080000
DTEND;TZID=America/New_York:20250110T090000
DTSTAMP:20260425T113827
CREATED:20250102T155006Z
LAST-MODIFIED:20250102T155018Z
UID:8081-1736496000-1736499600@fbcw.com
SUMMARY:First Men - Community Group Breakfast
DESCRIPTION:This group will meet at 8am every Friday morning at Vera’s Kitchen in Waxhaw. See Pastor Marty if you have any questions.
URL:https://fbcw.com/event/first-men-community-group-2-copy-copy-2-copy-copy-copy-copy-copy-copy-copy-copy-copy-copy-copy-copy-copy-copy-copy-copy-copy-2-copy-copy-copy-2-copy-copy-copy-copy-copy-copy-copy-copy-copy-copy-cop-12/
LOCATION:Vera’s Kitchen\, 203 N Broome St\, Waxhaw\, North Carolina\, 28173
CATEGORIES:Men's Ministry
END:VEVENT
BEGIN:VEVENT
DTSTART;TZID=America/New_York:20250104T090000
DTEND;TZID=America/New_York:20250104T103000
DTSTAMP:20260425T113827
CREATED:20250102T155141Z
LAST-MODIFIED:20250102T155156Z
UID:8089-1735981200-1735986600@fbcw.com
SUMMARY:Men's Breakfast
DESCRIPTION:All the men are invited to meet at Vera’s Kitchen in Waxhaw (first Saturday of every month) at 9:00am for breakfast and fellowship.  If you have any questions\, contact David Campbell.
URL:https://fbcw.com/event/mens-breakfast-2-copy-copy-copy-copy-copy-copy-copy-2-copy-copy-copy-copy-copy-2-copy-copy-copy-copy-copy-copy-copy-copy-copy-copy-2-copy-copy-copy/
LOCATION:Vera’s Kitchen\, 203 N Broome St\, Waxhaw\, North Carolina\, 28173
CATEGORIES:Men's Ministry
END:VEVENT
BEGIN:VEVENT
DTSTART;TZID=America/New_York:20250103T080000
DTEND;TZID=America/New_York:20250103T090000
DTSTAMP:20260425T113827
CREATED:20250102T154931Z
LAST-MODIFIED:20250102T155000Z
UID:8079-1735891200-1735894800@fbcw.com
SUMMARY:First Men - Community Group Breakfast
DESCRIPTION:This group will meet at 8am every Friday morning at Vera’s Kitchen in Waxhaw. See Pastor Marty if you have any questions.
URL:https://fbcw.com/event/first-men-community-group-2-copy-copy-2-copy-copy-copy-copy-copy-copy-copy-copy-copy-copy-copy-copy-copy-copy-copy-copy-copy-2-copy-copy-copy-2-copy-copy-copy-copy-copy-copy-copy-copy-copy-copy-cop-11/
LOCATION:Vera’s Kitchen\, 203 N Broome St\, Waxhaw\, North Carolina\, 28173
CATEGORIES:Men's Ministry
END:VEVENT
BEGIN:VEVENT
DTSTART;TZID=America/New_York:20241227T080000
DTEND;TZID=America/New_York:20241227T090000
DTSTAMP:20260425T113827
CREATED:20241016T170208Z
LAST-MODIFIED:20241016T170251Z
UID:7972-1735286400-1735290000@fbcw.com
SUMMARY:No First Men - Community Group Breakfast
DESCRIPTION:There will be no men’s breakfast today.
URL:https://fbcw.com/event/first-men-community-group-2-copy-copy-2-copy-copy-copy-copy-copy-copy-copy-copy-copy-copy-copy-copy-copy-copy-copy-copy-copy-2-copy-copy-copy-2-copy-copy-copy-copy-copy-copy-copy-copy-copy-copy-cop-9/
LOCATION:Vera’s Kitchen\, 203 N Broome St\, Waxhaw\, North Carolina\, 28173
CATEGORIES:Men's Ministry
END:VEVENT
END:VCALENDAR