BEGIN:VCALENDAR
VERSION:2.0
PRODID:-//First Baptist Church of Weddington - ECPv6.15.20//NONSGML v1.0//EN
CALSCALE:GREGORIAN
METHOD:PUBLISH
X-WR-CALNAME:First Baptist Church of Weddington
X-ORIGINAL-URL:https://fbcw.com
X-WR-CALDESC:Events for First Baptist Church of Weddington
REFRESH-INTERVAL;VALUE=DURATION:PT1H
X-Robots-Tag:noindex
X-PUBLISHED-TTL:PT1H
BEGIN:VTIMEZONE
TZID:America/New_York
BEGIN:DAYLIGHT
TZOFFSETFROM:-0500
TZOFFSETTO:-0400
TZNAME:EDT
DTSTART:20240310T070000
END:DAYLIGHT
BEGIN:STANDARD
TZOFFSETFROM:-0400
TZOFFSETTO:-0500
TZNAME:EST
DTSTART:20241103T060000
END:STANDARD
BEGIN:DAYLIGHT
TZOFFSETFROM:-0500
TZOFFSETTO:-0400
TZNAME:EDT
DTSTART:20250309T070000
END:DAYLIGHT
BEGIN:STANDARD
TZOFFSETFROM:-0400
TZOFFSETTO:-0500
TZNAME:EST
DTSTART:20251102T060000
END:STANDARD
BEGIN:DAYLIGHT
TZOFFSETFROM:-0500
TZOFFSETTO:-0400
TZNAME:EDT
DTSTART:20260308T070000
END:DAYLIGHT
BEGIN:STANDARD
TZOFFSETFROM:-0400
TZOFFSETTO:-0500
TZNAME:EST
DTSTART:20261101T060000
END:STANDARD
BEGIN:DAYLIGHT
TZOFFSETFROM:-0500
TZOFFSETTO:-0400
TZNAME:EDT
DTSTART:20270314T070000
END:DAYLIGHT
BEGIN:STANDARD
TZOFFSETFROM:-0400
TZOFFSETTO:-0500
TZNAME:EST
DTSTART:20271107T060000
END:STANDARD
END:VTIMEZONE
BEGIN:VEVENT
DTSTART;TZID=America/New_York:20250815T070000
DTEND;TZID=America/New_York:20250815T080000
DTSTAMP:20260424T071241
CREATED:20250703T131958Z
LAST-MODIFIED:20250703T132013Z
UID:8673-1755241200-1755244800@fbcw.com
SUMMARY:First Men - Community Group Breakfast
DESCRIPTION:This group will meet at 7am every Friday morning at Vera’s Kitchen in Waxhaw. See Pastor Marty if you have any questions.
URL:https://fbcw.com/event/first-men-community-group-2-copy-copy-2-copy-copy-copy-copy-copy-copy-copy-copy-copy-copy-copy-copy-copy-copy-copy-copy-copy-2-copy-copy-copy-2-copy-copy-copy-copy-copy-copy-copy-copy-copy-copy-cop-42/
LOCATION:Vera’s Kitchen\, 203 N Broome St\, Waxhaw\, North Carolina\, 28173
CATEGORIES:Men's Ministry
END:VEVENT
BEGIN:VEVENT
DTSTART;TZID=America/New_York:20250906T090000
DTEND;TZID=America/New_York:20250906T103000
DTSTAMP:20260424T071241
CREATED:20250723T171849Z
LAST-MODIFIED:20250723T171943Z
UID:8690-1757149200-1757154600@fbcw.com
SUMMARY:Men's Breakfast
DESCRIPTION:All the men are invited to meet at Vera’s Kitchen in Waxhaw (first Saturday of every month) at 9:00am for breakfast and fellowship.  If you have any questions\, contact David Campbell.
URL:https://fbcw.com/event/mens-breakfast-2-copy-copy-copy-copy-copy-copy-copy-2-copy-copy-copy-copy-copy-2-copy-copy-copy-copy-copy-copy-copy-copy-copy-copy-2-copy-copy-copy-copy-copy-copy-copy-copy-copy-copy/
LOCATION:Vera’s Kitchen\, 203 N Broome St\, Waxhaw\, North Carolina\, 28173
CATEGORIES:Men's Ministry
END:VEVENT
BEGIN:VEVENT
DTSTART;TZID=America/New_York:20251004T090000
DTEND;TZID=America/New_York:20251004T103000
DTSTAMP:20260424T071241
CREATED:20251015T183656Z
LAST-MODIFIED:20251015T183715Z
UID:8866-1759568400-1759573800@fbcw.com
SUMMARY:Men's Breakfast
DESCRIPTION:All the men are invited to meet at Vera’s Kitchen in Waxhaw (first Saturday of every month) at 9:00am for breakfast and fellowship.  If you have any questions\, contact David Campbell.
URL:https://fbcw.com/event/mens-breakfast-2-copy-copy-copy-copy-copy-copy-copy-2-copy-copy-copy-copy-copy-2-copy-copy-copy-copy-copy-copy-copy-copy-copy-copy-2-copy-copy-copy-copy-copy-copy-copy-copy-copy-copy-copy-copy/
LOCATION:Vera’s Kitchen\, 203 N Broome St\, Waxhaw\, North Carolina\, 28173
CATEGORIES:Men's Ministry
END:VEVENT
BEGIN:VEVENT
DTSTART;TZID=America/New_York:20251101T090000
DTEND;TZID=America/New_York:20251101T103000
DTSTAMP:20260424T071241
CREATED:20251015T183351Z
LAST-MODIFIED:20251015T183410Z
UID:8862-1761987600-1761993000@fbcw.com
SUMMARY:Men's Breakfast
DESCRIPTION:All the men are invited to meet at Vera’s Kitchen in Waxhaw (first Saturday of every month) at 9:00am for breakfast and fellowship.  If you have any questions\, contact David Campbell.
URL:https://fbcw.com/event/mens-breakfast-2-copy-copy-copy-copy-copy-copy-copy-2-copy-copy-copy-copy-copy-2-copy-copy-copy-copy-copy-copy-copy-copy-copy-copy-2-copy-copy-copy-copy-copy-copy-copy-copy-copy-copy-copy/
LOCATION:Vera’s Kitchen\, 203 N Broome St\, Waxhaw\, North Carolina\, 28173
CATEGORIES:Men's Ministry
END:VEVENT
BEGIN:VEVENT
DTSTART;TZID=America/New_York:20251206T090000
DTEND;TZID=America/New_York:20251206T103000
DTSTAMP:20260424T071241
CREATED:20251113T161540Z
LAST-MODIFIED:20251113T161555Z
UID:8972-1765011600-1765017000@fbcw.com
SUMMARY:Men's Breakfast
DESCRIPTION:All the men are invited to meet at Vera’s Kitchen in Waxhaw (first Saturday of every month) at 9:00am for breakfast and fellowship.  If you have any questions\, contact David Campbell.
URL:https://fbcw.com/event/mens-breakfast-2-copy-copy-copy-copy-copy-copy-copy-2-copy-copy-copy-copy-copy-2-copy-copy-copy-copy-copy-copy-copy-copy-copy-copy-2-copy-copy-copy-copy-copy-copy-copy-copy-copy-copy-copy-copy-2/
LOCATION:Vera’s Kitchen\, 203 N Broome St\, Waxhaw\, North Carolina\, 28173
CATEGORIES:Men's Ministry
END:VEVENT
BEGIN:VEVENT
DTSTART;TZID=America/New_York:20260103T090000
DTEND;TZID=America/New_York:20260103T103000
DTSTAMP:20260424T071241
CREATED:20260121T192829Z
LAST-MODIFIED:20260121T192844Z
UID:9091-1767430800-1767436200@fbcw.com
SUMMARY:Men's Breakfast
DESCRIPTION:All the men are invited to meet at Vera’s Kitchen in Waxhaw (first Saturday of every month) at 9:00am for breakfast and fellowship.  If you have any questions\, contact David Campbell.
URL:https://fbcw.com/event/mens-breakfast-2-copy-copy-copy-copy-copy-copy-copy-2-copy-copy-copy-copy-copy-2-copy-copy-copy-copy-copy-copy-copy-copy-copy-copy-2-copy-copy-copy-copy-copy-copy-copy-copy-copy-copy-copy-copy-2-copy/
LOCATION:Vera’s Kitchen\, 203 N Broome St\, Waxhaw\, North Carolina\, 28173
CATEGORIES:Men's Ministry
END:VEVENT
BEGIN:VEVENT
DTSTART;TZID=America/New_York:20260207T090000
DTEND;TZID=America/New_York:20260207T103000
DTSTAMP:20260424T071241
CREATED:20260121T192849Z
LAST-MODIFIED:20260121T192904Z
UID:9093-1770454800-1770460200@fbcw.com
SUMMARY:Men's Breakfast
DESCRIPTION:All the men are invited to meet at Vera’s Kitchen in Waxhaw (first Saturday of every month) at 9:00am for breakfast and fellowship.  If you have any questions\, contact David Campbell.
URL:https://fbcw.com/event/mens-breakfast-2-copy-copy-copy-copy-copy-copy-copy-2-copy-copy-copy-copy-copy-2-copy-copy-copy-copy-copy-copy-copy-copy-copy-copy-2-copy-copy-copy-copy-copy-copy-copy-copy-copy-copy-copy-copy-2-cop-2/
LOCATION:Vera’s Kitchen\, 203 N Broome St\, Waxhaw\, North Carolina\, 28173
CATEGORIES:Men's Ministry
END:VEVENT
BEGIN:VEVENT
DTSTART;TZID=America/New_York:20260307T090000
DTEND;TZID=America/New_York:20260307T103000
DTSTAMP:20260424T071241
CREATED:20260210T183633Z
LAST-MODIFIED:20260210T183657Z
UID:9164-1772874000-1772879400@fbcw.com
SUMMARY:Men's Breakfast
DESCRIPTION:All the men are invited to meet at Vera’s Kitchen in Waxhaw (first Saturday of every month) at 9:00am for breakfast and fellowship.  If you have any questions\, contact David Campbell.
URL:https://fbcw.com/event/mens-breakfast-2-copy-copy-copy-copy-copy-copy-copy-2-copy-copy-copy-copy-copy-2-copy-copy-copy-copy-copy-copy-copy-copy-copy-copy-2-copy-copy-copy-copy-copy-copy-copy-copy-copy-copy-copy-copy-2-cop-3/
LOCATION:Vera’s Kitchen\, 203 N Broome St\, Waxhaw\, North Carolina\, 28173
CATEGORIES:Men's Ministry
END:VEVENT
BEGIN:VEVENT
DTSTART;TZID=America/New_York:20260404T090000
DTEND;TZID=America/New_York:20260404T103000
DTSTAMP:20260424T071241
CREATED:20260402T160703Z
LAST-MODIFIED:20260402T160732Z
UID:9259-1775293200-1775298600@fbcw.com
SUMMARY:Men's Breakfast
DESCRIPTION:All the men are invited to meet at Vera’s Kitchen in Waxhaw (first Saturday of every month) at 9:00am for breakfast and fellowship.  If you have any questions\, contact David Campbell.
URL:https://fbcw.com/event/mens-breakfast-2-copy-copy-copy-copy-copy-copy-copy-2-copy-copy-copy-copy-copy-2-copy-copy-copy-copy-copy-copy-copy-copy-copy-copy-2-copy-copy-copy-copy-copy-copy-copy-copy-copy-copy-copy-copy-2-cop-4/
LOCATION:Vera’s Kitchen\, 203 N Broome St\, Waxhaw\, North Carolina\, 28173
CATEGORIES:Men's Ministry
END:VEVENT
END:VCALENDAR