BEGIN:VCALENDAR
VERSION:2.0
PRODID:-//First Baptist Church of Weddington - ECPv6.15.20//NONSGML v1.0//EN
CALSCALE:GREGORIAN
METHOD:PUBLISH
X-WR-CALNAME:First Baptist Church of Weddington
X-ORIGINAL-URL:https://fbcw.com
X-WR-CALDESC:Events for First Baptist Church of Weddington
REFRESH-INTERVAL;VALUE=DURATION:PT1H
X-Robots-Tag:noindex
X-PUBLISHED-TTL:PT1H
BEGIN:VTIMEZONE
TZID:America/New_York
BEGIN:DAYLIGHT
TZOFFSETFROM:-0500
TZOFFSETTO:-0400
TZNAME:EDT
DTSTART:20240310T070000
END:DAYLIGHT
BEGIN:STANDARD
TZOFFSETFROM:-0400
TZOFFSETTO:-0500
TZNAME:EST
DTSTART:20241103T060000
END:STANDARD
BEGIN:DAYLIGHT
TZOFFSETFROM:-0500
TZOFFSETTO:-0400
TZNAME:EDT
DTSTART:20250309T070000
END:DAYLIGHT
BEGIN:STANDARD
TZOFFSETFROM:-0400
TZOFFSETTO:-0500
TZNAME:EST
DTSTART:20251102T060000
END:STANDARD
BEGIN:DAYLIGHT
TZOFFSETFROM:-0500
TZOFFSETTO:-0400
TZNAME:EDT
DTSTART:20260308T070000
END:DAYLIGHT
BEGIN:STANDARD
TZOFFSETFROM:-0400
TZOFFSETTO:-0500
TZNAME:EST
DTSTART:20261101T060000
END:STANDARD
END:VTIMEZONE
BEGIN:VEVENT
DTSTART;TZID=America/New_York:20250704T080000
DTEND;TZID=America/New_York:20250704T090000
DTSTAMP:20260423T225913
CREATED:20250619T140516Z
LAST-MODIFIED:20250619T140542Z
UID:8575-1751616000-1751619600@fbcw.com
SUMMARY:No First Men - Community Group Breakfast
DESCRIPTION:This group will not meet on July 4.  See Pastor Marty if you have any questions.
URL:https://fbcw.com/event/first-men-community-group-2-copy-copy-2-copy-copy-copy-copy-copy-copy-copy-copy-copy-copy-copy-copy-copy-copy-copy-copy-copy-2-copy-copy-copy-2-copy-copy-copy-copy-copy-copy-copy-copy-copy-copy-2/
LOCATION:Vera’s Kitchen\, 203 N Broome St\, Waxhaw\, North Carolina\, 28173
CATEGORIES:Men's Ministry
END:VEVENT
BEGIN:VEVENT
DTSTART;TZID=America/New_York:20250705T090000
DTEND;TZID=America/New_York:20250705T103000
DTSTAMP:20260423T225913
CREATED:20250619T140433Z
LAST-MODIFIED:20250619T140455Z
UID:8573-1751706000-1751711400@fbcw.com
SUMMARY:No Men's Breakfast
DESCRIPTION:There will be no men’s breakfast this month. \n 
URL:https://fbcw.com/event/mens-breakfast-2-copy-copy-copy-copy-copy-copy-copy-2-copy-copy-copy-copy-copy-2-copy-copy-copy-copy-copy-copy-copy-copy-copy-copy-copy/
LOCATION:Vera’s Kitchen\, 203 N Broome St\, Waxhaw\, North Carolina\, 28173
CATEGORIES:Men's Ministry
END:VEVENT
BEGIN:VEVENT
DTSTART;TZID=America/New_York:20250711T070000
DTEND;TZID=America/New_York:20250711T080000
DTSTAMP:20260423T225913
CREATED:20250619T140622Z
LAST-MODIFIED:20250619T140912Z
UID:8577-1752217200-1752220800@fbcw.com
SUMMARY:First Men - Community Group Breakfast
DESCRIPTION:This group will meet at 7am every Friday morning at Vera’s Kitchen in Waxhaw. See Pastor Marty if you have any questions.
URL:https://fbcw.com/event/first-men-community-group-2-copy-copy-2-copy-copy-copy-copy-copy-copy-copy-copy-copy-copy-copy-copy-copy-copy-copy-copy-copy-2-copy-copy-copy-2-copy-copy-copy-copy-copy-copy-copy-copy-copy-copy-cop-37/
LOCATION:Vera’s Kitchen\, 203 N Broome St\, Waxhaw\, North Carolina\, 28173
CATEGORIES:Men's Ministry
END:VEVENT
BEGIN:VEVENT
DTSTART;TZID=America/New_York:20250718T070000
DTEND;TZID=America/New_York:20250718T080000
DTSTAMP:20260423T225913
CREATED:20250619T140916Z
LAST-MODIFIED:20250619T140931Z
UID:8579-1752822000-1752825600@fbcw.com
SUMMARY:First Men - Community Group Breakfast
DESCRIPTION:This group will meet at 7am every Friday morning at Vera’s Kitchen in Waxhaw. See Pastor Marty if you have any questions.
URL:https://fbcw.com/event/first-men-community-group-2-copy-copy-2-copy-copy-copy-copy-copy-copy-copy-copy-copy-copy-copy-copy-copy-copy-copy-copy-copy-2-copy-copy-copy-2-copy-copy-copy-copy-copy-copy-copy-copy-copy-copy-cop-38/
LOCATION:Vera’s Kitchen\, 203 N Broome St\, Waxhaw\, North Carolina\, 28173
CATEGORIES:Men's Ministry
END:VEVENT
BEGIN:VEVENT
DTSTART;TZID=America/New_York:20250725T070000
DTEND;TZID=America/New_York:20250725T080000
DTSTAMP:20260423T225913
CREATED:20250619T140934Z
LAST-MODIFIED:20250619T140950Z
UID:8581-1753426800-1753430400@fbcw.com
SUMMARY:First Men - Community Group Breakfast
DESCRIPTION:This group will meet at 7am every Friday morning at Vera’s Kitchen in Waxhaw. See Pastor Marty if you have any questions.
URL:https://fbcw.com/event/first-men-community-group-2-copy-copy-2-copy-copy-copy-copy-copy-copy-copy-copy-copy-copy-copy-copy-copy-copy-copy-copy-copy-2-copy-copy-copy-2-copy-copy-copy-copy-copy-copy-copy-copy-copy-copy-cop-39/
LOCATION:Vera’s Kitchen\, 203 N Broome St\, Waxhaw\, North Carolina\, 28173
CATEGORIES:Men's Ministry
END:VEVENT
END:VCALENDAR