BEGIN:VCALENDAR
VERSION:2.0
PRODID:-//First Baptist Church of Weddington - ECPv6.15.20//NONSGML v1.0//EN
CALSCALE:GREGORIAN
METHOD:PUBLISH
X-ORIGINAL-URL:https://fbcw.com
X-WR-CALDESC:Events for First Baptist Church of Weddington
REFRESH-INTERVAL;VALUE=DURATION:PT1H
X-Robots-Tag:noindex
X-PUBLISHED-TTL:PT1H
BEGIN:VTIMEZONE
TZID:America/New_York
BEGIN:DAYLIGHT
TZOFFSETFROM:-0500
TZOFFSETTO:-0400
TZNAME:EDT
DTSTART:20240310T070000
END:DAYLIGHT
BEGIN:STANDARD
TZOFFSETFROM:-0400
TZOFFSETTO:-0500
TZNAME:EST
DTSTART:20241103T060000
END:STANDARD
BEGIN:DAYLIGHT
TZOFFSETFROM:-0500
TZOFFSETTO:-0400
TZNAME:EDT
DTSTART:20250309T070000
END:DAYLIGHT
BEGIN:STANDARD
TZOFFSETFROM:-0400
TZOFFSETTO:-0500
TZNAME:EST
DTSTART:20251102T060000
END:STANDARD
BEGIN:DAYLIGHT
TZOFFSETFROM:-0500
TZOFFSETTO:-0400
TZNAME:EDT
DTSTART:20260308T070000
END:DAYLIGHT
BEGIN:STANDARD
TZOFFSETFROM:-0400
TZOFFSETTO:-0500
TZNAME:EST
DTSTART:20261101T060000
END:STANDARD
END:VTIMEZONE
BEGIN:VEVENT
DTSTART;TZID=America/New_York:20250606T070000
DTEND;TZID=America/New_York:20250606T080000
DTSTAMP:20260424T003803
CREATED:20250515T154328Z
LAST-MODIFIED:20250528T170533Z
UID:8482-1749193200-1749196800@fbcw.com
SUMMARY:First Men - Community Group Breakfast
DESCRIPTION:This group will meet at 7am every Friday morning at Vera’s Kitchen in Waxhaw. See Pastor Marty if you have any questions.
URL:https://fbcw.com/event/first-men-community-group-2-copy-copy-2-copy-copy-copy-copy-copy-copy-copy-copy-copy-copy-copy-copy-copy-copy-copy-copy-copy-2-copy-copy-copy-2-copy-copy-copy-copy-copy-copy-copy-copy-copy-copy-cop-33/
LOCATION:Vera’s Kitchen\, 203 N Broome St\, Waxhaw\, North Carolina\, 28173
CATEGORIES:Men's Ministry
END:VEVENT
BEGIN:VEVENT
DTSTART;TZID=America/New_York:20250607T090000
DTEND;TZID=America/New_York:20250607T103000
DTSTAMP:20260424T003803
CREATED:20250515T154502Z
LAST-MODIFIED:20250515T154515Z
UID:8492-1749286800-1749292200@fbcw.com
SUMMARY:Men's Breakfast
DESCRIPTION:All the men are invited to meet at Vera’s Kitchen in Waxhaw (first Saturday of every month) at 9:00am for breakfast and fellowship.  If you have any questions\, contact David Campbell.
URL:https://fbcw.com/event/mens-breakfast-2-copy-copy-copy-copy-copy-copy-copy-2-copy-copy-copy-copy-copy-2-copy-copy-copy-copy-copy-copy-copy-copy-copy-copy-2-copy-copy-copy-copy-copy-copy-copy-copy/
LOCATION:Vera’s Kitchen\, 203 N Broome St\, Waxhaw\, North Carolina\, 28173
CATEGORIES:Men's Ministry
END:VEVENT
BEGIN:VEVENT
DTSTART;TZID=America/New_York:20250613T070000
DTEND;TZID=America/New_York:20250613T080000
DTSTAMP:20260424T003803
CREATED:20250515T154344Z
LAST-MODIFIED:20250528T170434Z
UID:8484-1749798000-1749801600@fbcw.com
SUMMARY:First Men - Community Group Breakfast
DESCRIPTION:This group will meet at 7am every Friday morning at Vera’s Kitchen in Waxhaw. See Pastor Marty if you have any questions.
URL:https://fbcw.com/event/first-men-community-group-2-copy-copy-2-copy-copy-copy-copy-copy-copy-copy-copy-copy-copy-copy-copy-copy-copy-copy-copy-copy-2-copy-copy-copy-2-copy-copy-copy-copy-copy-copy-copy-copy-copy-copy-cop-34/
LOCATION:Vera’s Kitchen\, 203 N Broome St\, Waxhaw\, North Carolina\, 28173
CATEGORIES:Men's Ministry
END:VEVENT
BEGIN:VEVENT
DTSTART;TZID=America/New_York:20250620T070000
DTEND;TZID=America/New_York:20250620T080000
DTSTAMP:20260424T003803
CREATED:20250515T154358Z
LAST-MODIFIED:20250528T170416Z
UID:8486-1750402800-1750406400@fbcw.com
SUMMARY:First Men - Community Group Breakfast
DESCRIPTION:This group will meet at 7am every Friday morning at Vera’s Kitchen in Waxhaw. See Pastor Marty if you have any questions.
URL:https://fbcw.com/event/first-men-community-group-2-copy-copy-2-copy-copy-copy-copy-copy-copy-copy-copy-copy-copy-copy-copy-copy-copy-copy-copy-copy-2-copy-copy-copy-2-copy-copy-copy-copy-copy-copy-copy-copy-copy-copy-cop-35/
LOCATION:Vera’s Kitchen\, 203 N Broome St\, Waxhaw\, North Carolina\, 28173
CATEGORIES:Men's Ministry
END:VEVENT
BEGIN:VEVENT
DTSTART;TZID=America/New_York:20250627T070000
DTEND;TZID=America/New_York:20250627T080000
DTSTAMP:20260424T003803
CREATED:20250515T154412Z
LAST-MODIFIED:20250528T170512Z
UID:8488-1751007600-1751011200@fbcw.com
SUMMARY:First Men - Community Group Breakfast
DESCRIPTION:This group will meet at 7am every Friday morning at Vera’s Kitchen in Waxhaw. See Pastor Marty if you have any questions.
URL:https://fbcw.com/event/first-men-community-group-2-copy-copy-2-copy-copy-copy-copy-copy-copy-copy-copy-copy-copy-copy-copy-copy-copy-copy-copy-copy-2-copy-copy-copy-2-copy-copy-copy-copy-copy-copy-copy-copy-copy-copy-cop-36/
LOCATION:Vera’s Kitchen\, 203 N Broome St\, Waxhaw\, North Carolina\, 28173
CATEGORIES:Men's Ministry
END:VEVENT
END:VCALENDAR