BEGIN:VCALENDAR
VERSION:2.0
PRODID:-//First Baptist Church of Weddington - ECPv6.15.20//NONSGML v1.0//EN
CALSCALE:GREGORIAN
METHOD:PUBLISH
X-ORIGINAL-URL:https://fbcw.com
X-WR-CALDESC:Events for First Baptist Church of Weddington
REFRESH-INTERVAL;VALUE=DURATION:PT1H
X-Robots-Tag:noindex
X-PUBLISHED-TTL:PT1H
BEGIN:VTIMEZONE
TZID:America/New_York
BEGIN:DAYLIGHT
TZOFFSETFROM:-0500
TZOFFSETTO:-0400
TZNAME:EDT
DTSTART:20230312T070000
END:DAYLIGHT
BEGIN:STANDARD
TZOFFSETFROM:-0400
TZOFFSETTO:-0500
TZNAME:EST
DTSTART:20231105T060000
END:STANDARD
BEGIN:DAYLIGHT
TZOFFSETFROM:-0500
TZOFFSETTO:-0400
TZNAME:EDT
DTSTART:20240310T070000
END:DAYLIGHT
BEGIN:STANDARD
TZOFFSETFROM:-0400
TZOFFSETTO:-0500
TZNAME:EST
DTSTART:20241103T060000
END:STANDARD
BEGIN:DAYLIGHT
TZOFFSETFROM:-0500
TZOFFSETTO:-0400
TZNAME:EDT
DTSTART:20250309T070000
END:DAYLIGHT
BEGIN:STANDARD
TZOFFSETFROM:-0400
TZOFFSETTO:-0500
TZNAME:EST
DTSTART:20251102T060000
END:STANDARD
END:VTIMEZONE
BEGIN:VEVENT
DTSTART;TZID=America/New_York:20241101T080000
DTEND;TZID=America/New_York:20241101T090000
DTSTAMP:20260425T173424
CREATED:20241016T165952Z
LAST-MODIFIED:20241016T170006Z
UID:7956-1730448000-1730451600@fbcw.com
SUMMARY:First Men - Community Group Breakfast
DESCRIPTION:This group will meet at 8am every Friday morning at Vera’s Kitchen in Waxhaw. See Pastor Marty if you have any questions.
URL:https://fbcw.com/event/first-men-community-group-2-copy-copy-2-copy-copy-copy-copy-copy-copy-copy-copy-copy-copy-copy-copy-copy-copy-copy-copy-copy-2-copy-copy-copy-2-copy-copy-copy-copy-copy-copy-copy-copy-copy-copy-cop-10/
LOCATION:Vera’s Kitchen\, 203 N Broome St\, Waxhaw\, North Carolina\, 28173
CATEGORIES:Men's Ministry
END:VEVENT
BEGIN:VEVENT
DTSTART;TZID=America/New_York:20241102T090000
DTEND;TZID=America/New_York:20241102T103000
DTSTAMP:20260425T173424
CREATED:20241016T171159Z
LAST-MODIFIED:20241016T171221Z
UID:7983-1730538000-1730543400@fbcw.com
SUMMARY:Men's Breakfast
DESCRIPTION:All the men are invited to meet at Vera’s Kitchen in Waxhaw (first Saturday of every month) at 9:00am for breakfast and fellowship.  If you have any questions\, contact David Campbell.
URL:https://fbcw.com/event/mens-breakfast-2-copy-copy-copy-copy-copy-copy-copy-2-copy-copy-copy-copy-copy-2-copy-copy-copy-copy-copy-copy-copy-copy-copy-copy-2-copy/
LOCATION:Vera’s Kitchen\, 203 N Broome St\, Waxhaw\, North Carolina\, 28173
CATEGORIES:Men's Ministry
END:VEVENT
BEGIN:VEVENT
DTSTART;TZID=America/New_York:20241108T080000
DTEND;TZID=America/New_York:20241108T090000
DTSTAMP:20260425T173424
CREATED:20241016T170009Z
LAST-MODIFIED:20241016T170022Z
UID:7958-1731052800-1731056400@fbcw.com
SUMMARY:First Men - Community Group Breakfast
DESCRIPTION:This group will meet at 8am every Friday morning at Vera’s Kitchen in Waxhaw. See Pastor Marty if you have any questions.
URL:https://fbcw.com/event/first-men-community-group-2-copy-copy-2-copy-copy-copy-copy-copy-copy-copy-copy-copy-copy-copy-copy-copy-copy-copy-copy-copy-2-copy-copy-copy-2-copy-copy-copy-copy-copy-copy-copy-copy-copy-copy-cop-2/
LOCATION:Vera’s Kitchen\, 203 N Broome St\, Waxhaw\, North Carolina\, 28173
CATEGORIES:Men's Ministry
END:VEVENT
BEGIN:VEVENT
DTSTART;TZID=America/New_York:20241115T080000
DTEND;TZID=America/New_York:20241115T090000
DTSTAMP:20260425T173424
CREATED:20241016T170026Z
LAST-MODIFIED:20241016T170041Z
UID:7960-1731657600-1731661200@fbcw.com
SUMMARY:First Men - Community Group Breakfast
DESCRIPTION:This group will meet at 8am every Friday morning at Vera’s Kitchen in Waxhaw. See Pastor Marty if you have any questions.
URL:https://fbcw.com/event/first-men-community-group-2-copy-copy-2-copy-copy-copy-copy-copy-copy-copy-copy-copy-copy-copy-copy-copy-copy-copy-copy-copy-2-copy-copy-copy-2-copy-copy-copy-copy-copy-copy-copy-copy-copy-copy-cop-3/
LOCATION:Vera’s Kitchen\, 203 N Broome St\, Waxhaw\, North Carolina\, 28173
CATEGORIES:Men's Ministry
END:VEVENT
BEGIN:VEVENT
DTSTART;TZID=America/New_York:20241122T080000
DTEND;TZID=America/New_York:20241122T090000
DTSTAMP:20260425T173424
CREATED:20241016T170045Z
LAST-MODIFIED:20241016T170058Z
UID:7962-1732262400-1732266000@fbcw.com
SUMMARY:First Men - Community Group Breakfast
DESCRIPTION:This group will meet at 8am every Friday morning at Vera’s Kitchen in Waxhaw. See Pastor Marty if you have any questions.
URL:https://fbcw.com/event/first-men-community-group-2-copy-copy-2-copy-copy-copy-copy-copy-copy-copy-copy-copy-copy-copy-copy-copy-copy-copy-copy-copy-2-copy-copy-copy-2-copy-copy-copy-copy-copy-copy-copy-copy-copy-copy-cop-4/
LOCATION:Vera’s Kitchen\, 203 N Broome St\, Waxhaw\, North Carolina\, 28173
CATEGORIES:Men's Ministry
END:VEVENT
BEGIN:VEVENT
DTSTART;TZID=America/New_York:20241129T080000
DTEND;TZID=America/New_York:20241129T090000
DTSTAMP:20260425T173424
CREATED:20241016T170101Z
LAST-MODIFIED:20241016T170308Z
UID:7964-1732867200-1732870800@fbcw.com
SUMMARY:No First Men - Community Group Breakfast
DESCRIPTION:There will be no men’s breakfast today.
URL:https://fbcw.com/event/first-men-community-group-2-copy-copy-2-copy-copy-copy-copy-copy-copy-copy-copy-copy-copy-copy-copy-copy-copy-copy-copy-copy-2-copy-copy-copy-2-copy-copy-copy-copy-copy-copy-copy-copy-copy-copy-cop-5/
LOCATION:Vera’s Kitchen\, 203 N Broome St\, Waxhaw\, North Carolina\, 28173
CATEGORIES:Men's Ministry
END:VEVENT
END:VCALENDAR