BEGIN:VCALENDAR
VERSION:2.0
PRODID:-//First Baptist Church of Weddington - ECPv6.15.20//NONSGML v1.0//EN
CALSCALE:GREGORIAN
METHOD:PUBLISH
X-ORIGINAL-URL:https://fbcw.com
X-WR-CALDESC:Events for First Baptist Church of Weddington
REFRESH-INTERVAL;VALUE=DURATION:PT1H
X-Robots-Tag:noindex
X-PUBLISHED-TTL:PT1H
BEGIN:VTIMEZONE
TZID:America/New_York
BEGIN:DAYLIGHT
TZOFFSETFROM:-0500
TZOFFSETTO:-0400
TZNAME:EDT
DTSTART:20210314T070000
END:DAYLIGHT
BEGIN:STANDARD
TZOFFSETFROM:-0400
TZOFFSETTO:-0500
TZNAME:EST
DTSTART:20211107T060000
END:STANDARD
BEGIN:DAYLIGHT
TZOFFSETFROM:-0500
TZOFFSETTO:-0400
TZNAME:EDT
DTSTART:20220313T070000
END:DAYLIGHT
BEGIN:STANDARD
TZOFFSETFROM:-0400
TZOFFSETTO:-0500
TZNAME:EST
DTSTART:20221106T060000
END:STANDARD
BEGIN:DAYLIGHT
TZOFFSETFROM:-0500
TZOFFSETTO:-0400
TZNAME:EDT
DTSTART:20230312T070000
END:DAYLIGHT
BEGIN:STANDARD
TZOFFSETFROM:-0400
TZOFFSETTO:-0500
TZNAME:EST
DTSTART:20231105T060000
END:STANDARD
BEGIN:DAYLIGHT
TZOFFSETFROM:-0500
TZOFFSETTO:-0400
TZNAME:EDT
DTSTART:20240310T070000
END:DAYLIGHT
BEGIN:STANDARD
TZOFFSETFROM:-0400
TZOFFSETTO:-0500
TZNAME:EST
DTSTART:20241103T060000
END:STANDARD
BEGIN:DAYLIGHT
TZOFFSETFROM:-0500
TZOFFSETTO:-0400
TZNAME:EDT
DTSTART:20250309T070000
END:DAYLIGHT
BEGIN:STANDARD
TZOFFSETFROM:-0400
TZOFFSETTO:-0500
TZNAME:EST
DTSTART:20251102T060000
END:STANDARD
END:VTIMEZONE
BEGIN:VTIMEZONE
TZID:America/New_York
BEGIN:DAYLIGHT
TZOFFSETFROM:-0500
TZOFFSETTO:-0400
TZNAME:EDT
DTSTART:20210314T070000
END:DAYLIGHT
BEGIN:STANDARD
TZOFFSETFROM:-0400
TZOFFSETTO:-0500
TZNAME:EST
DTSTART:20211107T060000
END:STANDARD
BEGIN:DAYLIGHT
TZOFFSETFROM:-0500
TZOFFSETTO:-0400
TZNAME:EDT
DTSTART:20220313T070000
END:DAYLIGHT
BEGIN:STANDARD
TZOFFSETFROM:-0400
TZOFFSETTO:-0500
TZNAME:EST
DTSTART:20221106T060000
END:STANDARD
BEGIN:DAYLIGHT
TZOFFSETFROM:-0500
TZOFFSETTO:-0400
TZNAME:EDT
DTSTART:20230312T070000
END:DAYLIGHT
BEGIN:STANDARD
TZOFFSETFROM:-0400
TZOFFSETTO:-0500
TZNAME:EST
DTSTART:20231105T060000
END:STANDARD
BEGIN:DAYLIGHT
TZOFFSETFROM:-0500
TZOFFSETTO:-0400
TZNAME:EDT
DTSTART:20240310T070000
END:DAYLIGHT
BEGIN:STANDARD
TZOFFSETFROM:-0400
TZOFFSETTO:-0500
TZNAME:EST
DTSTART:20241103T060000
END:STANDARD
BEGIN:DAYLIGHT
TZOFFSETFROM:-0500
TZOFFSETTO:-0400
TZNAME:EDT
DTSTART:20250309T070000
END:DAYLIGHT
BEGIN:STANDARD
TZOFFSETFROM:-0400
TZOFFSETTO:-0500
TZNAME:EST
DTSTART:20251102T060000
END:STANDARD
END:VTIMEZONE
BEGIN:VTIMEZONE
TZID:UTC
BEGIN:STANDARD
TZOFFSETFROM:+0000
TZOFFSETTO:+0000
TZNAME:UTC
DTSTART:20200101T000000
END:STANDARD
END:VTIMEZONE
BEGIN:VEVENT
DTSTART;TZID=America/New_York:20241206T170000
DTEND;TZID=America/New_York:20241206T200000
DTSTAMP:20260423T031438
CREATED:20241113T195609Z
LAST-MODIFIED:20241113T195609Z
UID:8027-1733504400-1733515200@fbcw.com
SUMMARY:FBCW Kids Christmas Party!
DESCRIPTION:Friday\, December 6\n5 — 8 p.m. \nKids\, this announcement is just for you! Come help us celebrate the season with a fun-filled Christmas party on Friday\, December 6 at the Marriott’s home. We’ll have pizza\, Christmas cookies\, games\, crafts\, and more. Wear your favorite Christmas pjs or festive sweaters! All FBCW kids and their families are invited. Please RSVP to Hannah Chronis by Sunday\, November 24.
URL:https://fbcw.com/event/fbcw-kids-christmas-party/
CATEGORIES:Children,Fellowship Activities
END:VEVENT
BEGIN:VEVENT
DTSTART;TZID=America/New_York:20241102T120000
DTEND;TZID=America/New_York:20241102T140000
DTSTAMP:20260423T031438
CREATED:20241001T190314Z
LAST-MODIFIED:20241001T190507Z
UID:7895-1730548800-1730556000@fbcw.com
SUMMARY:Baby Sprinkle for Hannah Chronis
DESCRIPTION:All the ladies of the church are invited to a Baby Sprinkle Tea Party for Hannah Chronis at the Hemby House on Saturday\, November 2 at 12 noon.  Please RSVP to Kate Workman by October 19.
URL:https://fbcw.com/event/baby-shower-for-reagan-castano-copy/
CATEGORIES:Fellowship Activities,Women's Ministry
END:VEVENT
BEGIN:VEVENT
DTSTART;TZID=America/New_York:20241011T180000
DTEND;TZID=America/New_York:20241011T200000
DTSTAMP:20260423T031438
CREATED:20241001T190022Z
LAST-MODIFIED:20241001T190022Z
UID:7891-1728669600-1728676800@fbcw.com
SUMMARY:Churchwide Bonfire
DESCRIPTION:Everyone is invited to join us for a churchwide bonfire on Friday\, October 11 from 6pm to 8pm. Everyone is asked to bring their own lawn chair.
URL:https://fbcw.com/event/churchwide-bonfire-2/
LOCATION:First Baptist Church of Weddington\, 348 Providence Road South\, Weddington\, NC\, 28173\, United States
CATEGORIES:Fellowship Activities
END:VEVENT
BEGIN:VEVENT
DTSTART;TZID=America/New_York:20240930T183000
DTEND;TZID=America/New_York:20240930T183000
DTSTAMP:20260423T031438
CREATED:20240912T145434Z
LAST-MODIFIED:20240912T145434Z
UID:7845-1727721000-1727721000@fbcw.com
SUMMARY:Live Nativity Planning Meeting
DESCRIPTION:Save the date for this year’s Live Nativity! We will hold our Live Nativity on December 6th this year (December 13th will be a back-up date in case of inclement weather). Mark your calendars\, our first volunteer meeting will be on Monday\, September 30th at 6:30pm.
URL:https://fbcw.com/event/live-nativity-planning-meeting/
CATEGORIES:Fellowship Activities
END:VEVENT
BEGIN:VEVENT
DTSTART;TZID=America/New_York:20240922T120000
DTEND;TZID=America/New_York:20240922T133000
DTSTAMP:20260423T031438
CREATED:20240829T201119Z
LAST-MODIFIED:20240902T151250Z
UID:7838-1727006400-1727011800@fbcw.com
SUMMARY:Church Potluck Lunch
DESCRIPTION:Our next potluck lunch will be Sunday\, September 22\, immediately following the worship service. Bring your favorite dish (entrée\, side\, or dessert) to share! Drinks will be provided. Please sign up on the church bulletin board if you plan on attending. If you have any question\, please see Denise Castano.
URL:https://fbcw.com/event/church-potluck-copy/
LOCATION:First Baptist Church of Weddington\, 348 Providence Road South\, Weddington\, NC\, 28173\, United States
CATEGORIES:Fellowship Activities,Food
END:VEVENT
BEGIN:VEVENT
DTSTART;TZID=America/New_York:20240914T110000
DTEND;TZID=America/New_York:20240914T140000
DTSTAMP:20260423T031438
CREATED:20240815T122156Z
LAST-MODIFIED:20240815T124732Z
UID:7769-1726311600-1726322400@fbcw.com
SUMMARY:Baby Shower for Reagan Castano
DESCRIPTION:All the ladies of the church are invited to a Baby Shower honoring Reagan Castano on Saturday\, September 14h from 11 AM – 2 PM. Shower is being held at the home of Jan Laney. Reagan is registered on Amazon. Please RSVP to Jan Laney.
URL:https://fbcw.com/event/baby-shower-for-reagan-castano/
CATEGORIES:Fellowship Activities,Women's Ministry
END:VEVENT
BEGIN:VEVENT
DTSTART;TZID=America/New_York:20240505T120000
DTEND;TZID=America/New_York:20240505T133000
DTSTAMP:20260423T031439
CREATED:20240417T122801Z
LAST-MODIFIED:20240417T123312Z
UID:7558-1714910400-1714915800@fbcw.com
SUMMARY:Church Potluck
DESCRIPTION:Our next potluck lunch (Cinco De Mayo themed) will be Sunday\, May 5th\, immediately following the worship service. The church will provide taco meat\, shredded cheese\, lettuce\, sour cream\, onion and drinks. \nPlease share your favorite additional condiments\, chips\, taco shells\, sides and desserts that match the theme! Please sign up on the church bulletin board if you plan on attending so we can make sure to have enough food. If you have any question\, please see Denise Castano.
URL:https://fbcw.com/event/church-potluck/
LOCATION:First Baptist Church of Weddington\, 348 Providence Road South\, Weddington\, NC\, 28173\, United States
CATEGORIES:Fellowship Activities,Food
END:VEVENT
BEGIN:VEVENT
DTSTART;TZID=America/New_York:20240411T183000
DTEND;TZID=America/New_York:20240411T200000
DTSTAMP:20260423T031439
CREATED:20240328T182511Z
LAST-MODIFIED:20240328T182536Z
UID:7473-1712860200-1712865600@fbcw.com
SUMMARY:First Men - Dinner & Fellowship
DESCRIPTION:There will be a men’s dinner and fellowship Thursday\, April 11\, at 6:30pm. A meal will be provided\, Pastor Jordon will bring a devotion on biblical manhood\, we will hear testimonies from some men about their time in discipleship the last few months\, and opportunities for more men’s discipleship will be presented. Please RSVP on the sign-up sheet on the bulletin board or through our APP (click HERE).
URL:https://fbcw.com/event/first-men-dinner-fellowship/
CATEGORIES:Fellowship Activities,Food,Men's Ministry
END:VEVENT
BEGIN:VEVENT
DTSTART;TZID=America/New_York:20240225T120000
DTEND;TZID=America/New_York:20240225T133000
DTSTAMP:20260423T031439
CREATED:20240131T192324Z
LAST-MODIFIED:20240131T192720Z
UID:7309-1708862400-1708867800@fbcw.com
SUMMARY:Chili Lunch
DESCRIPTION:We will be having a Chili Lunch on Sunday\, February 25th\, immediately following the worship service. We need several pots of chili and cornbread for this event. If you would like to bring one of these items\, please sign up on the bulletin board. Dessert will be provided. Come enjoy a great bowl of chili and fellowship time! Contact Denise Castano if you have any questions.
URL:https://fbcw.com/event/chili-lunch-copy/
CATEGORIES:Fellowship Activities,Food
END:VEVENT
BEGIN:VEVENT
DTSTART;TZID=America/New_York:20240209T180000
DTEND;TZID=America/New_York:20240209T200000
DTSTAMP:20260423T031439
CREATED:20240131T192305Z
LAST-MODIFIED:20240131T192305Z
UID:7307-1707501600-1707508800@fbcw.com
SUMMARY:Family Fun Night
DESCRIPTION:Join us for family fun night on Friday\, February 9th from 6-8pm! Fellowship with your church family as we enjoy pizza and play some games together including BINGO! Please sign up on the church bulletin board or through the link below.
URL:https://fbcw.com/event/family-fun-night/
LOCATION:First Baptist Church of Weddington\, 348 Providence Road South\, Weddington\, NC\, 28173\, United States
CATEGORIES:Fellowship Activities
END:VEVENT
BEGIN:VEVENT
DTSTART;TZID=America/New_York:20231208T180000
DTEND;TZID=America/New_York:20231208T200000
DTSTAMP:20260423T031439
CREATED:20230823T143850Z
LAST-MODIFIED:20230823T144015Z
UID:6869-1702058400-1702065600@fbcw.com
SUMMARY:Live Nativity Event
DESCRIPTION:We will be holding a Live Nativity Event here on Friday\, December 8th from 6pm to 8pm.  Come for a meaningful experience remembering the birth of our savior.  (Rain Date: Friday\, December 15th)
URL:https://fbcw.com/event/live-nativity-event-copy-copy/
CATEGORIES:Community,Fellowship Activities,Food
END:VEVENT
BEGIN:VEVENT
DTSTART;TZID=America/New_York:20231206T183000
DTEND;TZID=America/New_York:20231206T200000
DTSTAMP:20260423T031439
CREATED:20231120T195151Z
LAST-MODIFIED:20231120T195337Z
UID:7117-1701887400-1701892800@fbcw.com
SUMMARY:Live Nativity Event Dress Rehearsal
DESCRIPTION:There will be a dress rehearsal for our Live Nativity event on Wednesday\, December 6th at 6:30pm.  Please see Sheila Adcock or Martha DeMarco if you have any questions. \n 
URL:https://fbcw.com/event/live-nativity-event-copy-copy-copy/
CATEGORIES:Community,Fellowship Activities
END:VEVENT
BEGIN:VEVENT
DTSTART;TZID=America/New_York:20230910T110000
DTEND;TZID=America/New_York:20230910T130000
DTSTAMP:20260423T031439
CREATED:20230823T140555Z
LAST-MODIFIED:20230823T140820Z
UID:6853-1694343600-1694350800@fbcw.com
SUMMARY:Back To School Sunday
DESCRIPTION:Join us Sunday\, September 10\, for Back-to -School Sunday! As we gather to worship the Lord\, we will give emphasis to recognizing and praying for students\, parents\, educators\, and local schools. The First Kids Choir will bless us with special music. We will welcome guest speaker Chris Allen from Southeastern Baptist Theological Seminary. And we’ll enjoy a fellowship lunch afterwards. Everyone is encouraged to bring your favorite dish to share!
URL:https://fbcw.com/event/back-to-school-sunday/
CATEGORIES:Children,Fellowship Activities,Music,Youth
END:VEVENT
BEGIN:VEVENT
DTSTART;TZID=America/New_York:20230604T120000
DTEND;TZID=America/New_York:20230604T133000
DTSTAMP:20260423T031439
CREATED:20240409T172342Z
LAST-MODIFIED:20240409T172502Z
UID:7545-1685880000-1685885400@fbcw.com
SUMMARY:Lunch on the Lawn
DESCRIPTION:We will have Lunch on the Lawn following the morning service on Sunday\, May 5th.  Bring your favorite dish (entrée\, side\, or dessert) to share!  Drinks will be provided.  If you have any question\, please see Denise Castano. \n 
URL:https://fbcw.com/event/lunch-on-the-lawn-copy-copy-copy-copy/
LOCATION:First Baptist Church of Weddington\, 348 Providence Road South\, Weddington\, NC\, 28173\, United States
CATEGORIES:Fellowship Activities
END:VEVENT
BEGIN:VEVENT
DTSTART;TZID=America/New_York:20230604T120000
DTEND;TZID=America/New_York:20230604T133000
DTSTAMP:20260423T031439
CREATED:20230517T164849Z
LAST-MODIFIED:20230517T165722Z
UID:6702-1685880000-1685885400@fbcw.com
SUMMARY:Lunch on the Lawn
DESCRIPTION:We will have Lunch on the Lawn following the morning service on Sunday\, June 4th.  Bring your favorite dish (entrée\, side\, or dessert) to share!  Drinks will be provided.  If you have any question\, please see Denise Castano. \n 
URL:https://fbcw.com/event/lunch-on-the-lawn-copy-copy-copy/
LOCATION:First Baptist Church of Weddington\, 348 Providence Road South\, Weddington\, NC\, 28173\, United States
CATEGORIES:Fellowship Activities
END:VEVENT
BEGIN:VEVENT
DTSTART;TZID=America/New_York:20230303T180000
DTEND;TZID=America/New_York:20230303T200000
DTSTAMP:20260423T031439
CREATED:20230205T220155Z
LAST-MODIFIED:20230208T173037Z
UID:6414-1677866400-1677873600@fbcw.com
SUMMARY:Church Bonfire
DESCRIPTION:Everyone is invited to join us for a churchwide bonfire on Friday\, March 3rd from 6pm to 8pm.  Everyone is asked to bring their own lawn chair and snack (optional).
URL:https://fbcw.com/event/church-bonfire-copy-copy-2-copy-copy-copy-copy/
LOCATION:First Baptist Church of Weddington\, 348 Providence Road South\, Weddington\, NC\, 28173\, United States
CATEGORIES:Fellowship Activities
END:VEVENT
BEGIN:VEVENT
DTSTART;TZID=America/New_York:20230219T120000
DTEND;TZID=America/New_York:20230219T133000
DTSTAMP:20260423T031439
CREATED:20230208T172622Z
LAST-MODIFIED:20230208T172622Z
UID:6427-1676808000-1676813400@fbcw.com
SUMMARY:Chili Lunch
DESCRIPTION:We will be having a Chili Lunch on Sunday\, February 19th\, immediately following the worship service. We need several pots of chili and cornbread for this event. If you would like to bring one of these items\, please sign up on the bulletin board. Dessert will be provided. Come enjoy a great bowl of chili and fellowship time! Contact Denise Castano if you have any questions.
URL:https://fbcw.com/event/chili-lunch/
CATEGORIES:Fellowship Activities,Food
END:VEVENT
BEGIN:VEVENT
DTSTART;TZID=America/New_York:20230208T114500
DTEND;TZID=America/New_York:20230208T130000
DTSTAMP:20260423T031439
CREATED:20230209T174151Z
LAST-MODIFIED:20230209T174531Z
UID:6434-1675856700-1675861200@fbcw.com
SUMMARY:Ladies Lunch Bunch (2nd Wednesday of each month)
DESCRIPTION:All the ladies of the church are invited to join us on Wednesday\, February 8th\, at 11:45am at Brixx in the Blakeney Shopping Center. Please RSVP to Jeanell Graves at 704-942-1704 by Tuesday\, February 7th\, if you plan on attending.
URL:https://fbcw.com/event/ladies-lunch-bunch-copy-copy/
LOCATION:Brixx Blakeney\, 9820 Rea Rd\, \, Charlotte\, NC\, 28277
CATEGORIES:Fellowship Activities,Women's Ministry
END:VEVENT
BEGIN:VEVENT
DTSTART;TZID=America/New_York:20221210T180000
DTEND;TZID=America/New_York:20221210T200000
DTSTAMP:20260423T031439
CREATED:20221122T151016Z
LAST-MODIFIED:20221122T152941Z
UID:6254-1670695200-1670702400@fbcw.com
SUMMARY:Live Nativity Event
DESCRIPTION:We will be holding a Live Nativity Event here on Saturday\, December 10th from 6pm to 8pm.  Come for a meaningful experience remembering the birth of our savior.
URL:https://fbcw.com/event/live-nativity-event-copy/
CATEGORIES:Community,Fellowship Activities,Food
END:VEVENT
BEGIN:VEVENT
DTSTART;TZID=America/New_York:20221104T180000
DTEND;TZID=America/New_York:20221104T200000
DTSTAMP:20260423T031439
CREATED:20221006T145711Z
LAST-MODIFIED:20221006T145741Z
UID:6158-1667584800-1667592000@fbcw.com
SUMMARY:Church Bonfire
DESCRIPTION:Everyone is invited to join us for a churchwide bonfire on Friday\, November 4th from 6pm to 8pm.  Everyone is asked to bring their own lawn chair and snack (optional).  Call Denise Castano if you have any questions.
URL:https://fbcw.com/event/church-bonfire-copy-copy-2-copy-copy-copy/
LOCATION:First Baptist Church of Weddington\, 348 Providence Road South\, Weddington\, NC\, 28173\, United States
CATEGORIES:Fellowship Activities
END:VEVENT
BEGIN:VEVENT
DTSTART;TZID=America/New_York:20221012T114500
DTEND;TZID=America/New_York:20221012T130000
DTSTAMP:20260423T031439
CREATED:20221006T141049Z
LAST-MODIFIED:20221006T143440Z
UID:6103-1665575100-1665579600@fbcw.com
SUMMARY:Ladies Lunch Bunch
DESCRIPTION:The Ladies Lunch Bunch (2nd Wednesday of each month): Wednesday\, October 12th\, at 11:45am at Chili’s in the Blakeney Shopping Center.  All the ladies of the church are invited!  Please RSVP to Jeanell Graves if you plan on attended.
URL:https://fbcw.com/event/ladies-lunch-bunch-copy/
LOCATION:Chili’s\, 9730 Rea Rd\, Charlotte\, NC\, 28277
CATEGORIES:Fellowship Activities,Women's Ministry
END:VEVENT
BEGIN:VEVENT
DTSTART;TZID=America/New_York:20220925T120000
DTEND;TZID=America/New_York:20220925T133000
DTSTAMP:20260423T031439
CREATED:20220831T161240Z
LAST-MODIFIED:20220831T161323Z
UID:6036-1664107200-1664112600@fbcw.com
SUMMARY:Lunch on the Lawn
DESCRIPTION:We will have Lunch on the Lawn following the morning service on Sunday\, September 25th.  Bring your favorite dish (entrée\, side\, or dessert) to share!  Drinks will be provided.  If you have any question\, please see Denise Castano. \n 
URL:https://fbcw.com/event/lunch-on-the-lawn-copy-copy/
LOCATION:First Baptist Church of Weddington\, 348 Providence Road South\, Weddington\, NC\, 28173\, United States
CATEGORIES:Fellowship Activities
END:VEVENT
BEGIN:VEVENT
DTSTART;TZID=America/New_York:20220914T114500
DTEND;TZID=America/New_York:20220914T130000
DTSTAMP:20260423T031439
CREATED:20220831T151203Z
LAST-MODIFIED:20220831T151203Z
UID:5991-1663155900-1663160400@fbcw.com
SUMMARY:Ladies Lunch Bunch
DESCRIPTION:The Ladies Lunch Bunch (2nd Wednesday of each month): Wednesday\, September 14th\, at 11:45am at McAlister’s Deli in Blakeney.  All the ladies of the church are invited!  Contact Jeanell Graves is you have any questions.
URL:https://fbcw.com/event/ladies-lunch-bunch/
LOCATION:McAlister’s\, 9864 Rea Rd A\, Charlotte\, 28277\, United States
CATEGORIES:Fellowship Activities,Women's Ministry
END:VEVENT
BEGIN:VEVENT
DTSTART;TZID=America/New_York:20220501T120000
DTEND;TZID=America/New_York:20220501T133000
DTSTAMP:20260423T031439
CREATED:20220411T181641Z
LAST-MODIFIED:20220411T181736Z
UID:5687-1651406400-1651411800@fbcw.com
SUMMARY:Lunch on the Lawn
DESCRIPTION:We will have Lunch on the Lawn following the morning service on Sunday\, May 1st.  Bring your favorite dish (entrée\, side\, or dessert) to share!  Drinks will be provided.  If you have any question\, please see Denise Castano. \n 
URL:https://fbcw.com/event/lunch-on-the-lawn-copy/
LOCATION:First Baptist Church of Weddington\, 348 Providence Road South\, Weddington\, NC\, 28173\, United States
CATEGORIES:Fellowship Activities
END:VEVENT
BEGIN:VEVENT
DTSTART;TZID=America/New_York:20220430T130000
DTEND;TZID=America/New_York:20220430T143000
DTSTAMP:20260423T031439
CREATED:20220316T170139Z
LAST-MODIFIED:20220316T171141Z
UID:5629-1651323600-1651329000@fbcw.com
SUMMARY:Ladies Tea
DESCRIPTION:Ladies of First Baptist Church of Weddington are Invited to a Tea on Saturday\, April 30\, 2022 at 1pm. \nHats are requested.  Please RSVP by signing up on the bulletin board. \n  \nWe are in need of 3-4 ladies to decorate her own table. \nWe are in need of several women to make 3-4 sandwiches and bake some tea sweets. \nIf you have any questions\, please call Mary Beaver or Betty Carns.
URL:https://fbcw.com/event/ladies-tea/
CATEGORIES:Fellowship Activities,Women's Ministry
END:VEVENT
BEGIN:VEVENT
DTSTART;TZID=UTC:20220402T110000
DTEND;TZID=UTC:20220402T140000
DTSTAMP:20260423T031439
CREATED:20220316T165716Z
LAST-MODIFIED:20220316T165716Z
UID:5627-1648897200-1648908000@fbcw.com
SUMMARY:Spring Fling
DESCRIPTION:We thank God for new seasons  . Are you as ready for Spring as we are?! Then join us Saturday\, April 2nd* from 11am-2pm for our Spring Fling!\n\n\nWe love our community and want to provide an atmosphere for you and your family to bring in the new season.  Lots of fun in store for the family as we will enjoy a kite flying contest\, food and prizes\, a kids candy drop\, a funnel cake food truck\, music\, and games!  Gather the kids\, bring your kite\, and come have a blast with us!\n\n\n\n\n*April 9 will be used as an alternative date in case of inclement weather
URL:https://fbcw.com/event/spring-fling/
CATEGORIES:Community,Fellowship Activities,Food
END:VEVENT
BEGIN:VEVENT
DTSTART;TZID=America/New_York:20220306T120000
DTEND;TZID=America/New_York:20220306T130000
DTSTAMP:20260423T031439
CREATED:20220216T201819Z
LAST-MODIFIED:20220216T201819Z
UID:5571-1646568000-1646571600@fbcw.com
SUMMARY:Chili Cook Off
DESCRIPTION:We will be having a “Chili Cook Off” on Sunday\, March 6th\, immediately following the worship service.  We need several pots of chili and cornbread for this event.  If you would like to bring one of these items\, please sign up on the bulletin board.  Come enjoy a great bowl of chili and fellowship time!  Contact Denise Castano if you have any questions.
URL:https://fbcw.com/event/chili-cook-off/
LOCATION:First Baptist Church of Weddington\, 348 Providence Road South\, Weddington\, NC\, 28173\, United States
CATEGORIES:Fellowship Activities
END:VEVENT
BEGIN:VEVENT
DTSTART;TZID=America/New_York:20220225T180000
DTEND;TZID=America/New_York:20220225T200000
DTSTAMP:20260423T031439
CREATED:20220203T180948Z
LAST-MODIFIED:20220203T181032Z
UID:5537-1645812000-1645819200@fbcw.com
SUMMARY:Church Bonfire
DESCRIPTION:Everyone is invited to join us for a churchwide bonfire on Friday\, February 25th from 6pm to 8pm.  Everyone is asked to bring their own lawn chair and snack (optional).  Call Denise Castano if you have any questions.
URL:https://fbcw.com/event/church-bonfire-copy-copy-2-copy-copy/
LOCATION:First Baptist Church of Weddington\, 348 Providence Road South\, Weddington\, NC\, 28173\, United States
CATEGORIES:Fellowship Activities
END:VEVENT
BEGIN:VEVENT
DTSTART;TZID=UTC:20211225T180000
DTEND;TZID=UTC:20211225T190000
DTSTAMP:20260423T031439
CREATED:20221122T152634Z
LAST-MODIFIED:20221122T152700Z
UID:6268-1640455200-1640458800@fbcw.com
SUMMARY:Christmas Eve Service
DESCRIPTION:We will have a family Christmas Eve Service on Saturday\, December 24th\, at 6pm.  Please join us for this special time of celebration in remembering the birth of our Savoir.
URL:https://fbcw.com/event/christmas-eve-service-copy-copy/
LOCATION:First Baptist Church of Weddington\, 348 Providence Road South\, Weddington\, NC\, 28173\, United States
CATEGORIES:Community,Fellowship Activities
END:VEVENT
BEGIN:VEVENT
DTSTART;TZID=UTC:20211224T180000
DTEND;TZID=UTC:20211224T190000
DTSTAMP:20260423T031439
CREATED:20211104T173034Z
LAST-MODIFIED:20211104T173320Z
UID:5321-1640368800-1640372400@fbcw.com
SUMMARY:Christmas Eve Service
DESCRIPTION:We will have a family Christmas Eve Service on Friday\, December 24th\, at 6pm.  Please join us for this special time of celebration in remembering the birth of our Savoir.
URL:https://fbcw.com/event/christmas-eve-service-copy/
LOCATION:First Baptist Church of Weddington\, 348 Providence Road South\, Weddington\, NC\, 28173\, United States
CATEGORIES:Community,Fellowship Activities
END:VEVENT
END:VCALENDAR