BEGIN:VCALENDAR
VERSION:2.0
PRODID:-//First Baptist Church of Weddington - ECPv6.15.20//NONSGML v1.0//EN
CALSCALE:GREGORIAN
METHOD:PUBLISH
X-ORIGINAL-URL:https://fbcw.com
X-WR-CALDESC:Events for First Baptist Church of Weddington
REFRESH-INTERVAL;VALUE=DURATION:PT1H
X-Robots-Tag:noindex
X-PUBLISHED-TTL:PT1H
BEGIN:VTIMEZONE
TZID:America/New_York
BEGIN:DAYLIGHT
TZOFFSETFROM:-0500
TZOFFSETTO:-0400
TZNAME:EDT
DTSTART:20240310T070000
END:DAYLIGHT
BEGIN:STANDARD
TZOFFSETFROM:-0400
TZOFFSETTO:-0500
TZNAME:EST
DTSTART:20241103T060000
END:STANDARD
BEGIN:DAYLIGHT
TZOFFSETFROM:-0500
TZOFFSETTO:-0400
TZNAME:EDT
DTSTART:20250309T070000
END:DAYLIGHT
BEGIN:STANDARD
TZOFFSETFROM:-0400
TZOFFSETTO:-0500
TZNAME:EST
DTSTART:20251102T060000
END:STANDARD
BEGIN:DAYLIGHT
TZOFFSETFROM:-0500
TZOFFSETTO:-0400
TZNAME:EDT
DTSTART:20260308T070000
END:DAYLIGHT
BEGIN:STANDARD
TZOFFSETFROM:-0400
TZOFFSETTO:-0500
TZNAME:EST
DTSTART:20261101T060000
END:STANDARD
END:VTIMEZONE
BEGIN:VEVENT
DTSTART;TZID=America/New_York:20250223T120000
DTEND;TZID=America/New_York:20250223T140000
DTSTAMP:20260424T021422
CREATED:20250127T181038Z
LAST-MODIFIED:20250127T181259Z
UID:8138-1740312000-1740319200@fbcw.com
SUMMARY:Chili Lunch
DESCRIPTION:We will be having a Chili Lunch on Sunday\, February 23\, immediately following the worship service. We need several pots of chili and cornbread for this event. If you would like to bring one of these items\, please sign up on the bulletin board or click on the link below.  Dessert will be provided. Come enjoy a great bowl of chili and fellowship time! Contact Denise Castano if you have any questions. \nRSVP Chili Lunch
URL:https://fbcw.com/event/chili-lunch-2/
CATEGORIES:Fellowship Activities,Food
END:VEVENT
END:VCALENDAR