BEGIN:VCALENDAR
VERSION:2.0
PRODID:-//First Baptist Church of Weddington - ECPv6.15.20//NONSGML v1.0//EN
CALSCALE:GREGORIAN
METHOD:PUBLISH
X-WR-CALNAME:First Baptist Church of Weddington
X-ORIGINAL-URL:https://fbcw.com
X-WR-CALDESC:Events for First Baptist Church of Weddington
REFRESH-INTERVAL;VALUE=DURATION:PT1H
X-Robots-Tag:noindex
X-PUBLISHED-TTL:PT1H
BEGIN:VTIMEZONE
TZID:America/New_York
BEGIN:DAYLIGHT
TZOFFSETFROM:-0500
TZOFFSETTO:-0400
TZNAME:EDT
DTSTART:20240310T070000
END:DAYLIGHT
BEGIN:STANDARD
TZOFFSETFROM:-0400
TZOFFSETTO:-0500
TZNAME:EST
DTSTART:20241103T060000
END:STANDARD
BEGIN:DAYLIGHT
TZOFFSETFROM:-0500
TZOFFSETTO:-0400
TZNAME:EDT
DTSTART:20250309T070000
END:DAYLIGHT
BEGIN:STANDARD
TZOFFSETFROM:-0400
TZOFFSETTO:-0500
TZNAME:EST
DTSTART:20251102T060000
END:STANDARD
BEGIN:DAYLIGHT
TZOFFSETFROM:-0500
TZOFFSETTO:-0400
TZNAME:EDT
DTSTART:20260308T070000
END:DAYLIGHT
BEGIN:STANDARD
TZOFFSETFROM:-0400
TZOFFSETTO:-0500
TZNAME:EST
DTSTART:20261101T060000
END:STANDARD
END:VTIMEZONE
BEGIN:VEVENT
DTSTART;TZID=America/New_York:20251005T103000
DTEND;TZID=America/New_York:20251005T130000
DTSTAMP:20260423T073621
CREATED:20250921T201022Z
LAST-MODIFIED:20250921T201028Z
UID:8806-1759660200-1759669200@fbcw.com
SUMMARY:35th Anniversary Celebration
DESCRIPTION:Make plans to join us Sunday morning\, October 5 as we celebrate 35 years as a church! We will reflect on 35 years of God’s faithfulness and look ahead to what the Lord has in store for our future. A catered lunch will be served after our worship gathering. Please sign up to let us know you will be in attendance (either on the bulletin board or by clicking HERE.).
URL:https://fbcw.com/event/35th-anniversary-celebration/
LOCATION:First Baptist Church of Weddington\, 348 Providence Road South\, Weddington\, NC\, 28173\, United States
CATEGORIES:Fellowship Activities
END:VEVENT
BEGIN:VEVENT
DTSTART;TZID=America/New_York:20251011T140000
DTEND;TZID=America/New_York:20251011T160000
DTSTAMP:20260423T073621
CREATED:20250923T181420Z
LAST-MODIFIED:20250923T181447Z
UID:8811-1760191200-1760198400@fbcw.com
SUMMARY:Nesting Part for the Templetons
DESCRIPTION:Join us for a Nesting Party! Let’s get together and help The Templeton Family as they prepare for baby #3! \nDrop in and play with the girls\, help setup up the girls’ big room and get baby clothes out.  Gifts are not expected but if you feel inclined\, the family has requested diapers\, gender neutral outfits\, and monetary gift cards (so they can purchase a double rocker\, extra stroller and formula!)
URL:https://fbcw.com/event/8811/
CATEGORIES:Fellowship Activities,Women's Ministry
END:VEVENT
END:VCALENDAR