BEGIN:VCALENDAR
VERSION:2.0
PRODID:-//First Baptist Church of Weddington - ECPv6.15.20//NONSGML v1.0//EN
CALSCALE:GREGORIAN
METHOD:PUBLISH
X-ORIGINAL-URL:https://fbcw.com
X-WR-CALDESC:Events for First Baptist Church of Weddington
REFRESH-INTERVAL;VALUE=DURATION:PT1H
X-Robots-Tag:noindex
X-PUBLISHED-TTL:PT1H
BEGIN:VTIMEZONE
TZID:America/New_York
BEGIN:DAYLIGHT
TZOFFSETFROM:-0500
TZOFFSETTO:-0400
TZNAME:EDT
DTSTART:20190310T070000
END:DAYLIGHT
BEGIN:STANDARD
TZOFFSETFROM:-0400
TZOFFSETTO:-0500
TZNAME:EST
DTSTART:20191103T060000
END:STANDARD
BEGIN:DAYLIGHT
TZOFFSETFROM:-0500
TZOFFSETTO:-0400
TZNAME:EDT
DTSTART:20200308T070000
END:DAYLIGHT
BEGIN:STANDARD
TZOFFSETFROM:-0400
TZOFFSETTO:-0500
TZNAME:EST
DTSTART:20201101T060000
END:STANDARD
BEGIN:DAYLIGHT
TZOFFSETFROM:-0500
TZOFFSETTO:-0400
TZNAME:EDT
DTSTART:20210314T070000
END:DAYLIGHT
BEGIN:STANDARD
TZOFFSETFROM:-0400
TZOFFSETTO:-0500
TZNAME:EST
DTSTART:20211107T060000
END:STANDARD
END:VTIMEZONE
BEGIN:VTIMEZONE
TZID:America/New_York
BEGIN:DAYLIGHT
TZOFFSETFROM:-0500
TZOFFSETTO:-0400
TZNAME:EDT
DTSTART:20190310T070000
END:DAYLIGHT
BEGIN:STANDARD
TZOFFSETFROM:-0400
TZOFFSETTO:-0500
TZNAME:EST
DTSTART:20191103T060000
END:STANDARD
BEGIN:DAYLIGHT
TZOFFSETFROM:-0500
TZOFFSETTO:-0400
TZNAME:EDT
DTSTART:20200308T070000
END:DAYLIGHT
BEGIN:STANDARD
TZOFFSETFROM:-0400
TZOFFSETTO:-0500
TZNAME:EST
DTSTART:20201101T060000
END:STANDARD
BEGIN:DAYLIGHT
TZOFFSETFROM:-0500
TZOFFSETTO:-0400
TZNAME:EDT
DTSTART:20210314T070000
END:DAYLIGHT
BEGIN:STANDARD
TZOFFSETFROM:-0400
TZOFFSETTO:-0500
TZNAME:EST
DTSTART:20211107T060000
END:STANDARD
END:VTIMEZONE
BEGIN:VTIMEZONE
TZID:UTC
BEGIN:STANDARD
TZOFFSETFROM:+0000
TZOFFSETTO:+0000
TZNAME:UTC
DTSTART:20160101T000000
END:STANDARD
END:VTIMEZONE
BEGIN:VEVENT
DTSTART;VALUE=DATE:20200903
DTEND;VALUE=DATE:20200918
DTSTAMP:20260425T094957
CREATED:20200908T173346Z
LAST-MODIFIED:20200908T173346Z
UID:3985-1599091200-1600387199@fbcw.com
SUMMARY:New Baby Wishes for Mitch & Maggie Ray
DESCRIPTION:We are collecting diapers and wipes to help get Mitch and Maggie ready for their new baby girl due in October!  All gifts can be dropped off at the church through September 17th.  Call the church office if you ave any questions.
URL:https://fbcw.com/event/new-baby-wishes-for-mitch-maggie-ray/
CATEGORIES:Children,Community
END:VEVENT
BEGIN:VEVENT
DTSTART;TZID=America/New_York:20200410T183000
DTEND;TZID=America/New_York:20200410T190000
DTSTAMP:20260425T094957
CREATED:20200401T130226Z
LAST-MODIFIED:20200406T155020Z
UID:3518-1586543400-1586545200@fbcw.com
SUMMARY:Good Friday
DESCRIPTION:You and your family are welcome to join us on Zoom as we remember and celebrate why Jesus came to earth: to give his life as the only payment for our sins.  The Zoom invitation (link) will be sent out via email later this week.  Come celebrate with your church family what the Lord has done for us!  Please contact us if you have any questions. \n“For even the Son of Man came not to be served but to serve\, and to give his life as a ransom for many.”   – Mark 10:45
URL:https://fbcw.com/event/good-friday/
CATEGORIES:Community
END:VEVENT
BEGIN:VEVENT
DTSTART;VALUE=DATE:20200322
DTEND;VALUE=DATE:20200329
DTSTAMP:20260425T094957
CREATED:20200121T182240Z
LAST-MODIFIED:20200318T161004Z
UID:3281-1584835200-1585439999@fbcw.com
SUMMARY:Love Life - Week 6 Adoption Week
DESCRIPTION:Saturday\, March 28\, 2020\, 9:00 AM – 11:00 AM \n\nLove Life Charlotte is a 40-week campaign uniting and mobilizing The Church to create a culture of love and life that will bring and end to abortion in Charlotte.\n\nFirst Baptist Church of Weddington will be individually participating with a time of fasting and prayer on Wednesday\, March 25.\n\nIndividuals and families are also encouraged to attend a prayer walk in Charlotte on Saturday\, March 28th from 9–11am.  Please RSVP no later than Saturday\, March 21st\, to David Lowe if you plan on attending.\n\nLocation: 3236 Latrobe Drive\, Charlotte\, North Carolina 28211\n\nClick here for more information about the Love Life Charlotte Walk.
URL:https://fbcw.com/event/love-life-week-6-adoption-week/
CATEGORIES:Community,Prayer
END:VEVENT
BEGIN:VEVENT
DTSTART;TZID=UTC:20200126T180000
DTEND;TZID=UTC:20200126T190000
DTSTAMP:20260425T094957
CREATED:20191219T174420Z
LAST-MODIFIED:20191219T174454Z
UID:3082-1580061600-1580065200@fbcw.com
SUMMARY:Quarterly Member Meeting
DESCRIPTION:We will have our next Quarterly Member Meeting on Sunday\, January 26th\, at 6:00pm.  All Ministry Team Chairmen and Organizational Directors are encourage to be prepared to report at this time.
URL:https://fbcw.com/event/quarterly-member-meeting-copy-copy/
CATEGORIES:Community
END:VEVENT
BEGIN:VEVENT
DTSTART;TZID=UTC:20191027T180000
DTEND;TZID=UTC:20191027T190000
DTSTAMP:20260425T094957
CREATED:20190917T231652Z
LAST-MODIFIED:20190917T232121Z
UID:2736-1572199200-1572202800@fbcw.com
SUMMARY:Quarterly Member Meeting
DESCRIPTION:We will have our next Quarterly Member Meeting on Sunday\, October 27th\, at 6:00pm.  All Ministry Team Chairmen and Organizational Directors are encourage to be prepared to report at this time.
URL:https://fbcw.com/event/quarterly-member-meeting-copy/
CATEGORIES:Community
END:VEVENT
BEGIN:VEVENT
DTSTART;TZID=UTC:20190811T110000
DTEND;TZID=UTC:20190811T120000
DTSTAMP:20260425T094957
CREATED:20190710T233830Z
LAST-MODIFIED:20190710T233903Z
UID:2477-1565521200-1565524800@fbcw.com
SUMMARY:Worship Service
DESCRIPTION:
URL:https://fbcw.com/event/worship-service-copy-3-copy-copy/
CATEGORIES:Community,Music,Prayer
END:VEVENT
BEGIN:VEVENT
DTSTART;TZID=UTC:20190728T180000
DTEND;TZID=UTC:20190728T190000
DTSTAMP:20260425T094957
CREATED:20190710T232836Z
LAST-MODIFIED:20190710T232836Z
UID:2462-1564336800-1564340400@fbcw.com
SUMMARY:Quarterly Member Meeting
DESCRIPTION:We will have our next Quarterly Member Meeting on Sunday\, July 28th\, at 6:00pm.  All Ministry Team Chairmen and Organizational Directors are encourage to be prepared to report at this time.
URL:https://fbcw.com/event/quarterly-member-meeting/
CATEGORIES:Community
END:VEVENT
BEGIN:VEVENT
DTSTART;TZID=UTC:20180129T110000
DTEND;TZID=UTC:20180129T200000
DTSTAMP:20260425T094957
CREATED:20150917T001434Z
LAST-MODIFIED:20150917T001434Z
UID:440-1517223600-1517256000@fbcw.com
SUMMARY:Bake Off For Charity
DESCRIPTION:Maecenas leo nisi\, efficitur at felis sit amet\, lacinia auctor quam. Aliquam euismod pretium mattis. Aenean sollicitudin orci non orci gravida ullamcorper. Duis utres odios pellentesque\, efficiturs odio vitae\, aliquams arcu. Sed pulvinar lacus at neque imperdiet lobortis. Phasellus eget lectus rutrum\, fringilla nibh ut\, convallis orci. Quisque magna risus\, lacinia a pharetra vel\, gravida ac mi. Aenean ac interdum nisi\, et vehicula nisl. Suspendisse potenti. Cras leo ex\, congue eget dignissim nec\, porta maximus erat. Etiam ornare arcu neque\, in viverra eros egestas eu. Mauris diam velit\, dictum et vehicula nec\, sagittis nec sapien. Donec tincidunt purus et justo porttitor\, non porttitor quam fermentum orci non aliquams arcu dolores ipsums. \nDonec maximus a ante sit amet nisl nisi at arcu. Donec lobortis libero ex\, a sollicitudin neque volutpat. Aenean pretium nisi id lectus cursus sagittis. Aliquam sit amet nisl pretium\, consectetur purus non\, porta libero. Integer dui dui\, porta non mollis sit amet\, pharetra nec risus. Donec fringilla ex non arcu auctor\, vel faucibus felis pharetra. Pellentesque condimentum suscipit mi. Sed pretium\, tellus et efficitur dapibus\, metus nunc gravida ante\, at interdum nisl nisi at arcu. Donec lobortis libero ex\, a sollicitudin neque dapibus vitae. Maecenas volutpat est sit amet leo pretium mollis eu a odio dolores ipsums ficilis etras.
URL:https://fbcw.com/event/bake-off-for-charity/
LOCATION:South Campus\, 1234 Apple Avenue\, New York City\, NY\, 111111\, United States
CATEGORIES:Community,Food,Outreach
ATTACH;FMTTYPE=image/jpeg:https://fbcw.com/wp-content/uploads/2015/09/event_10-compressor.jpg
ORGANIZER;CN="Avada Church":MAILTO:noreply@example.com
END:VEVENT
BEGIN:VEVENT
DTSTART;TZID=UTC:20180115T180000
DTEND;TZID=UTC:20180115T220000
DTSTAMP:20260425T094957
CREATED:20150917T003904Z
LAST-MODIFIED:20150917T003904Z
UID:445-1516039200-1516053600@fbcw.com
SUMMARY:Holiday Decoration Class
DESCRIPTION:Maecenas leo nisi\, efficitur at felis sit amet\, lacinia auctor quam. Aliquam euismod pretium mattis. Aenean sollicitudin orci non orci gravida ullamcorper. Duis utres odios pellentesque\, efficiturs odio vitae\, aliquams arcu. Sed pulvinar lacus at neque imperdiet lobortis. Phasellus eget lectus rutrum\, fringilla nibh ut\, convallis orci. Quisque magna risus\, lacinia a pharetra vel\, gravida ac mi. Aenean ac interdum nisi\, et vehicula nisl. Suspendisse potenti. Cras leo ex\, congue eget dignissim nec\, porta maximus erat. Etiam ornare arcu neque\, in viverra eros egestas eu. Mauris diam velit\, dictum et vehicula nec\, sagittis nec sapien. Donec tincidunt purus et justo porttitor\, non porttitor quam fermentum orci non aliquams arcu dolores ipsums. \nDonec maximus a ante sit amet nisl nisi at arcu. Donec lobortis libero ex\, a sollicitudin neque volutpat. Aenean pretium nisi id lectus cursus sagittis. Aliquam sit amet nisl pretium\, consectetur purus non\, porta libero. Integer dui dui\, porta non mollis sit amet\, pharetra nec risus. Donec fringilla ex non arcu auctor\, vel faucibus felis pharetra. Pellentesque condimentum suscipit mi. Sed pretium\, tellus et efficitur dapibus\, metus nunc gravida ante\, at interdum nisl nisi at arcu. Donec lobortis libero ex\, a sollicitudin neque dapibus vitae. Maecenas volutpat est sit amet leo pretium mollis eu a odio dolores ipsums ficilis etras.
URL:https://fbcw.com/event/holiday-decoration-class/
LOCATION:South Campus\, 1234 Apple Avenue\, New York City\, NY\, 111111\, United States
CATEGORIES:Community,Music
ATTACH;FMTTYPE=image/jpeg:https://fbcw.com/wp-content/uploads/2015/09/event_14-compressor.jpg
ORGANIZER;CN="Avada Church":MAILTO:noreply@example.com
END:VEVENT
BEGIN:VEVENT
DTSTART;TZID=UTC:20171222T080000
DTEND;TZID=UTC:20171222T170000
DTSTAMP:20260425T094957
CREATED:20150917T004835Z
LAST-MODIFIED:20150917T004835Z
UID:447-1513929600-1513962000@fbcw.com
SUMMARY:Guided Tours
DESCRIPTION:Maecenas leo nisi\, efficitur at felis sit amet\, lacinia auctor quam. Aliquam euismod pretium mattis. Aenean sollicitudin orci non orci gravida ullamcorper. Duis utres odios pellentesque\, efficiturs odio vitae\, aliquams arcu. Sed pulvinar lacus at neque imperdiet lobortis. Phasellus eget lectus rutrum\, fringilla nibh ut\, convallis orci. Quisque magna risus\, lacinia a pharetra vel\, gravida ac mi. Aenean ac interdum nisi\, et vehicula nisl. Suspendisse potenti. Cras leo ex\, congue eget dignissim nec\, porta maximus erat. Etiam ornare arcu neque\, in viverra eros egestas eu. Mauris diam velit\, dictum et vehicula nec\, sagittis nec sapien. Donec tincidunt purus et justo porttitor\, non porttitor quam fermentum orci non aliquams arcu dolores ipsums. \nDonec maximus a ante sit amet nisl nisi at arcu. Donec lobortis libero ex\, a sollicitudin neque volutpat. Aenean pretium nisi id lectus cursus sagittis. Aliquam sit amet nisl pretium\, consectetur purus non\, porta libero. Integer dui dui\, porta non mollis sit amet\, pharetra nec risus. Donec fringilla ex non arcu auctor\, vel faucibus felis pharetra. Pellentesque condimentum suscipit mi. Sed pretium\, tellus et efficitur dapibus\, metus nunc gravida ante\, at interdum nisl nisi at arcu. Donec lobortis libero ex\, a sollicitudin neque dapibus vitae. Maecenas volutpat est sit amet leo pretium mollis eu a odio dolores ipsums ficilis etras.
URL:https://fbcw.com/event/guided-tours/
LOCATION:South Campus\, 1234 Apple Avenue\, New York City\, NY\, 111111\, United States
CATEGORIES:Community,Music,Outreach
ATTACH;FMTTYPE=image/jpeg:https://fbcw.com/wp-content/uploads/2015/09/event_13-compressor.jpg
ORGANIZER;CN="Avada Church":MAILTO:noreply@example.com
END:VEVENT
BEGIN:VEVENT
DTSTART;TZID=UTC:20171216T080000
DTEND;TZID=UTC:20171216T170000
DTSTAMP:20260425T094957
CREATED:20150917T003439Z
LAST-MODIFIED:20150917T003439Z
UID:444-1513411200-1513443600@fbcw.com
SUMMARY:Kids Festival
DESCRIPTION:Maecenas leo nisi\, efficitur at felis sit amet\, lacinia auctor quam. Aliquam euismod pretium mattis. Aenean sollicitudin orci non orci gravida ullamcorper. Duis utres odios pellentesque\, efficiturs odio vitae\, aliquams arcu. Sed pulvinar lacus at neque imperdiet lobortis. Phasellus eget lectus rutrum\, fringilla nibh ut\, convallis orci. Quisque magna risus\, lacinia a pharetra vel\, gravida ac mi. Aenean ac interdum nisi\, et vehicula nisl. Suspendisse potenti. Cras leo ex\, congue eget dignissim nec\, porta maximus erat. Etiam ornare arcu neque\, in viverra eros egestas eu. Mauris diam velit\, dictum et vehicula nec\, sagittis nec sapien. Donec tincidunt purus et justo porttitor\, non porttitor quam fermentum orci non aliquams arcu dolores ipsums. \nDonec maximus a ante sit amet nisl nisi at arcu. Donec lobortis libero ex\, a sollicitudin neque volutpat. Aenean pretium nisi id lectus cursus sagittis. Aliquam sit amet nisl pretium\, consectetur purus non\, porta libero. Integer dui dui\, porta non mollis sit amet\, pharetra nec risus. Donec fringilla ex non arcu auctor\, vel faucibus felis pharetra. Pellentesque condimentum suscipit mi. Sed pretium\, tellus et efficitur dapibus\, metus nunc gravida ante\, at interdum nisl nisi at arcu. Donec lobortis libero ex\, a sollicitudin neque dapibus vitae. Maecenas volutpat est sit amet leo pretium mollis eu a odio dolores ipsums ficilis etras.
URL:https://fbcw.com/event/creative-kids-festval/
LOCATION:South Campus\, 1234 Apple Avenue\, New York City\, NY\, 111111\, United States
CATEGORIES:Community,Food,Music
ATTACH;FMTTYPE=image/jpeg:https://fbcw.com/wp-content/uploads/2015/09/event_5-compressor.jpg
ORGANIZER;CN="Avada Church":MAILTO:noreply@example.com
END:VEVENT
BEGIN:VEVENT
DTSTART;TZID=UTC:20171210T080000
DTEND;TZID=UTC:20171210T170000
DTSTAMP:20260425T094957
CREATED:20150917T003351Z
LAST-MODIFIED:20150917T003351Z
UID:443-1512892800-1512925200@fbcw.com
SUMMARY:Family Photos
DESCRIPTION:Maecenas leo nisi\, efficitur at felis sit amet\, lacinia auctor quam. Aliquam euismod pretium mattis. Aenean sollicitudin orci non orci gravida ullamcorper. Duis utres odios pellentesque\, efficiturs odio vitae\, aliquams arcu. Sed pulvinar lacus at neque imperdiet lobortis. Phasellus eget lectus rutrum\, fringilla nibh ut\, convallis orci. Quisque magna risus\, lacinia a pharetra vel\, gravida ac mi. Aenean ac interdum nisi\, et vehicula nisl. Suspendisse potenti. Cras leo ex\, congue eget dignissim nec\, porta maximus erat. Etiam ornare arcu neque\, in viverra eros egestas eu. Mauris diam velit\, dictum et vehicula nec\, sagittis nec sapien. Donec tincidunt purus et justo porttitor\, non porttitor quam fermentum orci non aliquams arcu dolores ipsums. \nDonec maximus a ante sit amet nisl nisi at arcu. Donec lobortis libero ex\, a sollicitudin neque volutpat. Aenean pretium nisi id lectus cursus sagittis. Aliquam sit amet nisl pretium\, consectetur purus non\, porta libero. Integer dui dui\, porta non mollis sit amet\, pharetra nec risus. Donec fringilla ex non arcu auctor\, vel faucibus felis pharetra. Pellentesque condimentum suscipit mi. Sed pretium\, tellus et efficitur dapibus\, metus nunc gravida ante\, at interdum nisl nisi at arcu. Donec lobortis libero ex\, a sollicitudin neque dapibus vitae. Maecenas volutpat est sit amet leo pretium mollis eu a odio dolores ipsums ficilis etras.
URL:https://fbcw.com/event/family-photo-sessions/
LOCATION:South Campus\, 1234 Apple Avenue\, New York City\, NY\, 111111\, United States
CATEGORIES:Community,Music,Outreach
ATTACH;FMTTYPE=image/jpeg:https://fbcw.com/wp-content/uploads/2015/09/event_11-compressor.jpg
ORGANIZER;CN="Avada Church":MAILTO:noreply@example.com
END:VEVENT
BEGIN:VEVENT
DTSTART;TZID=UTC:20171102T080000
DTEND;TZID=UTC:20171102T170000
DTSTAMP:20260425T094957
CREATED:20150916T214836Z
LAST-MODIFIED:20150916T214836Z
UID:433-1509609600-1509642000@fbcw.com
SUMMARY:Family Growth
DESCRIPTION:Maecenas leo nisi\, efficitur at felis sit amet\, lacinia auctor quam. Aliquam euismod pretium mattis. Aenean sollicitudin orci non orci gravida ullamcorper. Duis utres odios pellentesque\, efficiturs odio vitae\, aliquams arcu. Sed pulvinar lacus at neque imperdiet lobortis. Phasellus eget lectus rutrum\, fringilla nibh ut\, convallis orci. Quisque magna risus\, lacinia a pharetra vel\, gravida ac mi. Aenean ac interdum nisi\, et vehicula nisl. Suspendisse potenti. Cras leo ex\, congue eget dignissim nec\, porta maximus erat. Etiam ornare arcu neque\, in viverra eros egestas eu. Mauris diam velit\, dictum et vehicula nec\, sagittis nec sapien. Donec tincidunt purus et justo porttitor\, non porttitor quam fermentum orci non aliquams arcu dolores ipsums. \nDonec maximus a ante sit amet nisl nisi at arcu. Donec lobortis libero ex\, a sollicitudin neque volutpat. Aenean pretium nisi id lectus cursus sagittis. Aliquam sit amet nisl pretium\, consectetur purus non\, porta libero. Integer dui dui\, porta non mollis sit amet\, pharetra nec risus. Donec fringilla ex non arcu auctor\, vel faucibus felis pharetra. Pellentesque condimentum suscipit mi. Sed pretium\, tellus et efficitur dapibus\, metus nunc gravida ante\, at interdum nisl nisi at arcu. Donec lobortis libero ex\, a sollicitudin neque dapibus vitae. Maecenas volutpat est sit amet leo pretium mollis eu a odio dolores ipsums ficilis etras.
URL:https://fbcw.com/event/family-growth/
LOCATION:South Campus\, 1234 Apple Avenue\, New York City\, NY\, 111111\, United States
CATEGORIES:Community,Food,Music,Outreach
ATTACH;FMTTYPE=image/jpeg:https://fbcw.com/wp-content/uploads/2015/09/event_6-compressor.jpg
ORGANIZER;CN="Avada Church":MAILTO:noreply@example.com
END:VEVENT
BEGIN:VEVENT
DTSTART;TZID=UTC:20171029T160000
DTEND;TZID=UTC:20171029T220000
DTSTAMP:20260425T094957
CREATED:20150916T234729Z
LAST-MODIFIED:20150916T234729Z
UID:438-1509292800-1509314400@fbcw.com
SUMMARY:Faith Conference
DESCRIPTION:Maecenas leo nisi\, efficitur at felis sit amet\, lacinia auctor quam. Aliquam euismod pretium mattis. Aenean sollicitudin orci non orci gravida ullamcorper. Duis utres odios pellentesque\, efficiturs odio vitae\, aliquams arcu. Sed pulvinar lacus at neque imperdiet lobortis. Phasellus eget lectus rutrum\, fringilla nibh ut\, convallis orci. Quisque magna risus\, lacinia a pharetra vel\, gravida ac mi. Aenean ac interdum nisi\, et vehicula nisl. Suspendisse potenti. Cras leo ex\, congue eget dignissim nec\, porta maximus erat. Etiam ornare arcu neque\, in viverra eros egestas eu. Mauris diam velit\, dictum et vehicula nec\, sagittis nec sapien. Donec tincidunt purus et justo porttitor\, non porttitor quam fermentum orci non aliquams arcu dolores ipsums. \nDonec maximus a ante sit amet nisl nisi at arcu. Donec lobortis libero ex\, a sollicitudin neque volutpat. Aenean pretium nisi id lectus cursus sagittis. Aliquam sit amet nisl pretium\, consectetur purus non\, porta libero. Integer dui dui\, porta non mollis sit amet\, pharetra nec risus. Donec fringilla ex non arcu auctor\, vel faucibus felis pharetra. Pellentesque condimentum suscipit mi. Sed pretium\, tellus et efficitur dapibus\, metus nunc gravida ante\, at interdum nisl nisi at arcu. Donec lobortis libero ex\, a sollicitudin neque dapibus vitae. Maecenas volutpat est sit amet leo pretium mollis eu a odio dolores ipsums ficilis etras.
URL:https://fbcw.com/event/faith-conference/
LOCATION:South Campus\, 1234 Apple Avenue\, New York City\, NY\, 111111\, United States
CATEGORIES:Community,Food,Music
ATTACH;FMTTYPE=image/jpeg:https://fbcw.com/wp-content/uploads/2015/09/event_1.jpg
ORGANIZER;CN="Avada Church":MAILTO:noreply@example.com
END:VEVENT
BEGIN:VEVENT
DTSTART;TZID=UTC:20171028T120000
DTEND;TZID=UTC:20171028T190000
DTSTAMP:20260425T094957
CREATED:20150916T235421Z
LAST-MODIFIED:20150916T235421Z
UID:439-1509192000-1509217200@fbcw.com
SUMMARY:Harvest Festival
DESCRIPTION:Maecenas leo nisi\, efficitur at felis sit amet\, lacinia auctor quam. Aliquam euismod pretium mattis. Aenean sollicitudin orci non orci gravida ullamcorper. Duis utres odios pellentesque\, efficiturs odio vitae\, aliquams arcu. Sed pulvinar lacus at neque imperdiet lobortis. Phasellus eget lectus rutrum\, fringilla nibh ut\, convallis orci. Quisque magna risus\, lacinia a pharetra vel\, gravida ac mi. Aenean ac interdum nisi\, et vehicula nisl. Suspendisse potenti. Cras leo ex\, congue eget dignissim nec\, porta maximus erat. Etiam ornare arcu neque\, in viverra eros egestas eu. Mauris diam velit\, dictum et vehicula nec\, sagittis nec sapien. Donec tincidunt purus et justo porttitor\, non porttitor quam fermentum orci non aliquams arcu dolores ipsums. \nDonec maximus a ante sit amet nisl nisi at arcu. Donec lobortis libero ex\, a sollicitudin neque volutpat. Aenean pretium nisi id lectus cursus sagittis. Aliquam sit amet nisl pretium\, consectetur purus non\, porta libero. Integer dui dui\, porta non mollis sit amet\, pharetra nec risus. Donec fringilla ex non arcu auctor\, vel faucibus felis pharetra. Pellentesque condimentum suscipit mi. Sed pretium\, tellus et efficitur dapibus\, metus nunc gravida ante\, at interdum nisl nisi at arcu. Donec lobortis libero ex\, a sollicitudin neque dapibus vitae. Maecenas volutpat est sit amet leo pretium mollis eu a odio dolores ipsums ficilis etras.
URL:https://fbcw.com/event/harvest-festival/
LOCATION:South Campus\, 1234 Apple Avenue\, New York City\, NY\, 111111\, United States
CATEGORIES:Community,Food,Outreach
ATTACH;FMTTYPE=image/jpeg:https://fbcw.com/wp-content/uploads/2015/09/event_3-compressor.jpg
ORGANIZER;CN="Avada Church":MAILTO:noreply@example.com
END:VEVENT
BEGIN:VEVENT
DTSTART;TZID=UTC:20171026T080000
DTEND;TZID=UTC:20171026T170000
DTSTAMP:20260425T094957
CREATED:20150916T213923Z
LAST-MODIFIED:20150916T213923Z
UID:432-1509004800-1509037200@fbcw.com
SUMMARY:Concert Series
DESCRIPTION:Maecenas leo nisi\, efficitur at felis sit amet\, lacinia auctor quam. Aliquam euismod pretium mattis. Aenean sollicitudin orci non orci gravida ullamcorper. Duis utres odios pellentesque\, efficiturs odio vitae\, aliquams arcu. Sed pulvinar lacus at neque imperdiet lobortis. Phasellus eget lectus rutrum\, fringilla nibh ut\, convallis orci. Quisque magna risus\, lacinia a pharetra vel\, gravida ac mi. Aenean ac interdum nisi\, et vehicula nisl. Suspendisse potenti. Cras leo ex\, congue eget dignissim nec\, porta maximus erat. Etiam ornare arcu neque\, in viverra eros egestas eu. Mauris diam velit\, dictum et vehicula nec\, sagittis nec sapien. Donec tincidunt purus et justo porttitor\, non porttitor quam fermentum orci non aliquams arcu dolores ipsums. \nDonec maximus a ante sit amet nisl nisi at arcu. Donec lobortis libero ex\, a sollicitudin neque volutpat. Aenean pretium nisi id lectus cursus sagittis. Aliquam sit amet nisl pretium\, consectetur purus non\, porta libero. Integer dui dui\, porta non mollis sit amet\, pharetra nec risus. Donec fringilla ex non arcu auctor\, vel faucibus felis pharetra. Pellentesque condimentum suscipit mi. Sed pretium\, tellus et efficitur dapibus\, metus nunc gravida ante\, at interdum nisl nisi at arcu. Donec lobortis libero ex\, a sollicitudin neque dapibus vitae. Maecenas volutpat est sit amet leo pretium mollis eu a odio dolores ipsums ficilis etras.
URL:https://fbcw.com/event/concert-series-2/
LOCATION:South Campus\, 1234 Apple Avenue\, New York City\, NY\, 111111\, United States
CATEGORIES:Community,Food,Music
ATTACH;FMTTYPE=image/jpeg:https://fbcw.com/wp-content/uploads/2015/09/event_2-compressor.jpg
ORGANIZER;CN="Avada Church":MAILTO:noreply@example.com
END:VEVENT
BEGIN:VEVENT
DTSTART;TZID=UTC:20170814T080000
DTEND;TZID=UTC:20170814T170000
DTSTAMP:20260425T094957
CREATED:20150803T231442Z
LAST-MODIFIED:20150803T231442Z
UID:279-1502697600-1502730000@fbcw.com
SUMMARY:Hot Air Balloon Rides
DESCRIPTION:Maecenas leo nisi\, efficitur at felis sit amet\, lacinia auctor quam. Aliquam euismod pretium mattis. Aenean sollicitudin orci non orci gravida ullamcorper. Duis utres odios pellentesque\, efficiturs odio vitae\, aliquams arcu. Sed pulvinar lacus at neque imperdiet lobortis. Phasellus eget lectus rutrum\, fringilla nibh ut\, convallis orci. Quisque magna risus\, lacinia a pharetra vel\, gravida ac mi. Aenean ac interdum nisi\, et vehicula nisl. Suspendisse potenti. Cras leo ex\, congue eget dignissim nec\, porta maximus erat. Etiam ornare arcu neque\, in viverra eros egestas eu. Mauris diam velit\, dictum et vehicula nec\, sagittis nec sapien. Donec tincidunt purus et justo porttitor\, non porttitor quam fermentum orci non aliquams arcu dolores ipsums. \nDonec maximus a ante sit amet nisl nisi at arcu. Donec lobortis libero ex\, a sollicitudin neque volutpat. Aenean pretium nisi id lectus cursus sagittis. Aliquam sit amet nisl pretium\, consectetur purus non\, porta libero. Integer dui dui\, porta non mollis sit amet\, pharetra nec risus. Donec fringilla ex non arcu auctor\, vel faucibus felis pharetra. Pellentesque condimentum suscipit mi. Sed pretium\, tellus et efficitur dapibus\, metus nunc gravida ante\, at interdum nisl nisi at arcu. Donec lobortis libero ex\, a sollicitudin neque dapibus vitae. Maecenas volutpat est sit amet leo pretium mollis eu a odio dolores ipsums ficilis etras.
URL:https://fbcw.com/event/hot-air-balloon-rides/
LOCATION:South Campus\, 1234 Apple Avenue\, New York City\, NY\, 111111\, United States
CATEGORIES:Community
ATTACH;FMTTYPE=image/jpeg:https://fbcw.com/wp-content/uploads/2015/09/event_7-compressor.jpg
ORGANIZER;CN="Avada Church":MAILTO:noreply@example.com
END:VEVENT
END:VCALENDAR