BEGIN:VCALENDAR
VERSION:2.0
PRODID:-//First Baptist Church of Weddington - ECPv6.15.20//NONSGML v1.0//EN
CALSCALE:GREGORIAN
METHOD:PUBLISH
X-WR-CALNAME:First Baptist Church of Weddington
X-ORIGINAL-URL:https://fbcw.com
X-WR-CALDESC:Events for First Baptist Church of Weddington
REFRESH-INTERVAL;VALUE=DURATION:PT1H
X-Robots-Tag:noindex
X-PUBLISHED-TTL:PT1H
BEGIN:VTIMEZONE
TZID:America/New_York
BEGIN:DAYLIGHT
TZOFFSETFROM:-0500
TZOFFSETTO:-0400
TZNAME:EDT
DTSTART:20210314T070000
END:DAYLIGHT
BEGIN:STANDARD
TZOFFSETFROM:-0400
TZOFFSETTO:-0500
TZNAME:EST
DTSTART:20211107T060000
END:STANDARD
BEGIN:DAYLIGHT
TZOFFSETFROM:-0500
TZOFFSETTO:-0400
TZNAME:EDT
DTSTART:20220313T070000
END:DAYLIGHT
BEGIN:STANDARD
TZOFFSETFROM:-0400
TZOFFSETTO:-0500
TZNAME:EST
DTSTART:20221106T060000
END:STANDARD
BEGIN:DAYLIGHT
TZOFFSETFROM:-0500
TZOFFSETTO:-0400
TZNAME:EDT
DTSTART:20230312T070000
END:DAYLIGHT
BEGIN:STANDARD
TZOFFSETFROM:-0400
TZOFFSETTO:-0500
TZNAME:EST
DTSTART:20231105T060000
END:STANDARD
BEGIN:DAYLIGHT
TZOFFSETFROM:-0500
TZOFFSETTO:-0400
TZNAME:EDT
DTSTART:20240310T070000
END:DAYLIGHT
BEGIN:STANDARD
TZOFFSETFROM:-0400
TZOFFSETTO:-0500
TZNAME:EST
DTSTART:20241103T060000
END:STANDARD
BEGIN:DAYLIGHT
TZOFFSETFROM:-0500
TZOFFSETTO:-0400
TZNAME:EDT
DTSTART:20250309T070000
END:DAYLIGHT
BEGIN:STANDARD
TZOFFSETFROM:-0400
TZOFFSETTO:-0500
TZNAME:EST
DTSTART:20251102T060000
END:STANDARD
BEGIN:DAYLIGHT
TZOFFSETFROM:-0500
TZOFFSETTO:-0400
TZNAME:EDT
DTSTART:20260308T070000
END:DAYLIGHT
BEGIN:STANDARD
TZOFFSETFROM:-0400
TZOFFSETTO:-0500
TZNAME:EST
DTSTART:20261101T060000
END:STANDARD
END:VTIMEZONE
BEGIN:VTIMEZONE
TZID:America/New_York
BEGIN:DAYLIGHT
TZOFFSETFROM:-0500
TZOFFSETTO:-0400
TZNAME:EDT
DTSTART:20210314T070000
END:DAYLIGHT
BEGIN:STANDARD
TZOFFSETFROM:-0400
TZOFFSETTO:-0500
TZNAME:EST
DTSTART:20211107T060000
END:STANDARD
BEGIN:DAYLIGHT
TZOFFSETFROM:-0500
TZOFFSETTO:-0400
TZNAME:EDT
DTSTART:20220313T070000
END:DAYLIGHT
BEGIN:STANDARD
TZOFFSETFROM:-0400
TZOFFSETTO:-0500
TZNAME:EST
DTSTART:20221106T060000
END:STANDARD
BEGIN:DAYLIGHT
TZOFFSETFROM:-0500
TZOFFSETTO:-0400
TZNAME:EDT
DTSTART:20230312T070000
END:DAYLIGHT
BEGIN:STANDARD
TZOFFSETFROM:-0400
TZOFFSETTO:-0500
TZNAME:EST
DTSTART:20231105T060000
END:STANDARD
BEGIN:DAYLIGHT
TZOFFSETFROM:-0500
TZOFFSETTO:-0400
TZNAME:EDT
DTSTART:20240310T070000
END:DAYLIGHT
BEGIN:STANDARD
TZOFFSETFROM:-0400
TZOFFSETTO:-0500
TZNAME:EST
DTSTART:20241103T060000
END:STANDARD
END:VTIMEZONE
BEGIN:VEVENT
DTSTART;VALUE=DATE:20250304
DTEND;VALUE=DATE:20250305
DTSTAMP:20260423T071400
CREATED:20241016T170630Z
LAST-MODIFIED:20250227T181810Z
UID:7979-1741046400-1741132799@fbcw.com
SUMMARY:No Preschool
DESCRIPTION:
URL:https://fbcw.com/event/no-preschool-copy-copy-2-copy-copy-copy-copy-copy-copy-copy/
LOCATION:First Baptist Church of Weddington\, 348 Providence Road South\, Weddington\, NC\, 28173\, United States
CATEGORIES:Children
END:VEVENT
BEGIN:VEVENT
DTSTART;VALUE=DATE:20250120
DTEND;VALUE=DATE:20250121
DTSTAMP:20260423T071400
CREATED:20250102T155214Z
LAST-MODIFIED:20250102T155238Z
UID:8091-1737331200-1737417599@fbcw.com
SUMMARY:No Preschool
DESCRIPTION:
URL:https://fbcw.com/event/no-preschool-copy-copy-2-copy-copy-copy-copy-copy-copy-copy-3/
LOCATION:First Baptist Church of Weddington\, 348 Providence Road South\, Weddington\, NC\, 28173\, United States
CATEGORIES:Children
END:VEVENT
BEGIN:VEVENT
DTSTART;TZID=America/New_York:20250112T120000
DTEND;TZID=America/New_York:20250112T123000
DTSTAMP:20260423T071400
CREATED:20250107T183534Z
LAST-MODIFIED:20250107T183534Z
UID:8118-1736683200-1736685000@fbcw.com
SUMMARY:FBCW Kids - Important Meeting After Service on Sunday
DESCRIPTION:There will be a brief meeting after service this Sunday\, January 12\, for all Children’s Ministry volunteers as well as parents of school-age and nursery children. If you serve in the nursery\, children’s classrooms\, or are a parent of either age group\, please make plans to stay. The purpose of this meeting is to discuss our updated Children’s Ministry policies\, as well as walk through our new check-in system for Bible Fellowship and nursery that will be implemented in the coming weeks. Please come prepared with any questions or concerns. If you’re unable to stay for the meeting\, please let Hannah Chronis know.
URL:https://fbcw.com/event/fbcw-kids-important-meeting-after-service-on-sunday/
LOCATION:First Baptist Church of Weddington\, 348 Providence Road South\, Weddington\, NC\, 28173\, United States
CATEGORIES:Children
END:VEVENT
BEGIN:VEVENT
DTSTART;VALUE=DATE:20241220
DTEND;VALUE=DATE:20250106
DTSTAMP:20260423T071400
CREATED:20241016T170707Z
LAST-MODIFIED:20241016T170913Z
UID:7981-1734652800-1736121599@fbcw.com
SUMMARY:No Preschool
DESCRIPTION:Christmas Break.
URL:https://fbcw.com/event/no-preschool-copy-copy-2-copy-copy-copy-copy-copy-copy-copy-2/
LOCATION:First Baptist Church of Weddington\, 348 Providence Road South\, Weddington\, NC\, 28173\, United States
CATEGORIES:Children
END:VEVENT
BEGIN:VEVENT
DTSTART;TZID=America/New_York:20241206T170000
DTEND;TZID=America/New_York:20241206T200000
DTSTAMP:20260423T071400
CREATED:20241113T195609Z
LAST-MODIFIED:20241113T195609Z
UID:8027-1733504400-1733515200@fbcw.com
SUMMARY:FBCW Kids Christmas Party!
DESCRIPTION:Friday\, December 6\n5 — 8 p.m. \nKids\, this announcement is just for you! Come help us celebrate the season with a fun-filled Christmas party on Friday\, December 6 at the Marriott’s home. We’ll have pizza\, Christmas cookies\, games\, crafts\, and more. Wear your favorite Christmas pjs or festive sweaters! All FBCW kids and their families are invited. Please RSVP to Hannah Chronis by Sunday\, November 24.
URL:https://fbcw.com/event/fbcw-kids-christmas-party/
LOCATION:NC
CATEGORIES:Children,Fellowship Activities
END:VEVENT
BEGIN:VEVENT
DTSTART;VALUE=DATE:20241127
DTEND;VALUE=DATE:20241202
DTSTAMP:20260423T071400
CREATED:20241016T170616Z
LAST-MODIFIED:20241016T170703Z
UID:7977-1732665600-1733097599@fbcw.com
SUMMARY:No Preschool
DESCRIPTION:Thanksgiving Break.
URL:https://fbcw.com/event/no-preschool-copy-copy-2-copy-copy-copy-copy-copy-copy/
LOCATION:First Baptist Church of Weddington\, 348 Providence Road South\, Weddington\, NC\, 28173\, United States
CATEGORIES:Children
END:VEVENT
BEGIN:VEVENT
DTSTART;VALUE=DATE:20241105
DTEND;VALUE=DATE:20241106
DTSTAMP:20260423T071400
CREATED:20241016T170516Z
LAST-MODIFIED:20241016T170613Z
UID:7975-1730764800-1730851199@fbcw.com
SUMMARY:No Preschool
DESCRIPTION:
URL:https://fbcw.com/event/no-preschool-copy-copy-2-copy-copy-copy-copy-copy/
LOCATION:First Baptist Church of Weddington\, 348 Providence Road South\, Weddington\, NC\, 28173\, United States
CATEGORIES:Children
END:VEVENT
BEGIN:VEVENT
DTSTART;TZID=America/New_York:20240903T100000
DTEND;TZID=America/New_York:20240903T120000
DTSTAMP:20260423T071400
CREATED:20240829T201032Z
LAST-MODIFIED:20240829T201053Z
UID:7836-1725357600-1725364800@fbcw.com
SUMMARY:Preschool Open House
DESCRIPTION:
URL:https://fbcw.com/event/preschool-open-house-copy-copy/
LOCATION:First Baptist Church of Weddington\, 348 Providence Road South\, Weddington\, NC\, 28173\, United States
CATEGORIES:Children
END:VEVENT
BEGIN:VEVENT
DTSTART;TZID=America/New_York:20240818T120000
DTEND;TZID=America/New_York:20240818T170000
DTSTAMP:20260423T071400
CREATED:20240723T160018Z
LAST-MODIFIED:20240802T190230Z
UID:7760-1723982400-1724000400@fbcw.com
SUMMARY:Kids Splash Bash!
DESCRIPTION:Beat the heat and join us after church on for a family-friendly splash bash! We’ll have water slides\, water balloons\, a toddler area\, and more! Pizza and popsicles will be provided. Parents\, make sure your children bring a swimsuit\, towel\, and sunscreen! Please see Hannah Chronis if you have any questions.
URL:https://fbcw.com/event/kids-splash-bash/
LOCATION:First Baptist Church of Weddington\, 348 Providence Road South\, Weddington\, NC\, 28173\, United States
CATEGORIES:Children
END:VEVENT
BEGIN:VEVENT
DTSTART;TZID=America/New_York:20240526T110000
DTEND;TZID=America/New_York:20240526T170000
DTSTAMP:20260423T071400
CREATED:20240508T140436Z
LAST-MODIFIED:20240508T140621Z
UID:7585-1716721200-1716742800@fbcw.com
SUMMARY:Parent/Child Commissioning
DESCRIPTION:We will have a Parent/Child Commissioning during our morning Worship Gathering on Sunday\, May 26. Please join us for this special time as we prayerfully commission parents to raise their children in the discipline and instruction of the Lord (Ephesians 6:4).
URL:https://fbcw.com/event/parent-child-commissioning-copy/
LOCATION:First Baptist Church of Weddington\, 348 Providence Road South\, Weddington\, NC\, 28173\, United States
CATEGORIES:Children
ORGANIZER;CN="Samantha Sorrell":MAILTO:childrensdirector@fbcw.com
END:VEVENT
BEGIN:VEVENT
DTSTART;TZID=America/New_York:20240520T110000
DTEND;TZID=America/New_York:20240520T120000
DTSTAMP:20260423T071400
CREATED:20240409T172709Z
LAST-MODIFIED:20240409T172749Z
UID:7547-1716202800-1716206400@fbcw.com
SUMMARY:Preschool Graduation
DESCRIPTION:
URL:https://fbcw.com/event/preschool-graduation-copy-copy-copy/
LOCATION:First Baptist Church of Weddington\, 348 Providence Road South\, Weddington\, NC\, 28173\, United States
CATEGORIES:Children
END:VEVENT
BEGIN:VEVENT
DTSTART;VALUE=DATE:20240329
DTEND;VALUE=DATE:20240408
DTSTAMP:20260423T071400
CREATED:20240214T155344Z
LAST-MODIFIED:20240214T155431Z
UID:7389-1711670400-1712534399@fbcw.com
SUMMARY:No Preschool
DESCRIPTION:No Preschool – UCPS Spring Break
URL:https://fbcw.com/event/no-preschool-copy-copy-2-copy-copy-copy-copy/
LOCATION:First Baptist Church of Weddington\, 348 Providence Road South\, Weddington\, NC\, 28173\, United States
CATEGORIES:Children
END:VEVENT
BEGIN:VEVENT
DTSTART;VALUE=DATE:20240219
DTEND;VALUE=DATE:20240220
DTSTAMP:20260423T071400
CREATED:20240131T193540Z
LAST-MODIFIED:20240131T193616Z
UID:7311-1708300800-1708387199@fbcw.com
SUMMARY:No Preschool
DESCRIPTION:
URL:https://fbcw.com/event/no-preschool-copy-copy-2-copy-copy-copy/
LOCATION:First Baptist Church of Weddington\, 348 Providence Road South\, Weddington\, NC\, 28173\, United States
CATEGORIES:Children
END:VEVENT
BEGIN:VEVENT
DTSTART;VALUE=DATE:20240125
DTEND;VALUE=DATE:20240126
DTSTAMP:20260423T071400
CREATED:20231121T131934Z
LAST-MODIFIED:20231121T131948Z
UID:7222-1706140800-1706227199@fbcw.com
SUMMARY:No Preschool
DESCRIPTION:
URL:https://fbcw.com/event/no-preschool-copy-copy-2-copy-copy/
LOCATION:First Baptist Church of Weddington\, 348 Providence Road South\, Weddington\, NC\, 28173\, United States
CATEGORIES:Children
END:VEVENT
BEGIN:VEVENT
DTSTART;VALUE=DATE:20240115
DTEND;VALUE=DATE:20240116
DTSTAMP:20260423T071400
CREATED:20231121T131847Z
LAST-MODIFIED:20231121T131930Z
UID:7220-1705276800-1705363199@fbcw.com
SUMMARY:No Preschool
DESCRIPTION:
URL:https://fbcw.com/event/no-preschool-copy-copy-2-copy/
LOCATION:First Baptist Church of Weddington\, 348 Providence Road South\, Weddington\, NC\, 28173\, United States
CATEGORIES:Children
END:VEVENT
BEGIN:VEVENT
DTSTART;VALUE=DATE:20240101
DTEND;VALUE=DATE:20240102
DTSTAMP:20260423T071400
CREATED:20231121T130546Z
LAST-MODIFIED:20231121T130601Z
UID:7176-1704067200-1704153599@fbcw.com
SUMMARY:No Preschool
DESCRIPTION:
URL:https://fbcw.com/event/no-preschool-copy-copy-2/
LOCATION:First Baptist Church of Weddington\, 348 Providence Road South\, Weddington\, NC\, 28173\, United States
CATEGORIES:Children
END:VEVENT
BEGIN:VEVENT
DTSTART;VALUE=DATE:20231218
DTEND;VALUE=DATE:20240102
DTSTAMP:20260423T071400
CREATED:20231120T200156Z
LAST-MODIFIED:20231120T200233Z
UID:7126-1702857600-1704153599@fbcw.com
SUMMARY:No Weekday Preschool
DESCRIPTION:No weekday preschool – Christmas break.
URL:https://fbcw.com/event/no-weekday-preschool-copy-copy-copy/
LOCATION:NC
CATEGORIES:Children
END:VEVENT
BEGIN:VEVENT
DTSTART;TZID=America/New_York:20231213T110000
DTEND;TZID=America/New_York:20231213T120000
DTSTAMP:20260423T071400
CREATED:20231120T200416Z
LAST-MODIFIED:20231120T200416Z
UID:7128-1702465200-1702468800@fbcw.com
SUMMARY:Preschool Christmas Program
DESCRIPTION:
URL:https://fbcw.com/event/preschool-christmas-program/
LOCATION:NC
CATEGORIES:Children
END:VEVENT
BEGIN:VEVENT
DTSTART;VALUE=DATE:20231121
DTEND;VALUE=DATE:20231125
DTSTAMP:20260423T071400
CREATED:20231120T192128Z
LAST-MODIFIED:20231120T192155Z
UID:7045-1700524800-1700870399@fbcw.com
SUMMARY:No Preschool
DESCRIPTION:
URL:https://fbcw.com/event/no-preschool-copy-copy/
LOCATION:First Baptist Church of Weddington\, 348 Providence Road South\, Weddington\, NC\, 28173\, United States
CATEGORIES:Children
END:VEVENT
BEGIN:VEVENT
DTSTART;VALUE=DATE:20230925
DTEND;VALUE=DATE:20230926
DTSTAMP:20260423T071400
CREATED:20230823T182513Z
LAST-MODIFIED:20230823T182528Z
UID:6906-1695600000-1695686399@fbcw.com
SUMMARY:No Preschool
DESCRIPTION:
URL:https://fbcw.com/event/no-preschool-copy/
LOCATION:First Baptist Church of Weddington\, 348 Providence Road South\, Weddington\, NC\, 28173\, United States
CATEGORIES:Children
END:VEVENT
BEGIN:VEVENT
DTSTART;TZID=America/New_York:20230910T110000
DTEND;TZID=America/New_York:20230910T130000
DTSTAMP:20260423T071400
CREATED:20230823T140555Z
LAST-MODIFIED:20230823T140820Z
UID:6853-1694343600-1694350800@fbcw.com
SUMMARY:Back To School Sunday
DESCRIPTION:Join us Sunday\, September 10\, for Back-to -School Sunday! As we gather to worship the Lord\, we will give emphasis to recognizing and praying for students\, parents\, educators\, and local schools. The First Kids Choir will bless us with special music. We will welcome guest speaker Chris Allen from Southeastern Baptist Theological Seminary. And we’ll enjoy a fellowship lunch afterwards. Everyone is encouraged to bring your favorite dish to share!
URL:https://fbcw.com/event/back-to-school-sunday/
LOCATION:NC
CATEGORIES:Children,Fellowship Activities,Music,Youth
END:VEVENT
BEGIN:VEVENT
DTSTART;TZID=America/New_York:20230906T091500
DTEND;TZID=America/New_York:20230906T131500
DTSTAMP:20260423T071400
CREATED:20230823T182315Z
LAST-MODIFIED:20230823T182336Z
UID:6900-1693991700-1694006100@fbcw.com
SUMMARY:First Day of Preschool
DESCRIPTION:
URL:https://fbcw.com/event/first-day-of-preschool-copy/
LOCATION:First Baptist Church of Weddington\, 348 Providence Road South\, Weddington\, NC\, 28173\, United States
CATEGORIES:Children
END:VEVENT
BEGIN:VEVENT
DTSTART;TZID=America/New_York:20230905T100000
DTEND;TZID=America/New_York:20230905T120000
DTSTAMP:20260423T071400
CREATED:20230823T182234Z
LAST-MODIFIED:20230823T182258Z
UID:6898-1693908000-1693915200@fbcw.com
SUMMARY:Preschool Open House
DESCRIPTION:
URL:https://fbcw.com/event/preschool-open-house-copy/
LOCATION:First Baptist Church of Weddington\, 348 Providence Road South\, Weddington\, NC\, 28173\, United States
CATEGORIES:Children
END:VEVENT
BEGIN:VEVENT
DTSTART;TZID=America/New_York:20230522T110000
DTEND;TZID=America/New_York:20230522T120000
DTSTAMP:20260423T071400
CREATED:20230517T170330Z
LAST-MODIFIED:20230517T170407Z
UID:6710-1684753200-1684756800@fbcw.com
SUMMARY:Preschool Graduation
DESCRIPTION:
URL:https://fbcw.com/event/preschool-graduation-copy-copy/
LOCATION:First Baptist Church of Weddington\, 348 Providence Road South\, Weddington\, NC\, 28173\, United States
CATEGORIES:Children
END:VEVENT
BEGIN:VEVENT
DTSTART;TZID=America/New_York:20230521T120000
DTEND;TZID=America/New_York:20230521T130000
DTSTAMP:20260423T071400
CREATED:20230517T153448Z
LAST-MODIFIED:20230517T153448Z
UID:6598-1684670400-1684674000@fbcw.com
SUMMARY:Splash Into Summer
DESCRIPTION:Are you ready to Splash into Summer? We hope you’ll join us for a wet-n-wild summer event the whole family can enjoy! \nWhat to Bring: Kids should bring their bathing suits\, towels\, sunscreen\, and water toys. Parents bring a lawn chair for fellowship or join in the fun! Bring a picnic lunch for your family and get ready for fun! \nWe’ll have water games\, slip-n-slides\, popsicles\, and more!
URL:https://fbcw.com/event/splash-into-summer/
LOCATION:First Baptist Church of Weddington\, 348 Providence Road South\, Weddington\, NC\, 28173\, United States
CATEGORIES:Children
ORGANIZER;CN="Samantha Sorrell":MAILTO:childrensdirector@fbcw.com
END:VEVENT
BEGIN:VEVENT
DTSTART;TZID=America/New_York:20230521T110000
DTEND;TZID=America/New_York:20230521T170000
DTSTAMP:20260423T071400
CREATED:20230517T154632Z
LAST-MODIFIED:20230517T154632Z
UID:6624-1684666800-1684688400@fbcw.com
SUMMARY:Parent/Child Commissioning
DESCRIPTION:We will have a Parent/Child Commissioning during our morning Worship Gathering on Sunday\, May 21. Because it has been several years since we have done a Parent/Child Commissioning (sometimes referred to as “Baby Dedication”)\, any parents who did not have the opportunity to participate in the past are welcome to join in this special time as we prayerfully commission parents to raise their children in the discipline and instruction of the Lord (Ephesians 6:4).
URL:https://fbcw.com/event/parent-child-commissioning/
LOCATION:First Baptist Church of Weddington\, 348 Providence Road South\, Weddington\, NC\, 28173\, United States
CATEGORIES:Children
ORGANIZER;CN="Samantha Sorrell":MAILTO:childrensdirector@fbcw.com
END:VEVENT
BEGIN:VEVENT
DTSTART;VALUE=DATE:20230227
DTEND;VALUE=DATE:20230228
DTSTAMP:20260423T071400
CREATED:20230209T181147Z
LAST-MODIFIED:20230209T181147Z
UID:6438-1677456000-1677542399@fbcw.com
SUMMARY:No Preschool
DESCRIPTION:
URL:https://fbcw.com/event/no-preschool/
LOCATION:First Baptist Church of Weddington\, 348 Providence Road South\, Weddington\, NC\, 28173\, United States
CATEGORIES:Children
END:VEVENT
BEGIN:VEVENT
DTSTART;VALUE=DATE:20221219
DTEND;VALUE=DATE:20230103
DTSTAMP:20260423T071400
CREATED:20221122T152506Z
LAST-MODIFIED:20221122T152600Z
UID:6266-1671408000-1672703999@fbcw.com
SUMMARY:No Weekday Preschool
DESCRIPTION:No weekday preschool – Christmas break.
URL:https://fbcw.com/event/no-weekday-preschool-copy-copy/
LOCATION:NC
CATEGORIES:Children
END:VEVENT
BEGIN:VEVENT
DTSTART;TZID=America/New_York:20220907T091500
DTEND;TZID=America/New_York:20220907T131500
DTSTAMP:20260423T071400
CREATED:20220720T154055Z
LAST-MODIFIED:20220720T154155Z
UID:5960-1662542100-1662556500@fbcw.com
SUMMARY:First Day of Preschool
DESCRIPTION:
URL:https://fbcw.com/event/first-day-of-preschool/
LOCATION:First Baptist Church of Weddington\, 348 Providence Road South\, Weddington\, NC\, 28173\, United States
CATEGORIES:Children
END:VEVENT
BEGIN:VEVENT
DTSTART;TZID=America/New_York:20220906T100000
DTEND;TZID=America/New_York:20220906T120000
DTSTAMP:20260423T071400
CREATED:20220720T153946Z
LAST-MODIFIED:20220720T154008Z
UID:5958-1662458400-1662465600@fbcw.com
SUMMARY:Preschool Open House
DESCRIPTION:
URL:https://fbcw.com/event/preschool-open-house/
LOCATION:First Baptist Church of Weddington\, 348 Providence Road South\, Weddington\, NC\, 28173\, United States
CATEGORIES:Children
END:VEVENT
END:VCALENDAR