BEGIN:VCALENDAR
VERSION:2.0
PRODID:-//First Baptist Church of Weddington - ECPv6.15.20//NONSGML v1.0//EN
CALSCALE:GREGORIAN
METHOD:PUBLISH
X-ORIGINAL-URL:https://fbcw.com
X-WR-CALDESC:Events for First Baptist Church of Weddington
REFRESH-INTERVAL;VALUE=DURATION:PT1H
X-Robots-Tag:noindex
X-PUBLISHED-TTL:PT1H
BEGIN:VTIMEZONE
TZID:America/New_York
BEGIN:DAYLIGHT
TZOFFSETFROM:-0500
TZOFFSETTO:-0400
TZNAME:EDT
DTSTART:20230312T070000
END:DAYLIGHT
BEGIN:STANDARD
TZOFFSETFROM:-0400
TZOFFSETTO:-0500
TZNAME:EST
DTSTART:20231105T060000
END:STANDARD
BEGIN:DAYLIGHT
TZOFFSETFROM:-0500
TZOFFSETTO:-0400
TZNAME:EDT
DTSTART:20240310T070000
END:DAYLIGHT
BEGIN:STANDARD
TZOFFSETFROM:-0400
TZOFFSETTO:-0500
TZNAME:EST
DTSTART:20241103T060000
END:STANDARD
BEGIN:DAYLIGHT
TZOFFSETFROM:-0500
TZOFFSETTO:-0400
TZNAME:EDT
DTSTART:20250309T070000
END:DAYLIGHT
BEGIN:STANDARD
TZOFFSETFROM:-0400
TZOFFSETTO:-0500
TZNAME:EST
DTSTART:20251102T060000
END:STANDARD
BEGIN:DAYLIGHT
TZOFFSETFROM:-0500
TZOFFSETTO:-0400
TZNAME:EDT
DTSTART:20260308T070000
END:DAYLIGHT
BEGIN:STANDARD
TZOFFSETFROM:-0400
TZOFFSETTO:-0500
TZNAME:EST
DTSTART:20261101T060000
END:STANDARD
BEGIN:DAYLIGHT
TZOFFSETFROM:-0500
TZOFFSETTO:-0400
TZNAME:EDT
DTSTART:20270314T070000
END:DAYLIGHT
BEGIN:STANDARD
TZOFFSETFROM:-0400
TZOFFSETTO:-0500
TZNAME:EST
DTSTART:20271107T060000
END:STANDARD
END:VTIMEZONE
BEGIN:VEVENT
DTSTART;VALUE=DATE:20260406
DTEND;VALUE=DATE:20260410
DTSTAMP:20260423T040504
CREATED:20260402T162948Z
LAST-MODIFIED:20260402T163017Z
UID:9293-1775433600-1775779199@fbcw.com
SUMMARY:No Preschool
DESCRIPTION:No Preschool – UCPS Spring Break
URL:https://fbcw.com/event/no-preschool-copy-copy-2-copy-copy-copy-copy-copy-2-copy-2/
LOCATION:First Baptist Church of Weddington\, 348 Providence Road South\, Weddington\, NC\, 28173\, United States
CATEGORIES:Children
END:VEVENT
BEGIN:VEVENT
DTSTART;TZID=America/New_York:20260329T091500
DTEND;TZID=America/New_York:20260329T101500
DTSTAMP:20260423T040504
CREATED:20260310T180232Z
LAST-MODIFIED:20260310T180244Z
UID:9246-1774775700-1774779300@fbcw.com
SUMMARY:Kids Sunday Bible Breakfast
DESCRIPTION:Kids in 5th grade and below – Join us on the last Sunday of each month at 9:15am in Room 218 for our monthly Bible study just for kids! Bring your Bible\, a big appetite\, and get ready to dig deeper into God’s Word. Contact Hannah Chronis with any questions.
URL:https://fbcw.com/event/kids-sunday-bible-breakfast/
LOCATION:First Baptist Church of Weddington\, 348 Providence Road South\, Weddington\, NC\, 28173\, United States
CATEGORIES:Bible Study,Children,Food
END:VEVENT
BEGIN:VEVENT
DTSTART;TZID=America/New_York:20260206T180000
DTEND;TZID=America/New_York:20260206T200000
DTSTAMP:20260423T040504
CREATED:20260121T162528Z
LAST-MODIFIED:20260121T162723Z
UID:9053-1770400800-1770408000@fbcw.com
SUMMARY:A SUPER Kids' Night Out Volunteer Sign-Up
DESCRIPTION:We will be hosting a Kids’ Night Out for all of our FBCW families on Friday\, February 6th. We will need several volunteers to help with this event. \nWe’ll have games\, crafts\, pizza and more so parents can enjoy a night out knowing their kids are well taken care of. Open to all FBCW families with children 12 and younger. Drop off begins at 6 p.m. and pick up is at 8 p.m. \nIf you’re interested in volunteering for Kids Night Out\, please sign up on the church bulletin board or click HERE. Contact Hannah Chronis for more information.
URL:https://fbcw.com/event/kids-night-out-volunteer-sign-up-copy-copy/
LOCATION:First Baptist Church of Weddington\, 348 Providence Road South\, Weddington\, NC\, 28173\, United States
CATEGORIES:Children
END:VEVENT
BEGIN:VEVENT
DTSTART;TZID=America/New_York:20260206T180000
DTEND;TZID=America/New_York:20260206T200000
DTSTAMP:20260423T040504
CREATED:20260121T162222Z
LAST-MODIFIED:20260121T162517Z
UID:9051-1770400800-1770408000@fbcw.com
SUMMARY:A SUPER Kids’ Night Out
DESCRIPTION:Kids\, get your game face on! Our next Kids’ Night Out will be Friday\, Feb. 6 from 6 to 8 p.m. at the church and it’s Super Bowl themed! We’ll have pizza\, games\, crafts\, and more. Wear your favorite team’s gear and come ready for a night of fun! Registration is required. (Click HERE or you can sign up on the church bulletin board). If you’re interested in volunteering for Kids Night Out\, please sign up on the church bulletin board. Contact Hannah Chronis for more information. \n 
URL:https://fbcw.com/event/kids-night-out-copy-copy/
LOCATION:First Baptist Church of Weddington\, 348 Providence Road South\, Weddington\, NC\, 28173\, United States
CATEGORIES:Children
END:VEVENT
BEGIN:VEVENT
DTSTART;TZID=America/New_York:20260111T120000
DTEND;TZID=America/New_York:20260111T133000
DTSTAMP:20260423T040504
CREATED:20260121T194600Z
LAST-MODIFIED:20260121T194600Z
UID:9127-1768132800-1768138200@fbcw.com
SUMMARY:Nursery Volunteer Meeting & Lunch
DESCRIPTION:There will be a brief meeting after the worship service on Sunday\, January 11\, for all nursery volunteers. The purpose of this meeting is to go over rules and policies for the nursery. Lunch will also be provided. Please contact Reagan Castano if you have any questions.
URL:https://fbcw.com/event/nursery-volunteer-meeting-lunch/
LOCATION:NC
CATEGORIES:Children
END:VEVENT
BEGIN:VEVENT
DTSTART;VALUE=DATE:20251222
DTEND;VALUE=DATE:20260103
DTSTAMP:20260423T040504
CREATED:20251113T162718Z
LAST-MODIFIED:20251113T162800Z
UID:8983-1766361600-1767398399@fbcw.com
SUMMARY:No Preschool
DESCRIPTION:Christmas Break.
URL:https://fbcw.com/event/no-preschool-copy-copy-2-copy-copy-copy-copy-copy-copy-copy-2-copy/
LOCATION:First Baptist Church of Weddington\, 348 Providence Road South\, Weddington\, NC\, 28173\, United States
CATEGORIES:Children
END:VEVENT
BEGIN:VEVENT
DTSTART;TZID=America/New_York:20251221T180000
DTEND;TZID=America/New_York:20251221T190000
DTSTAMP:20260423T040504
CREATED:20251113T163400Z
LAST-MODIFIED:20251113T163535Z
UID:8987-1766340000-1766343600@fbcw.com
SUMMARY:FBCW Kids Christmas Program
DESCRIPTION:Save the Date! On Sunday\, Dec. 21 at 6 p.m.\, our FBCW Kids will present “A Night of Scripture and Song.” It will be an evening of worship that you don’t want to miss! Parents\, this will be open to children ages 4 years old and up. Contact Hannah Chronis for more information.
URL:https://fbcw.com/event/fbcw-kids-christmas-program/
LOCATION:NC
CATEGORIES:Children
END:VEVENT
BEGIN:VEVENT
DTSTART;VALUE=DATE:20251126
DTEND;VALUE=DATE:20251128
DTSTAMP:20260423T040504
CREATED:20251015T184830Z
LAST-MODIFIED:20251015T184901Z
UID:8896-1764115200-1764287999@fbcw.com
SUMMARY:No Preschool
DESCRIPTION:Thanksgiving Break.
URL:https://fbcw.com/event/no-preschool-copy-copy-2-copy-copy-copy-copy-copy-copy-copy-4/
LOCATION:First Baptist Church of Weddington\, 348 Providence Road South\, Weddington\, NC\, 28173\, United States
CATEGORIES:Children
END:VEVENT
BEGIN:VEVENT
DTSTART;VALUE=DATE:20251111
DTEND;VALUE=DATE:20251112
DTSTAMP:20260423T040504
CREATED:20251015T184958Z
LAST-MODIFIED:20251015T185011Z
UID:8900-1762819200-1762905599@fbcw.com
SUMMARY:No Preschool
DESCRIPTION:No Preschool – UCPS Workday
URL:https://fbcw.com/event/no-preschool-copy-copy-2-copy-copy-copy-copy-copy-2-copy-copy/
LOCATION:First Baptist Church of Weddington\, 348 Providence Road South\, Weddington\, NC\, 28173\, United States
CATEGORIES:Children
END:VEVENT
BEGIN:VEVENT
DTSTART;TZID=America/New_York:20251107T180000
DTEND;TZID=America/New_York:20251107T200000
DTSTAMP:20260423T040504
CREATED:20250825T185049Z
LAST-MODIFIED:20250825T185242Z
UID:8752-1762538400-1762545600@fbcw.com
SUMMARY:Kids' Night Out Volunteer Sign-Up
DESCRIPTION:We will be hosting a Kids’ Night Out for all of our FBCW families on Friday\, November 7th. We will need several volunteers to help with this event. \nWe’ll have games\, crafts\, pizza and more so parents can enjoy a night out knowing their kids are well taken care of. Open to all FBCW families with children 12 and younger. Drop off begins at 6 p.m. and pick up is at 8 p.m. \nIf you’re interested in volunteering for Kids Night Out\, please sign up on the church bulletin board or click HERE. Contact Hannah Chronis for more information.
URL:https://fbcw.com/event/kids-night-out-volunteer-sign-up-copy/
LOCATION:First Baptist Church of Weddington\, 348 Providence Road South\, Weddington\, NC\, 28173\, United States
CATEGORIES:Children
END:VEVENT
BEGIN:VEVENT
DTSTART;TZID=America/New_York:20251107T180000
DTEND;TZID=America/New_York:20251107T200000
DTSTAMP:20260423T040504
CREATED:20250825T184552Z
LAST-MODIFIED:20250826T172345Z
UID:8754-1762538400-1762545600@fbcw.com
SUMMARY:Kids' Night Out
DESCRIPTION:Kids’ Night Out on Friday\, November 7 from 6 to 8 p.m. at the church. This is a drop off opportunity for parents to enjoy a date night while the kids have a blast at church with pizza\, games\, crafts and more!  Registration is required (Click HERE or you can sign up on the church bulletin board). If you’re interested in volunteering for Kids Night Out\, please sign up on the church bulletin board. Contact Hannah Chronis for more information.
URL:https://fbcw.com/event/kids-night-out-copy/
LOCATION:NC
CATEGORIES:Children
END:VEVENT
BEGIN:VEVENT
DTSTART;VALUE=DATE:20251104
DTEND;VALUE=DATE:20251105
DTSTAMP:20260423T040504
CREATED:20251015T184923Z
LAST-MODIFIED:20251015T184955Z
UID:8898-1762214400-1762300799@fbcw.com
SUMMARY:No Preschool
DESCRIPTION:No Preschool – UCPS Workday
URL:https://fbcw.com/event/no-preschool-copy-copy-2-copy-copy-copy-copy-copy-2-copy/
LOCATION:First Baptist Church of Weddington\, 348 Providence Road South\, Weddington\, NC\, 28173\, United States
CATEGORIES:Children
END:VEVENT
BEGIN:VEVENT
DTSTART;TZID=America/New_York:20250928T091500
DTEND;TZID=America/New_York:20250928T120000
DTSTAMP:20260423T040504
CREATED:20250918T201757Z
LAST-MODIFIED:20250918T201757Z
UID:8796-1759050900-1759060800@fbcw.com
SUMMARY:Muffins for Missions
DESCRIPTION:Join us for an extra-sweet Sunday on September 28! Our FBCW Kids are hosting a bake sale with all proceeds going toward the Global Missions Offering.
URL:https://fbcw.com/event/muffins-for-missions/
LOCATION:First Baptist Church of Weddington\, 348 Providence Road South\, Weddington\, NC\, 28173\, United States
CATEGORIES:Children,Missions
END:VEVENT
BEGIN:VEVENT
DTSTART;TZID=America/New_York:20250907T120000
DTEND;TZID=America/New_York:20250907T140000
DTSTAMP:20260423T040504
CREATED:20250811T153219Z
LAST-MODIFIED:20250811T153722Z
UID:8727-1757246400-1757253600@fbcw.com
SUMMARY:Family Picnic & Kickball
DESCRIPTION:Everyone is invited to join us after our worship gathering on Sunday\, September 7\, for a church-wide lunch followed by a family friendly kickball game on the baseball field. Everyone is asked to bring a side dish or dessert to share. Please sign up on the church bulletin board or click HERE if you plan on attending.
URL:https://fbcw.com/event/family-picnic-kickball/
LOCATION:NC
CATEGORIES:Children,Fellowship Activities
END:VEVENT
BEGIN:VEVENT
DTSTART;TZID=America/New_York:20250902T100000
DTEND;TZID=America/New_York:20250902T120000
DTSTAMP:20260423T040505
CREATED:20250821T144602Z
LAST-MODIFIED:20250821T144627Z
UID:8746-1756807200-1756814400@fbcw.com
SUMMARY:Preschool Open House
DESCRIPTION:
URL:https://fbcw.com/event/preschool-open-house-copy-copy-copy/
LOCATION:First Baptist Church of Weddington\, 348 Providence Road South\, Weddington\, NC\, 28173\, United States
CATEGORIES:Children
END:VEVENT
BEGIN:VEVENT
DTSTART;TZID=America/New_York:20250606T170000
DTEND;TZID=America/New_York:20250606T200000
DTSTAMP:20260423T040505
CREATED:20250514T181852Z
LAST-MODIFIED:20250514T182243Z
UID:8411-1749229200-1749240000@fbcw.com
SUMMARY:Kids' Night Out Volunteer Sign-Up
DESCRIPTION:We will be hosting a Kids’ Night Out for all of our FBCW families on Friday\, June 6th. We will need several volunteers to help with this event. \nWe’ll have games\, crafts\, pizza and more so parents can enjoy a night out knowing their kids are well taken care of. Open to all FBCW families with children 12 and younger. Drop off begins at 5 p.m. and pick up is at 8 p.m. \nIf you’re interested in volunteering for Kids Night Out\, please sign up on the church bulletin board or click HERE. Contact Hannah Chronis for more information.
URL:https://fbcw.com/event/kids-night-out-volunteer-sign-up/
LOCATION:NC
CATEGORIES:Children
END:VEVENT
BEGIN:VEVENT
DTSTART;TZID=America/New_York:20250606T170000
DTEND;TZID=America/New_York:20250606T200000
DTSTAMP:20260423T040505
CREATED:20250514T181704Z
LAST-MODIFIED:20250514T182202Z
UID:8409-1749229200-1749240000@fbcw.com
SUMMARY:Kids' Night Out
DESCRIPTION:Parents\, are you in need of a date night? Let us help! On Friday\, June 6th we’re hosting Kids’ Night Out for all of our FBCW families! We’ll have games\, crafts\, pizza and more to make sure your children have a fun evening\, while you can enjoy a night out knowing your kids are well taken care of. Open to all FBCW families with children 12 and younger. Drop off begins at 5 p.m. and pick up is at 8 p.m. Registration is required (Click HERE or you can sign up on the church bulletin board). If you’re interested in volunteering for Kids Night Out\, please sign up on the church bulletin board. Contact Hannah Chronis for more information.
URL:https://fbcw.com/event/kids-night-out/
LOCATION:NC
CATEGORIES:Children
END:VEVENT
BEGIN:VEVENT
DTSTART;TZID=America/New_York:20250519T110000
DTEND;TZID=America/New_York:20250519T120000
DTSTAMP:20260423T040505
CREATED:20250326T165420Z
LAST-MODIFIED:20250326T165442Z
UID:8388-1747652400-1747656000@fbcw.com
SUMMARY:Preschool Graduation
DESCRIPTION:
URL:https://fbcw.com/event/preschool-graduation-copy-copy-copy-copy/
LOCATION:First Baptist Church of Weddington\, 348 Providence Road South\, Weddington\, NC\, 28173\, United States
CATEGORIES:Children
END:VEVENT
BEGIN:VEVENT
DTSTART;TZID=America/New_York:20250511T110000
DTEND;TZID=America/New_York:20250511T170000
DTSTAMP:20260423T040505
CREATED:20250326T165116Z
LAST-MODIFIED:20250326T165403Z
UID:8386-1746961200-1746982800@fbcw.com
SUMMARY:Parent/Child Commissioning
DESCRIPTION:We will have a Parent/Child Commissioning during our morning Worship Gathering on Sunday\, May 11. Please join us for this special time as we prayerfully commission parents to raise their children in the discipline and instruction of the Lord (Ephesians 6:4).
URL:https://fbcw.com/event/parent-child-commissioning-copy-copy/
LOCATION:First Baptist Church of Weddington\, 348 Providence Road South\, Weddington\, NC\, 28173\, United States
CATEGORIES:Children
ORGANIZER;CN="Samantha Sorrell":MAILTO:childrensdirector@fbcw.com
END:VEVENT
BEGIN:VEVENT
DTSTART;VALUE=DATE:20250421
DTEND;VALUE=DATE:20250425
DTSTAMP:20260423T040505
CREATED:20250227T184919Z
LAST-MODIFIED:20250227T184944Z
UID:8353-1745193600-1745539199@fbcw.com
SUMMARY:No Preschool
DESCRIPTION:No Preschool – UCPS Spring Break
URL:https://fbcw.com/event/no-preschool-copy-copy-2-copy-copy-copy-copy-copy-2/
LOCATION:First Baptist Church of Weddington\, 348 Providence Road South\, Weddington\, NC\, 28173\, United States
CATEGORIES:Children
END:VEVENT
BEGIN:VEVENT
DTSTART;VALUE=DATE:20250304
DTEND;VALUE=DATE:20250305
DTSTAMP:20260423T040505
CREATED:20241016T170630Z
LAST-MODIFIED:20250227T181810Z
UID:7979-1741046400-1741132799@fbcw.com
SUMMARY:No Preschool
DESCRIPTION:
URL:https://fbcw.com/event/no-preschool-copy-copy-2-copy-copy-copy-copy-copy-copy-copy/
LOCATION:First Baptist Church of Weddington\, 348 Providence Road South\, Weddington\, NC\, 28173\, United States
CATEGORIES:Children
END:VEVENT
BEGIN:VEVENT
DTSTART;VALUE=DATE:20250120
DTEND;VALUE=DATE:20250121
DTSTAMP:20260423T040505
CREATED:20250102T155214Z
LAST-MODIFIED:20250102T155238Z
UID:8091-1737331200-1737417599@fbcw.com
SUMMARY:No Preschool
DESCRIPTION:
URL:https://fbcw.com/event/no-preschool-copy-copy-2-copy-copy-copy-copy-copy-copy-copy-3/
LOCATION:First Baptist Church of Weddington\, 348 Providence Road South\, Weddington\, NC\, 28173\, United States
CATEGORIES:Children
END:VEVENT
BEGIN:VEVENT
DTSTART;TZID=America/New_York:20250112T120000
DTEND;TZID=America/New_York:20250112T123000
DTSTAMP:20260423T040505
CREATED:20250107T183534Z
LAST-MODIFIED:20250107T183534Z
UID:8118-1736683200-1736685000@fbcw.com
SUMMARY:FBCW Kids - Important Meeting After Service on Sunday
DESCRIPTION:There will be a brief meeting after service this Sunday\, January 12\, for all Children’s Ministry volunteers as well as parents of school-age and nursery children. If you serve in the nursery\, children’s classrooms\, or are a parent of either age group\, please make plans to stay. The purpose of this meeting is to discuss our updated Children’s Ministry policies\, as well as walk through our new check-in system for Bible Fellowship and nursery that will be implemented in the coming weeks. Please come prepared with any questions or concerns. If you’re unable to stay for the meeting\, please let Hannah Chronis know.
URL:https://fbcw.com/event/fbcw-kids-important-meeting-after-service-on-sunday/
LOCATION:First Baptist Church of Weddington\, 348 Providence Road South\, Weddington\, NC\, 28173\, United States
CATEGORIES:Children
END:VEVENT
BEGIN:VEVENT
DTSTART;VALUE=DATE:20241220
DTEND;VALUE=DATE:20250106
DTSTAMP:20260423T040505
CREATED:20241016T170707Z
LAST-MODIFIED:20241016T170913Z
UID:7981-1734652800-1736121599@fbcw.com
SUMMARY:No Preschool
DESCRIPTION:Christmas Break.
URL:https://fbcw.com/event/no-preschool-copy-copy-2-copy-copy-copy-copy-copy-copy-copy-2/
LOCATION:First Baptist Church of Weddington\, 348 Providence Road South\, Weddington\, NC\, 28173\, United States
CATEGORIES:Children
END:VEVENT
BEGIN:VEVENT
DTSTART;TZID=America/New_York:20241206T170000
DTEND;TZID=America/New_York:20241206T200000
DTSTAMP:20260423T040505
CREATED:20241113T195609Z
LAST-MODIFIED:20241113T195609Z
UID:8027-1733504400-1733515200@fbcw.com
SUMMARY:FBCW Kids Christmas Party!
DESCRIPTION:Friday\, December 6\n5 — 8 p.m. \nKids\, this announcement is just for you! Come help us celebrate the season with a fun-filled Christmas party on Friday\, December 6 at the Marriott’s home. We’ll have pizza\, Christmas cookies\, games\, crafts\, and more. Wear your favorite Christmas pjs or festive sweaters! All FBCW kids and their families are invited. Please RSVP to Hannah Chronis by Sunday\, November 24.
URL:https://fbcw.com/event/fbcw-kids-christmas-party/
LOCATION:NC
CATEGORIES:Children,Fellowship Activities
END:VEVENT
BEGIN:VEVENT
DTSTART;VALUE=DATE:20241127
DTEND;VALUE=DATE:20241202
DTSTAMP:20260423T040505
CREATED:20241016T170616Z
LAST-MODIFIED:20241016T170703Z
UID:7977-1732665600-1733097599@fbcw.com
SUMMARY:No Preschool
DESCRIPTION:Thanksgiving Break.
URL:https://fbcw.com/event/no-preschool-copy-copy-2-copy-copy-copy-copy-copy-copy/
LOCATION:First Baptist Church of Weddington\, 348 Providence Road South\, Weddington\, NC\, 28173\, United States
CATEGORIES:Children
END:VEVENT
BEGIN:VEVENT
DTSTART;VALUE=DATE:20241105
DTEND;VALUE=DATE:20241106
DTSTAMP:20260423T040505
CREATED:20241016T170516Z
LAST-MODIFIED:20241016T170613Z
UID:7975-1730764800-1730851199@fbcw.com
SUMMARY:No Preschool
DESCRIPTION:
URL:https://fbcw.com/event/no-preschool-copy-copy-2-copy-copy-copy-copy-copy/
LOCATION:First Baptist Church of Weddington\, 348 Providence Road South\, Weddington\, NC\, 28173\, United States
CATEGORIES:Children
END:VEVENT
BEGIN:VEVENT
DTSTART;TZID=America/New_York:20240903T100000
DTEND;TZID=America/New_York:20240903T120000
DTSTAMP:20260423T040505
CREATED:20240829T201032Z
LAST-MODIFIED:20240829T201053Z
UID:7836-1725357600-1725364800@fbcw.com
SUMMARY:Preschool Open House
DESCRIPTION:
URL:https://fbcw.com/event/preschool-open-house-copy-copy/
LOCATION:First Baptist Church of Weddington\, 348 Providence Road South\, Weddington\, NC\, 28173\, United States
CATEGORIES:Children
END:VEVENT
BEGIN:VEVENT
DTSTART;TZID=America/New_York:20240818T120000
DTEND;TZID=America/New_York:20240818T170000
DTSTAMP:20260423T040505
CREATED:20240723T160018Z
LAST-MODIFIED:20240802T190230Z
UID:7760-1723982400-1724000400@fbcw.com
SUMMARY:Kids Splash Bash!
DESCRIPTION:Beat the heat and join us after church on for a family-friendly splash bash! We’ll have water slides\, water balloons\, a toddler area\, and more! Pizza and popsicles will be provided. Parents\, make sure your children bring a swimsuit\, towel\, and sunscreen! Please see Hannah Chronis if you have any questions.
URL:https://fbcw.com/event/kids-splash-bash/
LOCATION:First Baptist Church of Weddington\, 348 Providence Road South\, Weddington\, NC\, 28173\, United States
CATEGORIES:Children
END:VEVENT
BEGIN:VEVENT
DTSTART;TZID=America/New_York:20240526T110000
DTEND;TZID=America/New_York:20240526T170000
DTSTAMP:20260423T040505
CREATED:20240508T140436Z
LAST-MODIFIED:20240508T140621Z
UID:7585-1716721200-1716742800@fbcw.com
SUMMARY:Parent/Child Commissioning
DESCRIPTION:We will have a Parent/Child Commissioning during our morning Worship Gathering on Sunday\, May 26. Please join us for this special time as we prayerfully commission parents to raise their children in the discipline and instruction of the Lord (Ephesians 6:4).
URL:https://fbcw.com/event/parent-child-commissioning-copy/
LOCATION:First Baptist Church of Weddington\, 348 Providence Road South\, Weddington\, NC\, 28173\, United States
CATEGORIES:Children
ORGANIZER;CN="Samantha Sorrell":MAILTO:childrensdirector@fbcw.com
END:VEVENT
END:VCALENDAR