BEGIN:VCALENDAR
VERSION:2.0
PRODID:-//First Baptist Church of Weddington - ECPv6.15.20//NONSGML v1.0//EN
CALSCALE:GREGORIAN
METHOD:PUBLISH
X-WR-CALNAME:First Baptist Church of Weddington
X-ORIGINAL-URL:https://fbcw.com
X-WR-CALDESC:Events for First Baptist Church of Weddington
REFRESH-INTERVAL;VALUE=DURATION:PT1H
X-Robots-Tag:noindex
X-PUBLISHED-TTL:PT1H
BEGIN:VTIMEZONE
TZID:America/New_York
BEGIN:DAYLIGHT
TZOFFSETFROM:-0500
TZOFFSETTO:-0400
TZNAME:EDT
DTSTART:20240310T070000
END:DAYLIGHT
BEGIN:STANDARD
TZOFFSETFROM:-0400
TZOFFSETTO:-0500
TZNAME:EST
DTSTART:20241103T060000
END:STANDARD
BEGIN:DAYLIGHT
TZOFFSETFROM:-0500
TZOFFSETTO:-0400
TZNAME:EDT
DTSTART:20250309T070000
END:DAYLIGHT
BEGIN:STANDARD
TZOFFSETFROM:-0400
TZOFFSETTO:-0500
TZNAME:EST
DTSTART:20251102T060000
END:STANDARD
BEGIN:DAYLIGHT
TZOFFSETFROM:-0500
TZOFFSETTO:-0400
TZNAME:EDT
DTSTART:20260308T070000
END:DAYLIGHT
BEGIN:STANDARD
TZOFFSETFROM:-0400
TZOFFSETTO:-0500
TZNAME:EST
DTSTART:20261101T060000
END:STANDARD
END:VTIMEZONE
BEGIN:VEVENT
DTSTART;TZID=America/New_York:20250902T100000
DTEND;TZID=America/New_York:20250902T120000
DTSTAMP:20260423T132611
CREATED:20250821T144602Z
LAST-MODIFIED:20250821T144627Z
UID:8746-1756807200-1756814400@fbcw.com
SUMMARY:Preschool Open House
DESCRIPTION:
URL:https://fbcw.com/event/preschool-open-house-copy-copy-copy/
LOCATION:First Baptist Church of Weddington\, 348 Providence Road South\, Weddington\, NC\, 28173\, United States
CATEGORIES:Children
END:VEVENT
BEGIN:VEVENT
DTSTART;TZID=America/New_York:20250907T120000
DTEND;TZID=America/New_York:20250907T140000
DTSTAMP:20260423T132611
CREATED:20250811T153219Z
LAST-MODIFIED:20250811T153722Z
UID:8727-1757246400-1757253600@fbcw.com
SUMMARY:Family Picnic & Kickball
DESCRIPTION:Everyone is invited to join us after our worship gathering on Sunday\, September 7\, for a church-wide lunch followed by a family friendly kickball game on the baseball field. Everyone is asked to bring a side dish or dessert to share. Please sign up on the church bulletin board or click HERE if you plan on attending.
URL:https://fbcw.com/event/family-picnic-kickball/
LOCATION:NC
CATEGORIES:Children,Fellowship Activities
END:VEVENT
BEGIN:VEVENT
DTSTART;TZID=America/New_York:20250928T091500
DTEND;TZID=America/New_York:20250928T120000
DTSTAMP:20260423T132611
CREATED:20250918T201757Z
LAST-MODIFIED:20250918T201757Z
UID:8796-1759050900-1759060800@fbcw.com
SUMMARY:Muffins for Missions
DESCRIPTION:Join us for an extra-sweet Sunday on September 28! Our FBCW Kids are hosting a bake sale with all proceeds going toward the Global Missions Offering.
URL:https://fbcw.com/event/muffins-for-missions/
LOCATION:First Baptist Church of Weddington\, 348 Providence Road South\, Weddington\, NC\, 28173\, United States
CATEGORIES:Children,Missions
END:VEVENT
END:VCALENDAR