BEGIN:VCALENDAR
VERSION:2.0
PRODID:-//First Baptist Church of Weddington - ECPv6.15.20//NONSGML v1.0//EN
CALSCALE:GREGORIAN
METHOD:PUBLISH
X-ORIGINAL-URL:https://fbcw.com
X-WR-CALDESC:Events for First Baptist Church of Weddington
REFRESH-INTERVAL;VALUE=DURATION:PT1H
X-Robots-Tag:noindex
X-PUBLISHED-TTL:PT1H
BEGIN:VTIMEZONE
TZID:America/New_York
BEGIN:DAYLIGHT
TZOFFSETFROM:-0500
TZOFFSETTO:-0400
TZNAME:EDT
DTSTART:20230312T070000
END:DAYLIGHT
BEGIN:STANDARD
TZOFFSETFROM:-0400
TZOFFSETTO:-0500
TZNAME:EST
DTSTART:20231105T060000
END:STANDARD
BEGIN:DAYLIGHT
TZOFFSETFROM:-0500
TZOFFSETTO:-0400
TZNAME:EDT
DTSTART:20240310T070000
END:DAYLIGHT
BEGIN:STANDARD
TZOFFSETFROM:-0400
TZOFFSETTO:-0500
TZNAME:EST
DTSTART:20241103T060000
END:STANDARD
BEGIN:DAYLIGHT
TZOFFSETFROM:-0500
TZOFFSETTO:-0400
TZNAME:EDT
DTSTART:20250309T070000
END:DAYLIGHT
BEGIN:STANDARD
TZOFFSETFROM:-0400
TZOFFSETTO:-0500
TZNAME:EST
DTSTART:20251102T060000
END:STANDARD
BEGIN:DAYLIGHT
TZOFFSETFROM:-0500
TZOFFSETTO:-0400
TZNAME:EDT
DTSTART:20260308T070000
END:DAYLIGHT
BEGIN:STANDARD
TZOFFSETFROM:-0400
TZOFFSETTO:-0500
TZNAME:EST
DTSTART:20261101T060000
END:STANDARD
END:VTIMEZONE
BEGIN:VEVENT
DTSTART;VALUE=DATE:20241127
DTEND;VALUE=DATE:20241202
DTSTAMP:20260424T095753
CREATED:20241016T170616Z
LAST-MODIFIED:20241016T170703Z
UID:7977-1732665600-1733097599@fbcw.com
SUMMARY:No Preschool
DESCRIPTION:Thanksgiving Break.
URL:https://fbcw.com/event/no-preschool-copy-copy-2-copy-copy-copy-copy-copy-copy/
LOCATION:First Baptist Church of Weddington\, 348 Providence Road South\, Weddington\, NC\, 28173\, United States
CATEGORIES:Children
END:VEVENT
BEGIN:VEVENT
DTSTART;TZID=America/New_York:20241206T170000
DTEND;TZID=America/New_York:20241206T200000
DTSTAMP:20260424T095753
CREATED:20241113T195609Z
LAST-MODIFIED:20241113T195609Z
UID:8027-1733504400-1733515200@fbcw.com
SUMMARY:FBCW Kids Christmas Party!
DESCRIPTION:Friday\, December 6\n5 — 8 p.m. \nKids\, this announcement is just for you! Come help us celebrate the season with a fun-filled Christmas party on Friday\, December 6 at the Marriott’s home. We’ll have pizza\, Christmas cookies\, games\, crafts\, and more. Wear your favorite Christmas pjs or festive sweaters! All FBCW kids and their families are invited. Please RSVP to Hannah Chronis by Sunday\, November 24.
URL:https://fbcw.com/event/fbcw-kids-christmas-party/
LOCATION:NC
CATEGORIES:Children,Fellowship Activities
END:VEVENT
BEGIN:VEVENT
DTSTART;VALUE=DATE:20241220
DTEND;VALUE=DATE:20250106
DTSTAMP:20260424T095753
CREATED:20241016T170707Z
LAST-MODIFIED:20241016T170913Z
UID:7981-1734652800-1736121599@fbcw.com
SUMMARY:No Preschool
DESCRIPTION:Christmas Break.
URL:https://fbcw.com/event/no-preschool-copy-copy-2-copy-copy-copy-copy-copy-copy-copy-2/
LOCATION:First Baptist Church of Weddington\, 348 Providence Road South\, Weddington\, NC\, 28173\, United States
CATEGORIES:Children
END:VEVENT
END:VCALENDAR