BEGIN:VCALENDAR
VERSION:2.0
PRODID:-//First Baptist Church of Weddington - ECPv6.15.20//NONSGML v1.0//EN
CALSCALE:GREGORIAN
METHOD:PUBLISH
X-ORIGINAL-URL:https://fbcw.com
X-WR-CALDESC:Events for First Baptist Church of Weddington
REFRESH-INTERVAL;VALUE=DURATION:PT1H
X-Robots-Tag:noindex
X-PUBLISHED-TTL:PT1H
BEGIN:VTIMEZONE
TZID:America/New_York
BEGIN:DAYLIGHT
TZOFFSETFROM:-0500
TZOFFSETTO:-0400
TZNAME:EDT
DTSTART:20250309T070000
END:DAYLIGHT
BEGIN:STANDARD
TZOFFSETFROM:-0400
TZOFFSETTO:-0500
TZNAME:EST
DTSTART:20251102T060000
END:STANDARD
BEGIN:DAYLIGHT
TZOFFSETFROM:-0500
TZOFFSETTO:-0400
TZNAME:EDT
DTSTART:20260308T070000
END:DAYLIGHT
BEGIN:STANDARD
TZOFFSETFROM:-0400
TZOFFSETTO:-0500
TZNAME:EST
DTSTART:20261101T060000
END:STANDARD
BEGIN:DAYLIGHT
TZOFFSETFROM:-0500
TZOFFSETTO:-0400
TZNAME:EDT
DTSTART:20270314T070000
END:DAYLIGHT
BEGIN:STANDARD
TZOFFSETFROM:-0400
TZOFFSETTO:-0500
TZNAME:EST
DTSTART:20271107T060000
END:STANDARD
END:VTIMEZONE
BEGIN:VEVENT
DTSTART;TZID=America/New_York:20260301T091500
DTEND;TZID=America/New_York:20260301T101500
DTSTAMP:20260424T192125
CREATED:20260210T174056Z
LAST-MODIFIED:20260210T174108Z
UID:9138-1772356500-1772360100@fbcw.com
SUMMARY:Adult/Youth Community Groups
DESCRIPTION:
URL:https://fbcw.com/event/adultyouth-community-groups/
LOCATION:First Baptist Church of Weddington\, 348 Providence Road South\, Weddington\, NC\, 28173\, United States
CATEGORIES:Bible Study
END:VEVENT
BEGIN:VEVENT
DTSTART;TZID=America/New_York:20260304T183000
DTEND;TZID=America/New_York:20260304T200000
DTSTAMP:20260424T192125
CREATED:20260210T193959Z
LAST-MODIFIED:20260210T194101Z
UID:9166-1772649000-1772654400@fbcw.com
SUMMARY:Wednesday Evening Community Groups
DESCRIPTION:Women’s Community Group – 1st & 3rd Wednesdays (6:30pm)\nMen’s Community Group – 2nd & 4th Wednesdays (7pm)\nWe have started two community groups – one for men and one for women. The groups will be going through IMB’s study\, “Deepen Discipleship” and praying together. With this study\, you’ll spend time reading and meditating on Scripture and using key questions for self-reflection each day. Come be a part of one of these groups!
URL:https://fbcw.com/event/wednesday-evening-community-groups-copy-copy-copy-copy-copy-copy-copy-copy-copy-copy-copy-copy-2-copy-copy-copy-copy-copy-copy-copy-copy-copy-copy-copy-copy-copy-copy-copy-copy-copy-copy-copy-copy-1-7/
CATEGORIES:Bible Study,Prayer
END:VEVENT
BEGIN:VEVENT
DTSTART;TZID=America/New_York:20260308T091500
DTEND;TZID=America/New_York:20260308T101500
DTSTAMP:20260424T192125
CREATED:20260210T174114Z
LAST-MODIFIED:20260210T174125Z
UID:9140-1772961300-1772964900@fbcw.com
SUMMARY:Adult/Youth Community Groups
DESCRIPTION:
URL:https://fbcw.com/event/adultyouth-community-groups-copy/
LOCATION:First Baptist Church of Weddington\, 348 Providence Road South\, Weddington\, NC\, 28173\, United States
CATEGORIES:Bible Study
END:VEVENT
BEGIN:VEVENT
DTSTART;TZID=America/New_York:20260311T183000
DTEND;TZID=America/New_York:20260311T200000
DTSTAMP:20260424T192125
CREATED:20260210T194117Z
LAST-MODIFIED:20260210T194128Z
UID:9168-1773253800-1773259200@fbcw.com
SUMMARY:Wednesday Evening Community Groups
DESCRIPTION:Women’s Community Group – 1st & 3rd Wednesdays (6:30pm)\nMen’s Community Group – 2nd & 4th Wednesdays (7pm)\nWe have started two community groups – one for men and one for women. The groups will be going through IMB’s study\, “Deepen Discipleship” and praying together. With this study\, you’ll spend time reading and meditating on Scripture and using key questions for self-reflection each day. Come be a part of one of these groups!
URL:https://fbcw.com/event/wednesday-evening-community-groups-copy-copy-copy-copy-copy-copy-copy-copy-copy-copy-copy-copy-2-copy-copy-copy-copy-copy-copy-copy-copy-copy-copy-copy-copy-copy-copy-copy-copy-copy-copy-copy-copy-1-8/
CATEGORIES:Bible Study,Prayer
END:VEVENT
BEGIN:VEVENT
DTSTART;TZID=America/New_York:20260315T091500
DTEND;TZID=America/New_York:20260315T101500
DTSTAMP:20260424T192125
CREATED:20260210T174132Z
LAST-MODIFIED:20260210T174145Z
UID:9142-1773566100-1773569700@fbcw.com
SUMMARY:Adult/Youth Community Groups
DESCRIPTION:
URL:https://fbcw.com/event/adultyouth-community-groups-copy-copy/
LOCATION:First Baptist Church of Weddington\, 348 Providence Road South\, Weddington\, NC\, 28173\, United States
CATEGORIES:Bible Study
END:VEVENT
BEGIN:VEVENT
DTSTART;TZID=America/New_York:20260318T183000
DTEND;TZID=America/New_York:20260318T200000
DTSTAMP:20260424T192125
CREATED:20260210T194135Z
LAST-MODIFIED:20260210T194147Z
UID:9170-1773858600-1773864000@fbcw.com
SUMMARY:Wednesday Evening Community Groups
DESCRIPTION:Women’s Community Group – 1st & 3rd Wednesdays (6:30pm)\nMen’s Community Group – 2nd & 4th Wednesdays (7pm)\nWe have started two community groups – one for men and one for women. The groups will be going through IMB’s study\, “Deepen Discipleship” and praying together. With this study\, you’ll spend time reading and meditating on Scripture and using key questions for self-reflection each day. Come be a part of one of these groups!
URL:https://fbcw.com/event/wednesday-evening-community-groups-copy-copy-copy-copy-copy-copy-copy-copy-copy-copy-copy-copy-2-copy-copy-copy-copy-copy-copy-copy-copy-copy-copy-copy-copy-copy-copy-copy-copy-copy-copy-copy-copy-1-9/
CATEGORIES:Bible Study,Prayer
END:VEVENT
BEGIN:VEVENT
DTSTART;TZID=America/New_York:20260322T091500
DTEND;TZID=America/New_York:20260322T101500
DTSTAMP:20260424T192125
CREATED:20260210T174152Z
LAST-MODIFIED:20260210T174204Z
UID:9144-1774170900-1774174500@fbcw.com
SUMMARY:Adult/Youth Community Groups
DESCRIPTION:
URL:https://fbcw.com/event/adultyouth-community-groups-copy-copy-copy/
LOCATION:First Baptist Church of Weddington\, 348 Providence Road South\, Weddington\, NC\, 28173\, United States
CATEGORIES:Bible Study
END:VEVENT
BEGIN:VEVENT
DTSTART;TZID=America/New_York:20260325T183000
DTEND;TZID=America/New_York:20260325T200000
DTSTAMP:20260424T192125
CREATED:20260210T195535Z
LAST-MODIFIED:20260210T195547Z
UID:9172-1774463400-1774468800@fbcw.com
SUMMARY:Wednesday Evening Community Groups
DESCRIPTION:Women’s Community Group – 1st & 3rd Wednesdays (6:30pm)\nMen’s Community Group – 2nd & 4th Wednesdays (7pm)\nWe have started two community groups – one for men and one for women. The groups will be going through IMB’s study\, “Deepen Discipleship” and praying together. With this study\, you’ll spend time reading and meditating on Scripture and using key questions for self-reflection each day. Come be a part of one of these groups!
URL:https://fbcw.com/event/wednesday-evening-community-groups-copy-copy-copy-copy-copy-copy-copy-copy-copy-copy-copy-copy-2-copy-copy-copy-copy-copy-copy-copy-copy-copy-copy-copy-copy-copy-copy-copy-copy-copy-copy-copy-copy-12/
CATEGORIES:Bible Study,Prayer
END:VEVENT
BEGIN:VEVENT
DTSTART;TZID=America/New_York:20260329T091500
DTEND;TZID=America/New_York:20260329T101500
DTSTAMP:20260424T192125
CREATED:20260210T174228Z
LAST-MODIFIED:20260210T174237Z
UID:9146-1774775700-1774779300@fbcw.com
SUMMARY:Adult/Youth Community Groups
DESCRIPTION:
URL:https://fbcw.com/event/adultyouth-community-groups-2/
LOCATION:First Baptist Church of Weddington\, 348 Providence Road South\, Weddington\, NC\, 28173\, United States
CATEGORIES:Bible Study
END:VEVENT
BEGIN:VEVENT
DTSTART;TZID=America/New_York:20260329T091500
DTEND;TZID=America/New_York:20260329T101500
DTSTAMP:20260424T192125
CREATED:20260310T180232Z
LAST-MODIFIED:20260310T180244Z
UID:9246-1774775700-1774779300@fbcw.com
SUMMARY:Kids Sunday Bible Breakfast
DESCRIPTION:Kids in 5th grade and below – Join us on the last Sunday of each month at 9:15am in Room 218 for our monthly Bible study just for kids! Bring your Bible\, a big appetite\, and get ready to dig deeper into God’s Word. Contact Hannah Chronis with any questions.
URL:https://fbcw.com/event/kids-sunday-bible-breakfast/
LOCATION:First Baptist Church of Weddington\, 348 Providence Road South\, Weddington\, NC\, 28173\, United States
CATEGORIES:Bible Study,Children,Food
END:VEVENT
END:VCALENDAR