BEGIN:VCALENDAR
VERSION:2.0
PRODID:-//First Baptist Church of Weddington - ECPv6.15.20//NONSGML v1.0//EN
CALSCALE:GREGORIAN
METHOD:PUBLISH
X-ORIGINAL-URL:https://fbcw.com
X-WR-CALDESC:Events for First Baptist Church of Weddington
REFRESH-INTERVAL;VALUE=DURATION:PT1H
X-Robots-Tag:noindex
X-PUBLISHED-TTL:PT1H
BEGIN:VTIMEZONE
TZID:America/New_York
BEGIN:DAYLIGHT
TZOFFSETFROM:-0500
TZOFFSETTO:-0400
TZNAME:EDT
DTSTART:20240310T070000
END:DAYLIGHT
BEGIN:STANDARD
TZOFFSETFROM:-0400
TZOFFSETTO:-0500
TZNAME:EST
DTSTART:20241103T060000
END:STANDARD
BEGIN:DAYLIGHT
TZOFFSETFROM:-0500
TZOFFSETTO:-0400
TZNAME:EDT
DTSTART:20250309T070000
END:DAYLIGHT
BEGIN:STANDARD
TZOFFSETFROM:-0400
TZOFFSETTO:-0500
TZNAME:EST
DTSTART:20251102T060000
END:STANDARD
BEGIN:DAYLIGHT
TZOFFSETFROM:-0500
TZOFFSETTO:-0400
TZNAME:EDT
DTSTART:20260308T070000
END:DAYLIGHT
BEGIN:STANDARD
TZOFFSETFROM:-0400
TZOFFSETTO:-0500
TZNAME:EST
DTSTART:20261101T060000
END:STANDARD
END:VTIMEZONE
BEGIN:VEVENT
DTSTART;TZID=America/New_York:20251001T183000
DTEND;TZID=America/New_York:20251001T200000
DTSTAMP:20260425T122914
CREATED:20251015T182833Z
LAST-MODIFIED:20251015T182849Z
UID:8842-1759343400-1759348800@fbcw.com
SUMMARY:Wednesday Evening Community Groups
DESCRIPTION:Women’s Community Group – 1st & 3rd Wednesdays (6:30pm)\nMen’s Community Group – 2nd & 4th Wednesdays (7pm)\nWe have started two community groups – one for men and one for women. The groups will be reading and discussing JI Packer’s “Knowing God” and praying together. 
URL:https://fbcw.com/event/wednesday-evening-community-groups-copy-copy-copy-copy-copy-copy-copy-copy-copy-copy-copy-copy-2-copy-copy-copy-copy-copy-copy-copy-copy-copy-copy-copy-copy-copy-copy-copy-copy-copy-copy-copy-copy/
CATEGORIES:Bible Study,Prayer
END:VEVENT
BEGIN:VEVENT
DTSTART;TZID=America/New_York:20251005T091500
DTEND;TZID=America/New_York:20251005T101500
DTSTAMP:20260425T122914
CREATED:20251015T175254Z
LAST-MODIFIED:20251015T180200Z
UID:8826-1759655700-1759659300@fbcw.com
SUMMARY:Adult/Youth Community Groups
DESCRIPTION:
URL:https://fbcw.com/event/online-bible-fellowship-classes-adult-3-adult-6-copy-copy-2-copy-copy-copy-copy-copy-copy-copy-copy-copy-copy-copy-2-copy-2-copy-copy-copy-copy-copy-copy-copy-copy-copy-copy-copy-copy-copy-copy-co-73/
LOCATION:First Baptist Church of Weddington\, 348 Providence Road South\, Weddington\, NC\, 28173\, United States
CATEGORIES:Bible Study
END:VEVENT
BEGIN:VEVENT
DTSTART;TZID=America/New_York:20251008T183000
DTEND;TZID=America/New_York:20251008T200000
DTSTAMP:20260425T122914
CREATED:20251015T182853Z
LAST-MODIFIED:20251015T182907Z
UID:8844-1759948200-1759953600@fbcw.com
SUMMARY:Wednesday Evening Community Groups
DESCRIPTION:Women’s Community Group – 1st & 3rd Wednesdays (6:30pm)\nMen’s Community Group – 2nd & 4th Wednesdays (7pm)\nWe have started two community groups – one for men and one for women. The groups will be reading and discussing JI Packer’s “Knowing God” and praying together. 
URL:https://fbcw.com/event/wednesday-evening-community-groups-copy-copy-copy-copy-copy-copy-copy-copy-copy-copy-copy-copy-2-copy-copy-copy-copy-copy-copy-copy-copy-copy-copy-copy-copy-copy-copy-copy-copy-copy-copy-copy-copy-cop/
CATEGORIES:Bible Study,Prayer
END:VEVENT
BEGIN:VEVENT
DTSTART;TZID=America/New_York:20251012T091500
DTEND;TZID=America/New_York:20251012T101500
DTSTAMP:20260425T122914
CREATED:20251015T181107Z
LAST-MODIFIED:20251015T181335Z
UID:8828-1760260500-1760264100@fbcw.com
SUMMARY:Adult/Youth Community Groups
DESCRIPTION:
URL:https://fbcw.com/event/online-bible-fellowship-classes-adult-3-adult-6-copy-copy-2-copy-copy-copy-copy-copy-copy-copy-copy-copy-copy-copy-2-copy-2-copy-copy-copy-copy-copy-copy-copy-copy-copy-copy-copy-copy-copy-copy-co-74/
LOCATION:First Baptist Church of Weddington\, 348 Providence Road South\, Weddington\, NC\, 28173\, United States
CATEGORIES:Bible Study
END:VEVENT
BEGIN:VEVENT
DTSTART;TZID=America/New_York:20251015T183000
DTEND;TZID=America/New_York:20251015T200000
DTSTAMP:20260425T122914
CREATED:20251015T182911Z
LAST-MODIFIED:20251015T182924Z
UID:8846-1760553000-1760558400@fbcw.com
SUMMARY:Wednesday Evening Community Groups
DESCRIPTION:Women’s Community Group – 1st & 3rd Wednesdays (6:30pm)\nMen’s Community Group – 2nd & 4th Wednesdays (7pm)\nWe have started two community groups – one for men and one for women. The groups will be reading and discussing JI Packer’s “Knowing God” and praying together. 
URL:https://fbcw.com/event/wednesday-evening-community-groups-copy-copy-copy-copy-copy-copy-copy-copy-copy-copy-copy-copy-2-copy-copy-copy-copy-copy-copy-copy-copy-copy-copy-copy-copy-copy-copy-copy-copy-copy-copy-copy-copy-c-2/
CATEGORIES:Bible Study,Prayer
END:VEVENT
BEGIN:VEVENT
DTSTART;TZID=America/New_York:20251019T091500
DTEND;TZID=America/New_York:20251019T101500
DTSTAMP:20260425T122914
CREATED:20251015T181343Z
LAST-MODIFIED:20251015T181409Z
UID:8830-1760865300-1760868900@fbcw.com
SUMMARY:Adult/Youth Community Groups
DESCRIPTION:
URL:https://fbcw.com/event/online-bible-fellowship-classes-adult-3-adult-6-copy-copy-2-copy-copy-copy-copy-copy-copy-copy-copy-copy-copy-copy-2-copy-2-copy-copy-copy-copy-copy-copy-copy-copy-copy-copy-copy-copy-copy-copy-co-76/
LOCATION:First Baptist Church of Weddington\, 348 Providence Road South\, Weddington\, NC\, 28173\, United States
CATEGORIES:Bible Study
END:VEVENT
BEGIN:VEVENT
DTSTART;TZID=America/New_York:20251022T183000
DTEND;TZID=America/New_York:20251022T200000
DTSTAMP:20260425T122914
CREATED:20251015T182927Z
LAST-MODIFIED:20251015T182941Z
UID:8848-1761157800-1761163200@fbcw.com
SUMMARY:Wednesday Evening Community Groups
DESCRIPTION:Women’s Community Group – 1st & 3rd Wednesdays (6:30pm)\nMen’s Community Group – 2nd & 4th Wednesdays (7pm)\nWe have started two community groups – one for men and one for women. The groups will be reading and discussing JI Packer’s “Knowing God” and praying together. 
URL:https://fbcw.com/event/wednesday-evening-community-groups-copy-copy-copy-copy-copy-copy-copy-copy-copy-copy-copy-copy-2-copy-copy-copy-copy-copy-copy-copy-copy-copy-copy-copy-copy-copy-copy-copy-copy-copy-copy-copy-copy-c-3/
CATEGORIES:Bible Study,Prayer
END:VEVENT
BEGIN:VEVENT
DTSTART;TZID=America/New_York:20251026T091500
DTEND;TZID=America/New_York:20251026T101500
DTSTAMP:20260425T122914
CREATED:20251015T181402Z
LAST-MODIFIED:20251015T181421Z
UID:8832-1761470100-1761473700@fbcw.com
SUMMARY:Adult/Youth Community Groups
DESCRIPTION:
URL:https://fbcw.com/event/online-bible-fellowship-classes-adult-3-adult-6-copy-copy-2-copy-copy-copy-copy-copy-copy-copy-copy-copy-copy-copy-2-copy-2-copy-copy-copy-copy-copy-copy-copy-copy-copy-copy-copy-copy-copy-copy-co-75/
LOCATION:First Baptist Church of Weddington\, 348 Providence Road South\, Weddington\, NC\, 28173\, United States
CATEGORIES:Bible Study
END:VEVENT
END:VCALENDAR